BEGIN:VCALENDAR
VERSION:2.0
PRODID:-//Ville de Montréal-Est - ECPv6.15.20//NONSGML v1.0//EN
CALSCALE:GREGORIAN
METHOD:PUBLISH
X-ORIGINAL-URL:https://ville.montreal-est.qc.ca
X-WR-CALDESC:Évènements pour Ville de Montréal-Est
REFRESH-INTERVAL;VALUE=DURATION:PT1H
X-Robots-Tag:noindex
X-PUBLISHED-TTL:PT1H
BEGIN:VTIMEZONE
TZID:America/Toronto
BEGIN:DAYLIGHT
TZOFFSETFROM:-0500
TZOFFSETTO:-0400
TZNAME:EDT
DTSTART:20210314T070000
END:DAYLIGHT
BEGIN:STANDARD
TZOFFSETFROM:-0400
TZOFFSETTO:-0500
TZNAME:EST
DTSTART:20211107T060000
END:STANDARD
BEGIN:DAYLIGHT
TZOFFSETFROM:-0500
TZOFFSETTO:-0400
TZNAME:EDT
DTSTART:20220313T070000
END:DAYLIGHT
BEGIN:STANDARD
TZOFFSETFROM:-0400
TZOFFSETTO:-0500
TZNAME:EST
DTSTART:20221106T060000
END:STANDARD
BEGIN:DAYLIGHT
TZOFFSETFROM:-0500
TZOFFSETTO:-0400
TZNAME:EDT
DTSTART:20230312T070000
END:DAYLIGHT
BEGIN:STANDARD
TZOFFSETFROM:-0400
TZOFFSETTO:-0500
TZNAME:EST
DTSTART:20231105T060000
END:STANDARD
END:VTIMEZONE
BEGIN:VEVENT
DTSTART;TZID=America/Toronto:20220706T143000
DTEND;TZID=America/Toronto:20220706T153000
DTSTAMP:20260420T172806
CREATED:20220609T131933Z
LAST-MODIFIED:20260403T180934Z
UID:7426-1657117800-1657121400@ville.montreal-est.qc.ca
SUMMARY:Zumba kids pour enfants
DESCRIPTION:Les séances Zumba kids comportent des mouvements adaptés aux enfants\, qui voyageront sur des rythmes latins entraînants.\nNous simplifions les pas et ajoutons des jeux pour s’amuser avec des mouvements faciles à suivre. \nIndispensable à apporter : tenue sportive et bouteille d’eau. \nCours gratuit offert aux résidents de Montréal-Est dans le cadre des rendez-vous sportifs de l’été.
URL:https://ville.montreal-est.qc.ca/evenement/zumba-kids-pour-enfants/2022-07-06/
LOCATION:Parc de l’Hôtel-de-Ville\, 11370 Rue Notre-Dame Est\, Montréal-Est\, Québec\, H1B 2W6\, Canada
ATTACH;FMTTYPE=image/png:https://ville.montreal-est.qc.ca/wp-content/uploads/2022/06/Programmation-sportive.png
END:VEVENT
END:VCALENDAR