BEGIN:VCALENDAR
VERSION:2.0
PRODID:-//Ville de Montréal-Est - ECPv6.15.20//NONSGML v1.0//EN
CALSCALE:GREGORIAN
METHOD:PUBLISH
X-WR-CALNAME:Ville de Montréal-Est
X-ORIGINAL-URL:https://ville.montreal-est.qc.ca
X-WR-CALDESC:Évènements pour Ville de Montréal-Est
REFRESH-INTERVAL;VALUE=DURATION:PT1H
X-Robots-Tag:noindex
X-PUBLISHED-TTL:PT1H
BEGIN:VTIMEZONE
TZID:America/Toronto
BEGIN:DAYLIGHT
TZOFFSETFROM:-0500
TZOFFSETTO:-0400
TZNAME:EDT
DTSTART:20220313T070000
END:DAYLIGHT
BEGIN:STANDARD
TZOFFSETFROM:-0400
TZOFFSETTO:-0500
TZNAME:EST
DTSTART:20221106T060000
END:STANDARD
BEGIN:DAYLIGHT
TZOFFSETFROM:-0500
TZOFFSETTO:-0400
TZNAME:EDT
DTSTART:20230312T070000
END:DAYLIGHT
BEGIN:STANDARD
TZOFFSETFROM:-0400
TZOFFSETTO:-0500
TZNAME:EST
DTSTART:20231105T060000
END:STANDARD
BEGIN:DAYLIGHT
TZOFFSETFROM:-0500
TZOFFSETTO:-0400
TZNAME:EDT
DTSTART:20240310T070000
END:DAYLIGHT
BEGIN:STANDARD
TZOFFSETFROM:-0400
TZOFFSETTO:-0500
TZNAME:EST
DTSTART:20241103T060000
END:STANDARD
END:VTIMEZONE
BEGIN:VEVENT
DTSTART;TZID=America/Toronto:20230116T080000
DTEND;TZID=America/Toronto:20230402T210000
DTSTAMP:20260422T175106
CREATED:20221128T193038Z
LAST-MODIFIED:20260403T180938Z
UID:9753-1673856000-1680469200@ville.montreal-est.qc.ca
SUMMARY:Session d'hiver au CRÉR
DESCRIPTION:70 activités pour tous les goûts : c’est l’éventail de choix que vous offre le centre récréatif Édouard-Rivet pour rester en forme\, cet hiver. \nEn plus des classiques pour petits et grands (sports\, activités aquatiques)\, des nouveautés vous attendent pour mieux braver le froid : cardio-vélo\, drumfit\, kickboxing\, improvisation\, jui-jitsu\, tabata\, yoga restauratif\, volleyball et bien plus! \nTous les détails ici : https://crer.me \nPour en savoir plus\, composez le 514 905-2105.
URL:https://ville.montreal-est.qc.ca/evenement/session-dhiver-au-crer/
CATEGORIES:Loisirs et culture
ATTACH;FMTTYPE=image/jpeg:https://ville.montreal-est.qc.ca/wp-content/uploads/2022/12/Sport-illustration.jpg
END:VEVENT
BEGIN:VEVENT
DTSTART;TZID=America/Toronto:20230315T190000
DTEND;TZID=America/Toronto:20230315T210000
DTSTAMP:20260422T175106
CREATED:20230109T151034Z
LAST-MODIFIED:20260403T190614Z
UID:10281-1678906800-1678914000@ville.montreal-est.qc.ca
SUMMARY:Séance du conseil | Mars
DESCRIPTION:Le conseil municipal de la Ville de Montréal-Est tiendra une séance ordinaire le mercredi 15 mars 2023 à 19 h. \nDiffusion en direct\nLien vers la séance en direct \n  \nDocuments pour la séance\nOrdre du jour\nPremier projet de règlement PR23-10\nSecond projet de règlement PR23-04\nProjet de règlement PR-2305\nProjet de règlement PR-2306\nProjet de règlement PR23-07\nProjet de règlement PR23-08\nProjet de règlement PR23-09\nRèglement 100-2023 \n  \nPour communiquer une question à l’avance\n\nÉcrivez à servicescitoyens@montreal-est.ca\nOu laissez un message au 514 905-2000\, option 1.\n\nVous devez fournir votre nom\, vos coordonnées et mentionner si votre question s’adresse au conseil ou à un élu en particulier. \nVous avez jusqu’au 15 mars\, à 16 h\, pour faire parvenir vos questions\, qui seront lues et répondues durant la séance. \n  \n 
URL:https://ville.montreal-est.qc.ca/evenement/seance-du-conseil-mars-2/
CATEGORIES:Vie démocratique
END:VEVENT
END:VCALENDAR