BEGIN:VCALENDAR
VERSION:2.0
PRODID:-//Ville de Montréal-Est - ECPv6.15.20//NONSGML v1.0//EN
CALSCALE:GREGORIAN
METHOD:PUBLISH
X-ORIGINAL-URL:https://ville.montreal-est.qc.ca
X-WR-CALDESC:Évènements pour Ville de Montréal-Est
REFRESH-INTERVAL;VALUE=DURATION:PT1H
X-Robots-Tag:noindex
X-PUBLISHED-TTL:PT1H
BEGIN:VTIMEZONE
TZID:America/Toronto
BEGIN:DAYLIGHT
TZOFFSETFROM:-0500
TZOFFSETTO:-0400
TZNAME:EDT
DTSTART:20220313T070000
END:DAYLIGHT
BEGIN:STANDARD
TZOFFSETFROM:-0400
TZOFFSETTO:-0500
TZNAME:EST
DTSTART:20221106T060000
END:STANDARD
BEGIN:DAYLIGHT
TZOFFSETFROM:-0500
TZOFFSETTO:-0400
TZNAME:EDT
DTSTART:20230312T070000
END:DAYLIGHT
BEGIN:STANDARD
TZOFFSETFROM:-0400
TZOFFSETTO:-0500
TZNAME:EST
DTSTART:20231105T060000
END:STANDARD
BEGIN:DAYLIGHT
TZOFFSETFROM:-0500
TZOFFSETTO:-0400
TZNAME:EDT
DTSTART:20240310T070000
END:DAYLIGHT
BEGIN:STANDARD
TZOFFSETFROM:-0400
TZOFFSETTO:-0500
TZNAME:EST
DTSTART:20241103T060000
END:STANDARD
END:VTIMEZONE
BEGIN:VEVENT
DTSTART;TZID=America/Toronto:20230923T133000
DTEND;TZID=America/Toronto:20230923T153000
DTSTAMP:20260421T053801
CREATED:20230920T141859Z
LAST-MODIFIED:20260403T190945Z
UID:13883-1695475800-1695483000@ville.montreal-est.qc.ca
SUMMARY:E = électricité et éoliennes
DESCRIPTION:Venez découvrir comment on produit de l’énergie grâce au vent. \nÉgalement au menu : fabrication d’une éolienne aérodynamique\, à partir de matériaux simples\, avant de tester un vélo qui produit de l’électricité. \nInscription requise au 514 905-2145 pour profiter ce cette activité gratuite offerte aux 6 ans et plus\, dans le cadre de la Semaine de la culture scientifique.
URL:https://ville.montreal-est.qc.ca/evenement/e-electricite-et-eoliennes/
LOCATION:Bibliothèque Micheline-Gagnon\, 11370\, Notre-Dame (3e étage) Montréal-Est (Québec) H1B\, Montréal-Est\, H1B 2W6\, Canada
CATEGORIES:Bibliothèque Micheline-Gagnon,Loisirs et culture
ATTACH;FMTTYPE=image/png:https://ville.montreal-est.qc.ca/wp-content/uploads/2023/09/eolienne-web.png
END:VEVENT
END:VCALENDAR