BEGIN:VCALENDAR
VERSION:2.0
PRODID:-//Ville de Montréal-Est - ECPv6.15.20//NONSGML v1.0//EN
CALSCALE:GREGORIAN
METHOD:PUBLISH
X-ORIGINAL-URL:https://ville.montreal-est.qc.ca
X-WR-CALDESC:Évènements pour Ville de Montréal-Est
REFRESH-INTERVAL;VALUE=DURATION:PT1H
X-Robots-Tag:noindex
X-PUBLISHED-TTL:PT1H
BEGIN:VTIMEZONE
TZID:America/Toronto
BEGIN:DAYLIGHT
TZOFFSETFROM:-0500
TZOFFSETTO:-0400
TZNAME:EDT
DTSTART:20220313T070000
END:DAYLIGHT
BEGIN:STANDARD
TZOFFSETFROM:-0400
TZOFFSETTO:-0500
TZNAME:EST
DTSTART:20221106T060000
END:STANDARD
BEGIN:DAYLIGHT
TZOFFSETFROM:-0500
TZOFFSETTO:-0400
TZNAME:EDT
DTSTART:20230312T070000
END:DAYLIGHT
BEGIN:STANDARD
TZOFFSETFROM:-0400
TZOFFSETTO:-0500
TZNAME:EST
DTSTART:20231105T060000
END:STANDARD
BEGIN:DAYLIGHT
TZOFFSETFROM:-0500
TZOFFSETTO:-0400
TZNAME:EDT
DTSTART:20240310T070000
END:DAYLIGHT
BEGIN:STANDARD
TZOFFSETFROM:-0400
TZOFFSETTO:-0500
TZNAME:EST
DTSTART:20241103T060000
END:STANDARD
END:VTIMEZONE
BEGIN:VEVENT
DTSTART;TZID=America/Toronto:20230930T100000
DTEND;TZID=America/Toronto:20230930T120000
DTSTAMP:20260421T040830
CREATED:20230929T170439Z
LAST-MODIFIED:20260403T190945Z
UID:14010-1696068000-1696075200@ville.montreal-est.qc.ca
SUMMARY:Création d'une BD collective
DESCRIPTION:Dans cet atelier d’initiation\, on apprendra les techniques des pros de la BD et on dessinera une histoire collective\, avec l’aide de l’artiste Danièle DeBlois. \nÀ vos crayons! \n10 h à 12 h – 5 ans et moins accompagnés d’un parent\n13 h 30 à 15 h 30 – jeunes de 6 ans et + \nInscription requise au 514 905-2145 (bibliothèque Micheline-Gagnon)
URL:https://ville.montreal-est.qc.ca/evenement/creation-dune-bd-collective/
LOCATION:Bibliothèque Micheline-Gagnon\, 11370\, Notre-Dame (3e étage) Montréal-Est (Québec) H1B\, Montréal-Est\, H1B 2W6\, Canada
CATEGORIES:Bibliothèque Micheline-Gagnon,Loisirs et culture
ATTACH;FMTTYPE=image/jpeg:https://ville.montreal-est.qc.ca/wp-content/uploads/2022/09/journees-de-la-culture-web.jpg
END:VEVENT
BEGIN:VEVENT
DTSTART;TZID=America/Toronto:20230930T133000
DTEND;TZID=America/Toronto:20230930T153000
DTSTAMP:20260421T040830
CREATED:20230929T170529Z
LAST-MODIFIED:20260403T190945Z
UID:14012-1696080600-1696087800@ville.montreal-est.qc.ca
SUMMARY:Création d'une BD collective
DESCRIPTION:Dans cet atelier d’initiation\, on apprendra les techniques des pros de la BD et on dessinera une histoire collective\, avec l’aide de l’artiste Danièle DeBlois. \nÀ vos crayons! \n10 h à 12 h – 5 ans et moins accompagnés d’un parent\n13 h 30 à 15 h 30 – jeunes de 6 ans et + \nInscription requise au 514 905-2145 (bibliothèque Micheline-Gagnon)
URL:https://ville.montreal-est.qc.ca/evenement/creation-dune-bd-collective-2/
LOCATION:Bibliothèque Micheline-Gagnon\, 11370\, Notre-Dame (3e étage) Montréal-Est (Québec) H1B\, Montréal-Est\, H1B 2W6\, Canada
CATEGORIES:Bibliothèque Micheline-Gagnon,Loisirs et culture
ATTACH;FMTTYPE=image/jpeg:https://ville.montreal-est.qc.ca/wp-content/uploads/2022/09/journees-de-la-culture-web.jpg
END:VEVENT
END:VCALENDAR