BEGIN:VCALENDAR
VERSION:2.0
PRODID:-//Ville de Montréal-Est - ECPv6.15.20//NONSGML v1.0//EN
CALSCALE:GREGORIAN
METHOD:PUBLISH
X-WR-CALNAME:Ville de Montréal-Est
X-ORIGINAL-URL:https://ville.montreal-est.qc.ca
X-WR-CALDESC:Évènements pour Ville de Montréal-Est
REFRESH-INTERVAL;VALUE=DURATION:PT1H
X-Robots-Tag:noindex
X-PUBLISHED-TTL:PT1H
BEGIN:VTIMEZONE
TZID:America/Toronto
BEGIN:DAYLIGHT
TZOFFSETFROM:-0500
TZOFFSETTO:-0400
TZNAME:EDT
DTSTART:20220313T070000
END:DAYLIGHT
BEGIN:STANDARD
TZOFFSETFROM:-0400
TZOFFSETTO:-0500
TZNAME:EST
DTSTART:20221106T060000
END:STANDARD
BEGIN:DAYLIGHT
TZOFFSETFROM:-0500
TZOFFSETTO:-0400
TZNAME:EDT
DTSTART:20230312T070000
END:DAYLIGHT
BEGIN:STANDARD
TZOFFSETFROM:-0400
TZOFFSETTO:-0500
TZNAME:EST
DTSTART:20231105T060000
END:STANDARD
BEGIN:DAYLIGHT
TZOFFSETFROM:-0500
TZOFFSETTO:-0400
TZNAME:EDT
DTSTART:20240310T070000
END:DAYLIGHT
BEGIN:STANDARD
TZOFFSETFROM:-0400
TZOFFSETTO:-0500
TZNAME:EST
DTSTART:20241103T060000
END:STANDARD
END:VTIMEZONE
BEGIN:VEVENT
DTSTART;TZID=America/Toronto:20231014T094500
DTEND;TZID=America/Toronto:20231014T113000
DTSTAMP:20260421T040821
CREATED:20231011T203142Z
LAST-MODIFIED:20260403T200939Z
UID:14249-1697276700-1697283000@ville.montreal-est.qc.ca
SUMMARY:La Grande Marche de Montréal-Est
DESCRIPTION:Rendez-vous le 14 octobre\, au parc de l’Hôtel-de-Ville\, pour participer à La Grande Marche de Montréal-Est. \nC’est gratuit\, bon pour votre santé et vous choisissez la distance : 1 km ou plus! \n\n\n\nPour vous inscrire à cet événement du Grand défi Pierre Lavoie\, ouvert à tous : bit.ly/grandemarche14octVME \n\n\n\n Chapiteau du parc de l’Hôtel-de-Ville à 9 h 45\n     11370 rue Notre-Dame Est
URL:https://ville.montreal-est.qc.ca/evenement/la-grande-marche-de-montreal-est/
LOCATION:Parc de l’Hôtel-de-Ville\, 11370 Rue Notre-Dame Est\, Montréal-Est\, Québec\, H1B 2W6\, Canada
CATEGORIES:Loisirs et culture
ATTACH;FMTTYPE=image/jpeg:https://ville.montreal-est.qc.ca/wp-content/uploads/2023/10/La-Grande-Marche-web.jpg
END:VEVENT
BEGIN:VEVENT
DTSTART;TZID=America/Toronto:20231014T100000
DTEND;TZID=America/Toronto:20231014T110000
DTSTAMP:20260421T040821
CREATED:20230920T134102Z
LAST-MODIFIED:20260403T190945Z
UID:13877-1697277600-1697281200@ville.montreal-est.qc.ca
SUMMARY:Vive la famille!
DESCRIPTION:Cet atelier 1\,2\,3 saute-mouton comblera les petits 0 à 5 ans et leurs parents. \nL’événement gratuit est offert dans le cadre des samedis découvertes avec un objectif : stimuler l’intérêt des tout-petits pour les comptines\, la musique\, la danse\, la lecture et le bricolage. Les thèmes de cette année : \n\n16 septembre : le corps articulé.\n14 octobre : vive la famille.\n11 novembre : jouons avec les textures.\n\nInscription obligatoire au 514 905-2145.
URL:https://ville.montreal-est.qc.ca/evenement/vive-la-famille/
LOCATION:Bibliothèque Micheline-Gagnon\, 11370\, Notre-Dame (3e étage) Montréal-Est (Québec) H1B\, Montréal-Est\, H1B 2W6\, Canada
CATEGORIES:Bibliothèque Micheline-Gagnon,Loisirs et culture
ATTACH;FMTTYPE=image/png:https://ville.montreal-est.qc.ca/wp-content/uploads/2023/09/famille-web.png
END:VEVENT
END:VCALENDAR