BEGIN:VCALENDAR
VERSION:2.0
PRODID:-//Ville de Montréal-Est - ECPv6.15.20//NONSGML v1.0//EN
CALSCALE:GREGORIAN
METHOD:PUBLISH
X-ORIGINAL-URL:https://ville.montreal-est.qc.ca
X-WR-CALDESC:Évènements pour Ville de Montréal-Est
REFRESH-INTERVAL;VALUE=DURATION:PT1H
X-Robots-Tag:noindex
X-PUBLISHED-TTL:PT1H
BEGIN:VTIMEZONE
TZID:America/Toronto
BEGIN:DAYLIGHT
TZOFFSETFROM:-0500
TZOFFSETTO:-0400
TZNAME:EDT
DTSTART:20220313T070000
END:DAYLIGHT
BEGIN:STANDARD
TZOFFSETFROM:-0400
TZOFFSETTO:-0500
TZNAME:EST
DTSTART:20221106T060000
END:STANDARD
BEGIN:DAYLIGHT
TZOFFSETFROM:-0500
TZOFFSETTO:-0400
TZNAME:EDT
DTSTART:20230312T070000
END:DAYLIGHT
BEGIN:STANDARD
TZOFFSETFROM:-0400
TZOFFSETTO:-0500
TZNAME:EST
DTSTART:20231105T060000
END:STANDARD
BEGIN:DAYLIGHT
TZOFFSETFROM:-0500
TZOFFSETTO:-0400
TZNAME:EDT
DTSTART:20240310T070000
END:DAYLIGHT
BEGIN:STANDARD
TZOFFSETFROM:-0400
TZOFFSETTO:-0500
TZNAME:EST
DTSTART:20241103T060000
END:STANDARD
END:VTIMEZONE
BEGIN:VEVENT
DTSTART;TZID=America/Toronto:20231207T060000
DTEND;TZID=America/Toronto:20231207T090000
DTSTAMP:20260420T225323
CREATED:20231130T194020Z
LAST-MODIFIED:20260403T200939Z
UID:14785-1701928800-1701939600@ville.montreal-est.qc.ca
SUMMARY:Collecte de rue de la guignolée
DESCRIPTION:Rendez-vous le 7 décembre entre 6 h et 9 h\, à l’intersection de Notre-Dame et Broadway\, pour contribuer à la guignolée 2023 de Montréal-Est–Pointe-aux-Trembles. \nCette année\, l’objectif est de récolter 100 000 $ pour les plus démunis.\nMerci de donner généreusement car la demande d’aide alimentaire ne cesse de croître depuis la pandémie et les hausses de prix. \n–  Pour devenir bénévole à cet événement\, merci de nous joindre à servicescitoyens@montreal-est.ca ou au 514 905-2000\, option 1. \n–  Pour faire un don en ligne\, en tout temps\, rendez-vous à laruchequebec.com. \n–  Pour donner des denrées non périssables\, rendez-vous dans les locaux d’Action Secours Vie d’Espoir\, l’organisme qui collecte ces dons au 35 avenue Marien.
URL:https://ville.montreal-est.qc.ca/evenement/collecte-de-rue-de-la-guignolee-2/
LOCATION:Ville de Montréal-Est\, Montréal-Est\, Québec\, Canada
CATEGORIES:Loisirs et culture
ATTACH;FMTTYPE=image/jpeg:https://ville.montreal-est.qc.ca/wp-content/uploads/2022/11/Guignolee-web.jpg
END:VEVENT
END:VCALENDAR