BEGIN:VCALENDAR
VERSION:2.0
PRODID:-//Ville de Montréal-Est - ECPv6.15.17.1//NONSGML v1.0//EN
CALSCALE:GREGORIAN
METHOD:PUBLISH
X-WR-CALNAME:Ville de Montréal-Est
X-ORIGINAL-URL:https://ville.montreal-est.qc.ca
X-WR-CALDESC:Évènements pour Ville de Montréal-Est
REFRESH-INTERVAL;VALUE=DURATION:PT1H
X-Robots-Tag:noindex
X-PUBLISHED-TTL:PT1H
BEGIN:VTIMEZONE
TZID:America/Toronto
BEGIN:DAYLIGHT
TZOFFSETFROM:-0500
TZOFFSETTO:-0400
TZNAME:EDT
DTSTART:20230312T070000
END:DAYLIGHT
BEGIN:STANDARD
TZOFFSETFROM:-0400
TZOFFSETTO:-0500
TZNAME:EST
DTSTART:20231105T060000
END:STANDARD
BEGIN:DAYLIGHT
TZOFFSETFROM:-0500
TZOFFSETTO:-0400
TZNAME:EDT
DTSTART:20240310T070000
END:DAYLIGHT
BEGIN:STANDARD
TZOFFSETFROM:-0400
TZOFFSETTO:-0500
TZNAME:EST
DTSTART:20241103T060000
END:STANDARD
BEGIN:DAYLIGHT
TZOFFSETFROM:-0500
TZOFFSETTO:-0400
TZNAME:EDT
DTSTART:20250309T070000
END:DAYLIGHT
BEGIN:STANDARD
TZOFFSETFROM:-0400
TZOFFSETTO:-0500
TZNAME:EST
DTSTART:20251102T060000
END:STANDARD
END:VTIMEZONE
BEGIN:VEVENT
DTSTART;TZID=America/Toronto:20240724T160000
DTEND;TZID=America/Toronto:20240724T190000
DTSTAMP:20260420T061422
CREATED:20240603T135758Z
LAST-MODIFIED:20260403T210939Z
UID:17050-1721836800-1721847600@ville.montreal-est.qc.ca
SUMMARY:Initiation gratuite au baseball
DESCRIPTION:Rendez-vous au terrain de balle du Centre récréatif Édouard-Rivet pour initier vos enfants de 5 à 11 ans au baseball\, cet été! \n\n\nSeules conditions : être inscrit et venir accompagné d’un adulte; être en tenue sportive et apporter un gant de baseball si l’enfant en a.\n\n\n\nPour inscrire votre fils ou votre fille\, rendez-vous du 3 au 21 juin 2024 : \n\nEn ligne en cliquant ici\nOu en personne au Centre récréatif Édouard-Rivet (CRÉR)\, situé au 11111 rue Notre-Dame.\n\nLes groupes seront mixtes et les équipements fournis aux jeunes. \nPlaces limitées. La session est prolongée au 14 août. Pour plus de détails\, cliquez ici ou composez le 514 905-2105.
URL:https://ville.montreal-est.qc.ca/evenement/initiation-au-baseball-5-11-ans/2024-07-24/
ATTACH;FMTTYPE=image/jpeg:https://ville.montreal-est.qc.ca/wp-content/uploads/2022/06/Visuel_web_1200x628_baseball.jpg
END:VEVENT
BEGIN:VEVENT
DTSTART;TZID=America/Toronto:20240724T193000
DTEND;TZID=America/Toronto:20240724T203000
DTSTAMP:20260420T061422
CREATED:20240627T185753Z
LAST-MODIFIED:20260403T210938Z
UID:16711-1721849400-1721853000@ville.montreal-est.qc.ca
SUMMARY:Boot camp
DESCRIPTION:Ce circuit cardio-dynamique offre des exercices musculaires fonctionnels avec l’utilisation de matériel (poids\, échelle d’agilité\, blocs\, etc.). Tous les muscles de votre corps\, votre agilité\, votre équilibre ainsi que votre endurance cardiorespiratoire seront mis à l’épreuve. Une activité variée et divertissante! \nActivité gratuite offerte les mercredis à 19 h 30\, au parc de l’Hôtel-de-Ville (aucune inscription requise). \nIndispensables à apporter : tenue sportive\, tapis et bouteille d’eau. \nActivité organisée en collaboration avec le centre récréatif Édouard-Rivet dans le cadre des rendez-vous sportifs de l’été.
URL:https://ville.montreal-est.qc.ca/evenement/les-rendez-vous-sportifs-boot-camp/2024-07-24/
LOCATION:Parc de l’Hôtel-de-Ville\, 11370 Rue Notre-Dame Est\, Montréal-Est\, Québec\, H1B 2W6\, Canada
CATEGORIES:Loisirs et culture
ATTACH;FMTTYPE=image/jpeg:https://ville.montreal-est.qc.ca/wp-content/uploads/2024/06/Boootcamp-web.jpg
END:VEVENT
END:VCALENDAR