BEGIN:VCALENDAR
VERSION:2.0
PRODID:-//Ville de Montréal-Est - ECPv6.15.20//NONSGML v1.0//EN
CALSCALE:GREGORIAN
METHOD:PUBLISH
X-WR-CALNAME:Ville de Montréal-Est
X-ORIGINAL-URL:https://ville.montreal-est.qc.ca
X-WR-CALDESC:Évènements pour Ville de Montréal-Est
REFRESH-INTERVAL;VALUE=DURATION:PT1H
X-Robots-Tag:noindex
X-PUBLISHED-TTL:PT1H
BEGIN:VTIMEZONE
TZID:America/Toronto
BEGIN:DAYLIGHT
TZOFFSETFROM:-0500
TZOFFSETTO:-0400
TZNAME:EDT
DTSTART:20240310T070000
END:DAYLIGHT
BEGIN:STANDARD
TZOFFSETFROM:-0400
TZOFFSETTO:-0500
TZNAME:EST
DTSTART:20241103T060000
END:STANDARD
BEGIN:DAYLIGHT
TZOFFSETFROM:-0500
TZOFFSETTO:-0400
TZNAME:EDT
DTSTART:20250309T070000
END:DAYLIGHT
BEGIN:STANDARD
TZOFFSETFROM:-0400
TZOFFSETTO:-0500
TZNAME:EST
DTSTART:20251102T060000
END:STANDARD
BEGIN:DAYLIGHT
TZOFFSETFROM:-0500
TZOFFSETTO:-0400
TZNAME:EDT
DTSTART:20260308T070000
END:DAYLIGHT
BEGIN:STANDARD
TZOFFSETFROM:-0400
TZOFFSETTO:-0500
TZNAME:EST
DTSTART:20261101T060000
END:STANDARD
END:VTIMEZONE
BEGIN:VEVENT
DTSTART;TZID=America/Toronto:20250427T110000
DTEND;TZID=America/Toronto:20250427T160000
DTSTAMP:20260421T071005
CREATED:20250324T122916Z
LAST-MODIFIED:20260403T220943Z
UID:19732-1745751600-1745769600@ville.montreal-est.qc.ca
SUMMARY:Fête de l'érable 2025
DESCRIPTION:Venez vous sucrer le bec\, en famille et entre amis\, le 27 avril! \nAu menu de ce bel événement qui aura lieu au chapiteau du parc de l’Hôtel-de-Ville : \n\n❄ Tire d’érable sur neige\n\n\n♟️ Jeux géants\n\n\n👧 Trampoline bungee\n\n\n🐖 Petite ferme\n🎶 DJ et animation\n\n\n\n\nEt d’autres surprises pour les participants!\n\nEn raison des conditions météorologiques\, les activités suivantes sont annulées : train électrique\, trampoline bungee et course de poney gonflable.\nÉvénement gratuit ouvert à tous.
URL:https://ville.montreal-est.qc.ca/evenement/fete-erable2025/
LOCATION:Parc de l’Hôtel-de-Ville\, 11370 Rue Notre-Dame Est\, Montréal-Est\, Québec\, H1B 2W6\, Canada
CATEGORIES:Loisirs et culture
ATTACH;FMTTYPE=image/png:https://ville.montreal-est.qc.ca/wp-content/uploads/2025/03/MTL_EST_cabane_sucree_1200x630_2025.png
END:VEVENT
END:VCALENDAR