BEGIN:VCALENDAR
VERSION:2.0
PRODID:-//Ville de Montréal-Est - ECPv6.15.20//NONSGML v1.0//EN
CALSCALE:GREGORIAN
METHOD:PUBLISH
X-WR-CALNAME:Ville de Montréal-Est
X-ORIGINAL-URL:https://ville.montreal-est.qc.ca
X-WR-CALDESC:Évènements pour Ville de Montréal-Est
REFRESH-INTERVAL;VALUE=DURATION:PT1H
X-Robots-Tag:noindex
X-PUBLISHED-TTL:PT1H
BEGIN:VTIMEZONE
TZID:America/Toronto
BEGIN:DAYLIGHT
TZOFFSETFROM:-0500
TZOFFSETTO:-0400
TZNAME:EDT
DTSTART:20220313T070000
END:DAYLIGHT
BEGIN:STANDARD
TZOFFSETFROM:-0400
TZOFFSETTO:-0500
TZNAME:EST
DTSTART:20221106T060000
END:STANDARD
BEGIN:DAYLIGHT
TZOFFSETFROM:-0500
TZOFFSETTO:-0400
TZNAME:EDT
DTSTART:20230312T070000
END:DAYLIGHT
BEGIN:STANDARD
TZOFFSETFROM:-0400
TZOFFSETTO:-0500
TZNAME:EST
DTSTART:20231105T060000
END:STANDARD
BEGIN:DAYLIGHT
TZOFFSETFROM:-0500
TZOFFSETTO:-0400
TZNAME:EDT
DTSTART:20240310T070000
END:DAYLIGHT
BEGIN:STANDARD
TZOFFSETFROM:-0400
TZOFFSETTO:-0500
TZNAME:EST
DTSTART:20241103T060000
END:STANDARD
END:VTIMEZONE
BEGIN:VEVENT
DTSTART;TZID=America/Toronto:20231101T180000
DTEND;TZID=America/Toronto:20231101T210000
DTSTAMP:20260421T223108
CREATED:20231013T141717Z
LAST-MODIFIED:20260403T200939Z
UID:14268-1698861600-1698872400@ville.montreal-est.qc.ca
SUMMARY:Forum citoyens-industries
DESCRIPTION:Venez rencontrer vos voisins industriels\, le 1er novembre. \nLe thème de cette année : les pipelines et infrastructures souterraines de transport de produits. \n18 h : Accueil (hall d’entrée du CRÉR) \n19 h : Présentation (salle 1 du CRÉR) \n19 h 45 : Période de questions (salle 1) \n20 h à 21 h : Accès libre aux kiosques d’information des entreprises (hall d’entrée). \nLes entreprises suivantes seront présentes :\n– Enbridge Pipelines inc.\n– Pipe-lines Montréal ltée\n– Énergie Valéro\n– TC Énergie\n– Trans-Northern Pipelines\n– Portland Montreal Pipe Line. \nCet événement gratuit\, organisé pour les Montréalestois\, se déroulera au centre récréatif Édouard-Rivet.
URL:https://ville.montreal-est.qc.ca/evenement/forum-citoyens-industries/
CATEGORIES:Vie démocratique
ATTACH;FMTTYPE=image/png:https://ville.montreal-est.qc.ca/wp-content/uploads/2022/10/forum2-1.png
END:VEVENT
BEGIN:VEVENT
DTSTART;TZID=America/Toronto:20231115T190000
DTEND;TZID=America/Toronto:20231115T210000
DTSTAMP:20260421T223108
CREATED:20230109T152828Z
LAST-MODIFIED:20260403T190613Z
UID:10302-1700074800-1700082000@ville.montreal-est.qc.ca
SUMMARY:Séance du conseil
DESCRIPTION:Le conseil municipal de la Ville de Montréal-Est tiendra une séance ordinaire le mercredi 15 novembre 2023 à 19 h. \nDiffusion en direct\nLien vers la séance en direct \n  \nDocuments pour la séance\nOrdre du jour\nProjet de règlement PR23-40\nProjet de règlement PR23-41\nProjet de règlement PR23-42\nProjet de règlement PR23-43\nSecond projet de règlement PR23-39\nRèglement 109-2023 \n  \nPour communiquer une question à l’avance\n\nÉcrivez à servicescitoyens@montreal-est.ca\nOu laissez un message au 514 905-2000\, option 1.\n\nVous devez fournir votre nom\, vos coordonnées et mentionner si votre question s’adresse au conseil ou à un élu en particulier. \nVous avez jusqu’au 15 novembre\, à 16 h\, pour faire parvenir vos questions\, qui seront lues et répondues durant la séance. \n  \n 
URL:https://ville.montreal-est.qc.ca/evenement/seance-du-conseil-novembre-3/
CATEGORIES:Vie démocratique
END:VEVENT
BEGIN:VEVENT
DTSTART;TZID=America/Toronto:20231130T173000
DTEND;TZID=America/Toronto:20231130T183000
DTSTAMP:20260421T223108
CREATED:20231130T151636Z
LAST-MODIFIED:20260403T200939Z
UID:14770-1701365400-1701369000@ville.montreal-est.qc.ca
SUMMARY:Séance extraordinaire du conseil
DESCRIPTION:Le conseil municipal de la Ville de Montréal-Est tiendra une séance extraordinaire le jeudi 30 novembre 2023 à 17 h 30. \nDocuments pour la séance\nOrdre du jour\nProjet de règlement PR23-44 \n  \nPour communiquer une question à l’avance\n\nÉcrivez à servicescitoyens@montreal-est.ca\nOu laissez un message au 514 905-2000\, option 1.\n\nVous devez fournir votre nom\, vos coordonnées et mentionner si votre question s’adresse au conseil ou à un élu en particulier. \nVous avez jusqu’au 30 novembre 2023\, à 14 h 30\, pour faire parvenir vos questions\, qui seront lues et répondues durant la séance. \n  \n 
URL:https://ville.montreal-est.qc.ca/evenement/seance-extraordinaire/
CATEGORIES:Vie démocratique
END:VEVENT
END:VCALENDAR