BEGIN:VCALENDAR
VERSION:2.0
PRODID:-//Ville de Montréal-Est - ECPv6.15.17.1//NONSGML v1.0//EN
CALSCALE:GREGORIAN
METHOD:PUBLISH
X-ORIGINAL-URL:https://ville.montreal-est.qc.ca
X-WR-CALDESC:Évènements pour Ville de Montréal-Est
REFRESH-INTERVAL;VALUE=DURATION:PT1H
X-Robots-Tag:noindex
X-PUBLISHED-TTL:PT1H
BEGIN:VTIMEZONE
TZID:America/Toronto
BEGIN:DAYLIGHT
TZOFFSETFROM:-0500
TZOFFSETTO:-0400
TZNAME:EDT
DTSTART:20240310T070000
END:DAYLIGHT
BEGIN:STANDARD
TZOFFSETFROM:-0400
TZOFFSETTO:-0500
TZNAME:EST
DTSTART:20241103T060000
END:STANDARD
BEGIN:DAYLIGHT
TZOFFSETFROM:-0500
TZOFFSETTO:-0400
TZNAME:EDT
DTSTART:20250309T070000
END:DAYLIGHT
BEGIN:STANDARD
TZOFFSETFROM:-0400
TZOFFSETTO:-0500
TZNAME:EST
DTSTART:20251102T060000
END:STANDARD
BEGIN:DAYLIGHT
TZOFFSETFROM:-0500
TZOFFSETTO:-0400
TZNAME:EDT
DTSTART:20260308T070000
END:DAYLIGHT
BEGIN:STANDARD
TZOFFSETFROM:-0400
TZOFFSETTO:-0500
TZNAME:EST
DTSTART:20261101T060000
END:STANDARD
END:VTIMEZONE
BEGIN:VEVENT
DTSTART;TZID=America/Toronto:20251011T133000
DTEND;TZID=America/Toronto:20251011T153000
DTSTAMP:20260419T111802
CREATED:20260416T182435Z
LAST-MODIFIED:20260416T182435Z
UID:21654-1760189400-1760196600@ville.montreal-est.qc.ca
SUMMARY:Ta voix\, ton balado
DESCRIPTION:𝑳𝒆𝒔 𝒔𝒂𝒎𝒆𝒅𝒊𝒔 𝒅𝒆́𝒄𝒐𝒖𝒗𝒆𝒓𝒕𝒆𝒔 \nDeviens animateur le temps d’un épisode : choisis ton thème\, raconte ton histoire et partage ta voix! \n  \nRendez-vous le samedi 11 octobre de 13 h 30 à 15 h 30 ( 7 à 12 ans). \n  \nInscription obligatoire au 514 905-2145. \nPour découvrir toutes les activités de la bibliothèque\, cliquez ici.
URL:https://ville.montreal-est.qc.ca/evenement/atelier-balado/
LOCATION:Bibliothèque Micheline-Gagnon\, 11370\, Notre-Dame (3e étage) Montréal-Est (Québec) H1B\, Montréal-Est\, H1B 2W6\, Canada
CATEGORIES:Bibliothèque Micheline-Gagnon,Loisirs et culture
ATTACH;FMTTYPE=image/png:https://ville.montreal-est.qc.ca/wp-content/uploads/2025/09/balado1920.png
END:VEVENT
BEGIN:VEVENT
DTSTART;TZID=America/Toronto:20251018T133000
DTEND;TZID=America/Toronto:20251018T153000
DTSTAMP:20260419T111802
CREATED:20260416T182437Z
LAST-MODIFIED:20260416T182438Z
UID:21658-1760794200-1760801400@ville.montreal-est.qc.ca
SUMMARY:Écriture en liberté
DESCRIPTION:𝑳𝒆𝒔 𝒔𝒂𝒎𝒆𝒅𝒊𝒔 𝒅𝒆́𝒄𝒐𝒖𝒗𝒆𝒓𝒕𝒆𝒔 \nLaisse ton imagination s’exprimer grâce à l’écriture automatique\, puis découvre la petite histoire née de tes mots spontanés. \n  \nRendez-vous le samedi 18 octobre de 13 h 30 à 15 h 30 ( 7 à 12 ans). \n  \nInscription obligatoire au 514 905-2145. \nPour découvrir toutes les activités de la bibliothèque\, cliquez ici.
URL:https://ville.montreal-est.qc.ca/evenement/atelier-ecriture/
LOCATION:Bibliothèque Micheline-Gagnon\, 11370\, Notre-Dame (3e étage) Montréal-Est (Québec) H1B\, Montréal-Est\, H1B 2W6\, Canada
CATEGORIES:Bibliothèque Micheline-Gagnon,Loisirs et culture
ATTACH;FMTTYPE=image/png:https://ville.montreal-est.qc.ca/wp-content/uploads/2025/09/ecriture1920.png
END:VEVENT
BEGIN:VEVENT
DTSTART;TZID=America/Toronto:20251025T133000
DTEND;TZID=America/Toronto:20251025T153000
DTSTAMP:20260419T111802
CREATED:20260416T182437Z
LAST-MODIFIED:20260416T182437Z
UID:21663-1761399000-1761406200@ville.montreal-est.qc.ca
SUMMARY:Citrouilles en fête
DESCRIPTION:𝑳𝒆𝒔 𝒔𝒂𝒎𝒆𝒅𝒊𝒔 𝒅𝒆́𝒄𝒐𝒖𝒗𝒆𝒓𝒕𝒆𝒔 \nPersonnalise une citrouille avec de la peinture et des décorations pour lui donner une apparence unique et festive! \n  \nRendez-vous le samedi 25 octobre de 13 h 30 à 15 h 30 (famille). \n  \nInscription obligatoire au 514 905-2145. \nPour découvrir toutes les activités de la bibliothèque\, cliquez ici.
URL:https://ville.montreal-est.qc.ca/evenement/atelier-citrouilles/
LOCATION:Bibliothèque Micheline-Gagnon\, 11370\, Notre-Dame (3e étage) Montréal-Est (Québec) H1B\, Montréal-Est\, H1B 2W6\, Canada
CATEGORIES:Bibliothèque Micheline-Gagnon,Loisirs et culture
ATTACH;FMTTYPE=image/png:https://ville.montreal-est.qc.ca/wp-content/uploads/2025/09/citrouilles1920.png
END:VEVENT
END:VCALENDAR