BEGIN:VCALENDAR
VERSION:2.0
PRODID:-//Ville de Montréal-Est - ECPv6.15.20//NONSGML v1.0//EN
CALSCALE:GREGORIAN
METHOD:PUBLISH
X-WR-CALNAME:Ville de Montréal-Est
X-ORIGINAL-URL:https://ville.montreal-est.qc.ca
X-WR-CALDESC:Évènements pour Ville de Montréal-Est
REFRESH-INTERVAL;VALUE=DURATION:PT1H
X-Robots-Tag:noindex
X-PUBLISHED-TTL:PT1H
BEGIN:VTIMEZONE
TZID:America/Toronto
BEGIN:DAYLIGHT
TZOFFSETFROM:-0500
TZOFFSETTO:-0400
TZNAME:EDT
DTSTART:20210314T070000
END:DAYLIGHT
BEGIN:STANDARD
TZOFFSETFROM:-0400
TZOFFSETTO:-0500
TZNAME:EST
DTSTART:20211107T060000
END:STANDARD
BEGIN:DAYLIGHT
TZOFFSETFROM:-0500
TZOFFSETTO:-0400
TZNAME:EDT
DTSTART:20220313T070000
END:DAYLIGHT
BEGIN:STANDARD
TZOFFSETFROM:-0400
TZOFFSETTO:-0500
TZNAME:EST
DTSTART:20221106T060000
END:STANDARD
BEGIN:DAYLIGHT
TZOFFSETFROM:-0500
TZOFFSETTO:-0400
TZNAME:EDT
DTSTART:20230312T070000
END:DAYLIGHT
BEGIN:STANDARD
TZOFFSETFROM:-0400
TZOFFSETTO:-0500
TZNAME:EST
DTSTART:20231105T060000
END:STANDARD
END:VTIMEZONE
BEGIN:VEVENT
DTSTART;TZID=America/Toronto:20220919T080000
DTEND;TZID=America/Toronto:20221212T170000
DTSTAMP:20260422T224955
CREATED:20220913T191508Z
LAST-MODIFIED:20260403T180936Z
UID:8801-1663574400-1670864400@ville.montreal-est.qc.ca
SUMMARY:Session d'automne au CRÉR
DESCRIPTION:70 activités pour tous les goûts : c’est l’éventail de choix que vous offre le centre récréatif Édouard-Rivet pour rester en forme\, cet automne. \nEn plus des classiques pour petits et grands (sports\, activités aquatiques)\, des nouveautés vous attendent à la rentrée : cardio-vélo\, drumfit\, kickboxing\, improvisation\, jui-jitsu\, tabata\, yoga restauratif\, volleyball et bien plus! \nTous les détails ici : https://crer.me/
URL:https://ville.montreal-est.qc.ca/evenement/session-dautomne-au-crer/
CATEGORIES:Loisirs et culture
ATTACH;FMTTYPE=image/jpeg:https://ville.montreal-est.qc.ca/wp-content/uploads/2022/08/CRER-automne22.jpg
END:VEVENT
BEGIN:VEVENT
DTSTART;TZID=America/Toronto:20221201T060000
DTEND;TZID=America/Toronto:20221201T090000
DTSTAMP:20260422T224955
CREATED:20221115T151707Z
LAST-MODIFIED:20260403T180938Z
UID:9561-1669874400-1669885200@ville.montreal-est.qc.ca
SUMMARY:Collecte de rue de la guignolée
DESCRIPTION:Rendez-vous le 1er décembre entre 6 h et 9 h\, à l’intersection des rues Notre-Dame et Broadway\, pour contribuer à la guignolée de Montréal-Est–Pointe-aux-Trembles. \nCette année\, l’objectif est de récolter 100 000 $ pour les plus démunis.\nMerci de donner généreusement car la demande d’aide alimentaire ne cesse de croître depuis la pandémie et les hausses de prix. \n–  Pour devenir bénévole à cet événement\, merci de nous joindre à servicescitoyens@montreal-est.ca ou au 514 905-2000\, option 1 \n–  Pour faire un don en ligne\, rendez-vous à laruchequebec.com \n–  Pour donner argent et denrées non périssables en tout temps\, rendez-vous dans les locaux d’Action Secours Vie d’Espoir\, l’organisme qui reçoit les dons pour notre guignolée.
URL:https://ville.montreal-est.qc.ca/evenement/collecte-de-rue-de-la-guignolee/
LOCATION:Ville de Montréal-Est\, Montréal-Est\, Québec\, Canada
ATTACH;FMTTYPE=image/jpeg:https://ville.montreal-est.qc.ca/wp-content/uploads/2022/11/Guignolee-web.jpg
END:VEVENT
BEGIN:VEVENT
DTSTART;TZID=America/Toronto:20221201T060000
DTEND;TZID=America/Toronto:20221201T090000
DTSTAMP:20260422T224955
CREATED:20231122T134650Z
LAST-MODIFIED:20231122T134650Z
UID:14648-1669874400-1669885200@ville.montreal-est.qc.ca
SUMMARY:Collecte de rue de la guignolée
DESCRIPTION:Rendez-vous le 7 décembre entre 6 h et 9 h 30\, à l’intersection des rues Notre-Dame et Braodway\, pour contribuer à la guignolée de Montréal-Est–Pointe-aux-Trembles. \nCette année\, l’objectif est de récolter 100 000 $ pour les plus démunis.\nMerci de donner généreusement car la demande d’aide alimentaire ne cesse de croître depuis la pandémie et les hausses de prix. \n–  Pour devenir bénévole à cet événement\, merci de nous joindre à servicescitoyens@montreal-est.ca ou au 514 905-2000\, option 1 \n–  Pour faire un don en ligne\, rendez-vous à laruchequebec.com \n–  Pour donner argent et denrées non périssables en tout temps\, rendez-vous dans les locaux d’Action Secours Vie d’Espoir\, l’organisme qui reçoit les dons pour notre guignolée.
URL:https://ville.montreal-est.qc.ca/evenement/
LOCATION:Ville de Montréal-Est\, Montréal-Est\, Québec\, Canada
ATTACH;FMTTYPE=image/jpeg:https://ville.montreal-est.qc.ca/wp-content/uploads/2022/11/Guignolee-web.jpg
END:VEVENT
BEGIN:VEVENT
DTSTART;TZID=America/Toronto:20221202T130000
DTEND;TZID=America/Toronto:20221202T150000
DTSTAMP:20260422T224955
CREATED:20221103T160215Z
LAST-MODIFIED:20260403T180938Z
UID:9443-1669986000-1669993200@ville.montreal-est.qc.ca
SUMMARY:L’art du collage artistique
DESCRIPTION:Venez explorer l’art du collage artistique avec France Gélinas\, une artiste extraordinaire qui partagera gratuitement ses techniques le 2 décembre à 13 h! \nLancez-vous en admirant ses magnifiques tableaux qui vous laisseront bouche bée. \nCette activité gratuite est destinée aux adultes résidant à Montréal-Est. \nRéservation obligatoire auprès de la bibliothèque Micheline-Gagnon (514 905-2145).
URL:https://ville.montreal-est.qc.ca/evenement/lart-du-collage-2/
LOCATION:Bibliothèque Micheline-Gagnon\, 11370\, Notre-Dame (3e étage) Montréal-Est (Québec) H1B\, Montréal-Est\, H1B 2W6\, Canada
CATEGORIES:Bibliothèque Micheline-Gagnon,Loisirs et culture
ATTACH;FMTTYPE=image/jpeg:https://ville.montreal-est.qc.ca/wp-content/uploads/2022/10/Collage-web.jpg
END:VEVENT
BEGIN:VEVENT
DTSTART;TZID=America/Toronto:20221207T173000
DTEND;TZID=America/Toronto:20221207T183000
DTSTAMP:20260422T224955
CREATED:20221206T200409Z
LAST-MODIFIED:20260403T180939Z
UID:9905-1670434200-1670437800@ville.montreal-est.qc.ca
SUMMARY:Séance extraordinaire du conseil
DESCRIPTION:Le conseil municipal de la Ville de Montréal-Est tiendra une séance extraordinaire le 7 décembre 2022 à 17 h 30. \nDocuments pour la séance\nOrdre du jour \nProjet de règlement PR22-54\nProjet de règlement PR22-55\nRèglement PR23-01\nSecond projet de règlement PR22-51\nRèglement 739-11\nRèglement 39-2014-2\nRèglement 97-2022 \nCommuniquer une question à l’avance par courriel ou téléphone :\n\nEn écrivant à servicescitoyens@montreal-est.ca\nEn laissant un message au 514 905-2000\, option 1\n\nVous devez fournir votre nom\, vos coordonnées et mentionner si votre question s’adresse au conseil ou à un élu en particulier. \nVous avez jusqu’au 7 décembre 2022 à 14 h 30 pour faire parvenir vos questions. \nLes questions seront lues et répondues durant la séance.
URL:https://ville.montreal-est.qc.ca/evenement/seance-extraordinaire-du-conseil-7-decembre/
CATEGORIES:Vie démocratique
ATTACH;FMTTYPE=image/jpeg:https://ville.montreal-est.qc.ca/wp-content/uploads/2022/06/Visuel_Web_conseil.municipal_sceance_1280x720.jpg
END:VEVENT
BEGIN:VEVENT
DTSTART;TZID=America/Toronto:20221217T100000
DTEND;TZID=America/Toronto:20221217T113000
DTSTAMP:20260422T224955
CREATED:20221104T125853Z
LAST-MODIFIED:20260403T180938Z
UID:9466-1671271200-1671276600@ville.montreal-est.qc.ca
SUMMARY:Atelier brico-cadeau
DESCRIPTION:Venez bricoler un cadeau de Noël\, le 17 décembre\, à 10 h\, grâce à cet atelier gratuit! \nÀ l’approche des Fêtes\, quoi de mieux que d’offrir un cadeau personnalisé à ses proches? \nInscription obligatoire au 514 905-2145 pour participer à cette activité familiale offerte aux résidents de Montréal-Est.
URL:https://ville.montreal-est.qc.ca/evenement/brico-cadeau-2/
LOCATION:Bibliothèque Micheline-Gagnon\, 11370\, Notre-Dame (3e étage) Montréal-Est (Québec) H1B\, Montréal-Est\, H1B 2W6\, Canada
CATEGORIES:Bibliothèque Micheline-Gagnon,Loisirs et culture
ATTACH;FMTTYPE=image/jpeg:https://ville.montreal-est.qc.ca/wp-content/uploads/2022/11/Brico-web-2.jpg
END:VEVENT
BEGIN:VEVENT
DTSTART;TZID=America/Toronto:20221221T190000
DTEND;TZID=America/Toronto:20221221T210000
DTSTAMP:20260422T224955
CREATED:20211130T154304Z
LAST-MODIFIED:20260403T180933Z
UID:5552-1671649200-1671656400@ville.montreal-est.qc.ca
SUMMARY:Séance du conseil | Décembre
DESCRIPTION:Le conseil municipal de la Ville de Montréal-Est tiendra une séance ordinaire puis extraordinaire le mercredi 21 décembre 2022 à 19 h. \nDiffusion en direct\nLien vers la séance en direct \n  \nDocuments pour la séance\nOrdre du jour de la séance ordinaire \nOrdre du jour de la séance extraordinaire \nProjet de règlement PR22-56\nProjet de règlement PR22-57\nRèglement R14-102-1-2\nRèglement 739-12\nRèglement 98-2023 \n  \nPour communiquer une question à l’avance\n\nÉcrivez à servicescitoyens@montreal-est.ca\nOu laissez un message au 514 905-2000\, option 1.\n\nVous devez fournir votre nom\, vos coordonnées et mentionner si votre question s’adresse au conseil ou à un élu en particulier. \nVous avez jusqu’au 21 décembre\, à 16 h\, pour faire parvenir vos questions\, qui seront lues et répondues durant la séance. \n  \n 
URL:https://ville.montreal-est.qc.ca/evenement/seance-du-conseil-decembre-2/
LOCATION:Ville de Montréal-Est\, Montréal-Est\, Québec\, Canada
CATEGORIES:Vie démocratique
END:VEVENT
BEGIN:VEVENT
DTSTART;TZID=America/Toronto:20221224T143000
DTEND;TZID=America/Toronto:20221224T170000
DTSTAMP:20260422T224955
CREATED:20221103T181921Z
LAST-MODIFIED:20221103T182108Z
UID:9462-1671892200-1671901200@ville.montreal-est.qc.ca
SUMMARY:Noël
DESCRIPTION:ghcdghhjvkvbkjbjkbjkblkkjbjkhhgcxgh \nc vcghncjhcvjhchjcjhk \ncghc hjchj
URL:https://ville.montreal-est.qc.ca/evenement/noel/
LOCATION:Bibliothèque Micheline-Gagnon\, 11370\, Notre-Dame (3e étage) Montréal-Est (Québec) H1B\, Montréal-Est\, H1B 2W6\, Canada
CATEGORIES:Loisirs et culture
ATTACH;FMTTYPE=image/jpeg:https://ville.montreal-est.qc.ca/wp-content/uploads/2020/12/Visuel_Web_chien_parc_mai2020_1434x810.jpg
END:VEVENT
END:VCALENDAR