BEGIN:VCALENDAR
VERSION:2.0
PRODID:-//Ville de Montréal-Est - ECPv6.15.20//NONSGML v1.0//EN
CALSCALE:GREGORIAN
METHOD:PUBLISH
X-ORIGINAL-URL:https://ville.montreal-est.qc.ca
X-WR-CALDESC:Évènements pour Ville de Montréal-Est
REFRESH-INTERVAL;VALUE=DURATION:PT1H
X-Robots-Tag:noindex
X-PUBLISHED-TTL:PT1H
BEGIN:VTIMEZONE
TZID:America/Toronto
BEGIN:DAYLIGHT
TZOFFSETFROM:-0500
TZOFFSETTO:-0400
TZNAME:EDT
DTSTART:20220313T070000
END:DAYLIGHT
BEGIN:STANDARD
TZOFFSETFROM:-0400
TZOFFSETTO:-0500
TZNAME:EST
DTSTART:20221106T060000
END:STANDARD
BEGIN:DAYLIGHT
TZOFFSETFROM:-0500
TZOFFSETTO:-0400
TZNAME:EDT
DTSTART:20230312T070000
END:DAYLIGHT
BEGIN:STANDARD
TZOFFSETFROM:-0400
TZOFFSETTO:-0500
TZNAME:EST
DTSTART:20231105T060000
END:STANDARD
BEGIN:DAYLIGHT
TZOFFSETFROM:-0500
TZOFFSETTO:-0400
TZNAME:EDT
DTSTART:20240310T070000
END:DAYLIGHT
BEGIN:STANDARD
TZOFFSETFROM:-0400
TZOFFSETTO:-0500
TZNAME:EST
DTSTART:20241103T060000
END:STANDARD
END:VTIMEZONE
BEGIN:VEVENT
DTSTART;TZID=America/Toronto:20230116T080000
DTEND;TZID=America/Toronto:20230402T210000
DTSTAMP:20260422T193048
CREATED:20221128T193038Z
LAST-MODIFIED:20260403T180938Z
UID:9753-1673856000-1680469200@ville.montreal-est.qc.ca
SUMMARY:Session d'hiver au CRÉR
DESCRIPTION:70 activités pour tous les goûts : c’est l’éventail de choix que vous offre le centre récréatif Édouard-Rivet pour rester en forme\, cet hiver. \nEn plus des classiques pour petits et grands (sports\, activités aquatiques)\, des nouveautés vous attendent pour mieux braver le froid : cardio-vélo\, drumfit\, kickboxing\, improvisation\, jui-jitsu\, tabata\, yoga restauratif\, volleyball et bien plus! \nTous les détails ici : https://crer.me \nPour en savoir plus\, composez le 514 905-2105.
URL:https://ville.montreal-est.qc.ca/evenement/session-dhiver-au-crer/
CATEGORIES:Loisirs et culture
ATTACH;FMTTYPE=image/jpeg:https://ville.montreal-est.qc.ca/wp-content/uploads/2022/12/Sport-illustration.jpg
END:VEVENT
BEGIN:VEVENT
DTSTART;TZID=America/Toronto:20230204T130000
DTEND;TZID=America/Toronto:20230204T170000
DTSTAMP:20260422T193048
CREATED:20230110T213103Z
LAST-MODIFIED:20260403T190612Z
UID:10332-1675515600-1675530000@ville.montreal-est.qc.ca
SUMMARY:Classique hivernale
DESCRIPTION:Jeux géants\, patinoire\, glissades\, animations\, beignes et plus : ne manquez pas notre Classique hivernale\, le 4 février! \nAu menu de cet événement gratuit qui se déroulera au parc de l’Hôtel-de-Ville de 13 h à 17 h : \n Jeux géants\n Animations de l’excellent Pat Patinfou\, cascadeur clownesque en skis\, patins ou raquettes\n Glissades\n Patinoire (apportez vos patins)\n Cours de mise en forme à 13 h30\, 14 h 30 et 15 h 30\n Spectacle du groupe Sonic 5 à 16 h \n Beignes d’antan et d’autres surprises!\n Tirage vers 15 h 45 avec de superbes prix de participation à la clé.\n  \n\n À GAGNER : \n\n• 2 billets pour le match Canadiens c. Devils du New Jersey (11 mars à 19 h) dans la section Desjardins – nourriture et boissons non alcoolisées offertes\n• 4 billets pour le spectacle Disney sur glace (3 mars à 19 h)\n• 4 billets pour assister au concours d’habiletés des Canadiens (19 février à 10 h)\n• 1 séjour de 2 à 4 personnes (coffret prestige 𝑅𝑒̂𝑣𝑒𝑠 𝑒𝑡 𝑐ℎ𝑎𝑙𝑒𝑡𝑠 – 15 destinations au choix)\n 
URL:https://ville.montreal-est.qc.ca/evenement/classique-hivernale-de-montreal-est/
LOCATION:Parc de l’Hôtel-de-Ville\, 11370 Rue Notre-Dame Est\, Montréal-Est\, Québec\, H1B 2W6\, Canada
CATEGORIES:Loisirs et culture
ATTACH;FMTTYPE=image/jpeg:https://ville.montreal-est.qc.ca/wp-content/uploads/2023/01/Rdv-hivernal-2.jpg
END:VEVENT
BEGIN:VEVENT
DTSTART;TZID=America/Toronto:20230204T133000
DTEND;TZID=America/Toronto:20230204T160000
DTSTAMP:20260422T193048
CREATED:20230201T211411Z
LAST-MODIFIED:20260403T190610Z
UID:10632-1675517400-1675526400@ville.montreal-est.qc.ca
SUMMARY:Samedi jeux
DESCRIPTION:Rendez-vous à la bibliothèque Micheline-Gagnon pour un après-midi de jeux de société en famille ou entre amis! \nPour profiter des nouveautés de la bibliothèque et découvrir des concepts différents\, il suffit de composer le 514 905-2145 et de s’inscrire.
URL:https://ville.montreal-est.qc.ca/evenement/samedi-jeux-2/2023-02-04/
LOCATION:Bibliothèque Micheline-Gagnon\, 11370\, Notre-Dame (3e étage) Montréal-Est (Québec) H1B\, Montréal-Est\, H1B 2W6\, Canada
CATEGORIES:Bibliothèque Micheline-Gagnon,Loisirs et culture
ATTACH;FMTTYPE=image/jpeg:https://ville.montreal-est.qc.ca/wp-content/uploads/2023/02/Samedi-jeux.PNG.jpg
END:VEVENT
BEGIN:VEVENT
DTSTART;TZID=America/Toronto:20230212T100000
DTEND;TZID=America/Toronto:20230225T170000
DTSTAMP:20260422T193048
CREATED:20230214T150724Z
LAST-MODIFIED:20260403T190609Z
UID:10824-1676196000-1677344400@ville.montreal-est.qc.ca
SUMMARY:Grand concours
DESCRIPTION:Du 12 au 25 février\, rendez-vous à la bibliothèque Micheline-Gagnon pour trouver l’un des 14 billets d’or cachés (un billet par jour)!\nÀ la clé\, la chance de gagner l’un des 200 cadeaux en jeu et des prix offerts par une personnalité reconnue au Québec. \nPour participer au concours\, il suffit de :\n– visiter votre bibliothèque à la recherche du fameux billet d’or\n– puis de remplir le formulaire en ligne au grandconcoursbiblio.ca\, en indiquant le code fourni sur place\, par la bibliothèque. \nC’est simple et il y a beaucoup à gagner. Visiter votre biblio n’aura jamais été aussi gagnant! \nPour en savoir plus sur le concours Gagnez à visiter votre biblio\, les cadeaux offerts par les artistes ou les règlements\, visitez le www.grandconcoursbiblio.ca
URL:https://ville.montreal-est.qc.ca/evenement/grand-concours/
LOCATION:Bibliothèque Micheline-Gagnon\, 11370\, Notre-Dame (3e étage) Montréal-Est (Québec) H1B\, Montréal-Est\, H1B 2W6\, Canada
CATEGORIES:Bibliothèque Micheline-Gagnon,Loisirs et culture
ATTACH;FMTTYPE=image/jpeg:https://ville.montreal-est.qc.ca/wp-content/uploads/2023/02/Grand-concours-biblio-visuel-web.jpg
END:VEVENT
BEGIN:VEVENT
DTSTART;TZID=America/Toronto:20230215T190000
DTEND;TZID=America/Toronto:20230215T210000
DTSTAMP:20260422T193048
CREATED:20230109T150906Z
LAST-MODIFIED:20260403T190614Z
UID:10279-1676487600-1676494800@ville.montreal-est.qc.ca
SUMMARY:Séance du conseil | Février
DESCRIPTION:Le conseil municipal de la Ville de Montréal-Est tiendra une séance ordinaire le mercredi 15 février 2023 à 19 h. \nDiffusion en direct\nLien vers la séance en direct \n  \nDocuments pour la séance\nOrdre du jour\nRèglement 58-2016-56\nProjet de règlement PR23-03\nPremier projet de règlement PR23-04 \n  \nPour communiquer une question à l’avance\n\nÉcrivez à servicescitoyens@montreal-est.ca\nOu laissez un message au 514 905-2000\, option 1.\n\nVous devez fournir votre nom\, vos coordonnées et mentionner si votre question s’adresse au conseil ou à un élu en particulier. \nVous avez jusqu’au 15 février\, à 16 h\, pour faire parvenir vos questions\, qui seront lues et répondues durant la séance. \n  \n 
URL:https://ville.montreal-est.qc.ca/evenement/seance-du-conseil-fevrier-2/
CATEGORIES:Vie démocratique
END:VEVENT
BEGIN:VEVENT
DTSTART;TZID=America/Toronto:20230218T100000
DTEND;TZID=America/Toronto:20230218T110000
DTSTAMP:20260422T193048
CREATED:20230207T152859Z
LAST-MODIFIED:20260403T190610Z
UID:10753-1676714400-1676718000@ville.montreal-est.qc.ca
SUMMARY:Amène-moi au zoo!
DESCRIPTION:Dans une belle ambiance\, les ateliers 1\,2\,3 saute-moutons stimulent l’intérêt pour la lecture\, les comptines\, la danse et le bricolage chez les enfants de 0 à 5 ans. \nLe thème de l’atelier du 18 février\, animé par la conteuse Danielle Loiseau : amène-moi au zoo! \nUne activité gratuite et créative qui comblera les plus jeunes et leurs parents. \nInscription obligatoire au 514 905-2145. \n  \n  \n  \n  \n  \n 
URL:https://ville.montreal-est.qc.ca/evenement/amene-moi-au-zoo/
LOCATION:Bibliothèque Micheline-Gagnon\, 11370\, Notre-Dame (3e étage) Montréal-Est (Québec) H1B\, Montréal-Est\, H1B 2W6\, Canada
CATEGORIES:Bibliothèque Micheline-Gagnon,Loisirs et culture
ATTACH;FMTTYPE=image/jpeg:https://ville.montreal-est.qc.ca/wp-content/uploads/2023/02/Zoo-web.jpg
END:VEVENT
BEGIN:VEVENT
DTSTART;TZID=America/Toronto:20230218T153000
DTEND;TZID=America/Toronto:20230218T170000
DTSTAMP:20260422T193048
CREATED:20230109T160743Z
LAST-MODIFIED:20260403T190612Z
UID:10317-1676734200-1676739600@ville.montreal-est.qc.ca
SUMMARY:Atelier de peinture à la Riopelle
DESCRIPTION:Rendez-vous le 18 février à 13 h 30\, à la bibliothèque Micheline-Gagnon\, pour participer à notre Samedi découvertes\, dédié aux 6 ans et plus. \nDans cet atelier gratuit\, les jeunes créeront ensemble une fresque en s’inspirant du grand peintre québécois Jean-Paul Riopelle\, qui aurait eu 100 ans cette année. \nInscription obligatoire au 514 905-2145.\nLes parents peuvent accompagner leurs enfants durant l’activité.
URL:https://ville.montreal-est.qc.ca/evenement/atelier-de-peinture-a-la-riopelle/
LOCATION:Bibliothèque Micheline-Gagnon\, 11370\, Notre-Dame (3e étage) Montréal-Est (Québec) H1B\, Montréal-Est\, H1B 2W6\, Canada
CATEGORIES:Bibliothèque Micheline-Gagnon,Loisirs et culture
ATTACH;FMTTYPE=image/jpeg:https://ville.montreal-est.qc.ca/wp-content/uploads/2023/01/Riopelle-web.jpg
END:VEVENT
BEGIN:VEVENT
DTSTART;TZID=America/Toronto:20230223T153000
DTEND;TZID=America/Toronto:20230223T170000
DTSTAMP:20260422T193048
CREATED:20230125T142123Z
LAST-MODIFIED:20260403T190611Z
UID:10523-1677166200-1677171600@ville.montreal-est.qc.ca
SUMMARY:Atelier d'art visuel après l'école
DESCRIPTION:Rendez-vous à la bibliothèque Micheline-Gagnon\, le 23 février\, à 15 h 30\, pour découvrir les joies de la création d’art visuel\, avec France. \nAu menu de cet atelier gratuit pour les 8 – 12 ans : un brin de peinture\, une bonne dose de collages et de moulages\, des dessins et bien plus pour un résultat unique et très artistique! \nPour plus de détails\, cliquez ici. \nInscription obligatoire au 514 905-2145.
URL:https://ville.montreal-est.qc.ca/evenement/atelier-dart-visuel-apres-lecole-2/
LOCATION:Bibliothèque Micheline-Gagnon\, 11370\, Notre-Dame (3e étage) Montréal-Est (Québec) H1B\, Montréal-Est\, H1B 2W6\, Canada
CATEGORIES:Bibliothèque Micheline-Gagnon,Loisirs et culture
ATTACH;FMTTYPE=image/jpeg:https://ville.montreal-est.qc.ca/wp-content/uploads/2022/09/cadeau-web.jpg
END:VEVENT
END:VCALENDAR