BEGIN:VCALENDAR
VERSION:2.0
PRODID:-//Ville de Montréal-Est - ECPv6.15.20//NONSGML v1.0//EN
CALSCALE:GREGORIAN
METHOD:PUBLISH
X-WR-CALNAME:Ville de Montréal-Est
X-ORIGINAL-URL:https://ville.montreal-est.qc.ca
X-WR-CALDESC:Évènements pour Ville de Montréal-Est
REFRESH-INTERVAL;VALUE=DURATION:PT1H
X-Robots-Tag:noindex
X-PUBLISHED-TTL:PT1H
BEGIN:VTIMEZONE
TZID:America/Toronto
BEGIN:DAYLIGHT
TZOFFSETFROM:-0500
TZOFFSETTO:-0400
TZNAME:EDT
DTSTART:20220313T070000
END:DAYLIGHT
BEGIN:STANDARD
TZOFFSETFROM:-0400
TZOFFSETTO:-0500
TZNAME:EST
DTSTART:20221106T060000
END:STANDARD
BEGIN:DAYLIGHT
TZOFFSETFROM:-0500
TZOFFSETTO:-0400
TZNAME:EDT
DTSTART:20230312T070000
END:DAYLIGHT
BEGIN:STANDARD
TZOFFSETFROM:-0400
TZOFFSETTO:-0500
TZNAME:EST
DTSTART:20231105T060000
END:STANDARD
BEGIN:DAYLIGHT
TZOFFSETFROM:-0500
TZOFFSETTO:-0400
TZNAME:EDT
DTSTART:20240310T070000
END:DAYLIGHT
BEGIN:STANDARD
TZOFFSETFROM:-0400
TZOFFSETTO:-0500
TZNAME:EST
DTSTART:20241103T060000
END:STANDARD
END:VTIMEZONE
BEGIN:VEVENT
DTSTART;TZID=America/Toronto:20230417T080000
DTEND;TZID=America/Toronto:20230612T210000
DTSTAMP:20260422T125146
CREATED:20230403T184218Z
LAST-MODIFIED:20260403T190607Z
UID:11529-1681718400-1686603600@ville.montreal-est.qc.ca
SUMMARY:Session de printemps au CRÉR
DESCRIPTION:70 activités pour tous les goûts : c’est l’éventail de choix que vous offre le centre récréatif Édouard-Rivet pour rester en forme\, ce printemps. \nEn plus des classiques pour petits et grands (sports\, activités aquatiques)\, des nouveautés vous attendent au 11111 rue Notre-Dame : cardio-vélo\, drumfit\, kickboxing\, improvisation\, jui-jitsu\, tabata\, yoga restauratif\, volleyball et bien plus! \nTous les détails ici : https://crer.me \nPour en savoir plus\, composez le 514 905-2105.
URL:https://ville.montreal-est.qc.ca/evenement/session-de-printemps-au-crer/
CATEGORIES:Loisirs et culture
ATTACH;FMTTYPE=image/jpeg:https://ville.montreal-est.qc.ca/wp-content/uploads/2022/12/Sport-illustration.jpg
END:VEVENT
BEGIN:VEVENT
DTSTART;TZID=America/Toronto:20230605T171500
DTEND;TZID=America/Toronto:20230605T181500
DTSTAMP:20260422T125146
CREATED:20230605T152523Z
LAST-MODIFIED:20260403T190941Z
UID:12154-1685985300-1685988900@ville.montreal-est.qc.ca
SUMMARY:Séance extraordinaire du 5 juin
DESCRIPTION:Le conseil municipal de la Ville de Montréal-Est tiendra une séance extraordinaire le lundi 5 juin 2023 à 17 h 15. \nDocuments pour la séance\nOrdre du jour\nProjet de règlement PR23-23\nProjet de règlement PR23-24 \n  \nPour communiquer une question à l’avance\n\nÉcrivez à servicescitoyens@montreal-est.ca\nOu laissez un message au 514 905-2000\, option 1.\n\nVous devez fournir votre nom\, vos coordonnées et mentionner si votre question s’adresse au conseil ou à un élu en particulier. \nVous avez jusqu’au 5 juin\, à 14 h\, pour faire parvenir vos questions\, qui seront lues et répondues durant la séance. \n  \n 
URL:https://ville.montreal-est.qc.ca/evenement/seance-extraordinaire-du-5-juin/
CATEGORIES:Vie démocratique
END:VEVENT
BEGIN:VEVENT
DTSTART;TZID=America/Toronto:20230617T090000
DTEND;TZID=America/Toronto:20230825T190000
DTSTAMP:20260422T125146
CREATED:20230612T193954Z
LAST-MODIFIED:20260403T190941Z
UID:12224-1686992400-1692990000@ville.montreal-est.qc.ca
SUMMARY:Club de lecture de l'été
DESCRIPTION:Cet l’été\, les jeunes sont invités à participer au Club de lecture estival à la bibliothèque Micheline-Gagnon. \nLe 17 juin\, les enfants qui participeront au lancement du Club de lecture\, entre 10 h et 16 h\, recevront gratuitement la trousse du Club\, jardineront et recevront des prix de présence! \nTout l’été\, chaque enfant inscrit au Club de lecture recevra un livret d’activités\, un carnet de lecteur et courra la chance de gagner de nombreux prix. \nPour participer et en savoir plus\, rendez-vous à la bibliothèque Micheline-Gagnon du 17 juin au 25 août ou composez le 514 905-2145.\nÀ vos marques\, prêts\, lisez !
URL:https://ville.montreal-est.qc.ca/evenement/club-de-lecture-de-lete/
LOCATION:Bibliothèque Micheline-Gagnon\, 11370\, Notre-Dame (3e étage) Montréal-Est (Québec) H1B\, Montréal-Est\, H1B 2W6\, Canada
CATEGORIES:Bibliothèque Micheline-Gagnon,Loisirs et culture
ATTACH;FMTTYPE=image/jpeg:https://ville.montreal-est.qc.ca/wp-content/uploads/2023/06/Club-TD-web.jpg
END:VEVENT
BEGIN:VEVENT
DTSTART;TZID=America/Toronto:20230620T180000
DTEND;TZID=America/Toronto:20230620T190000
DTSTAMP:20260422T125146
CREATED:20230617T012234Z
LAST-MODIFIED:20260403T190943Z
UID:12472-1687284000-1687287600@ville.montreal-est.qc.ca
SUMMARY:Zumba fitness
DESCRIPTION:Venez vous amuser en dansant au son d’une musique rythmée\, avec des mouvements faciles à suivre. \nIndispensable à apporter : tenue sportive et bouteille d’eau. \nCours gratuit offert les mardis\, à 18 h\, dans le cadre des rendez-vous sportifs de l’été de Montréal-Est.
URL:https://ville.montreal-est.qc.ca/evenement/zumba-fitness-2/2023-06-20/
LOCATION:Parc de l’Hôtel-de-Ville\, 11370 Rue Notre-Dame Est\, Montréal-Est\, Québec\, H1B 2W6\, Canada
CATEGORIES:Loisirs et culture
ATTACH;FMTTYPE=image/jpeg:https://ville.montreal-est.qc.ca/wp-content/uploads/2023/06/zumba-web.jpg
END:VEVENT
BEGIN:VEVENT
DTSTART;TZID=America/Toronto:20230620T193000
DTEND;TZID=America/Toronto:20230620T203000
DTSTAMP:20260422T125146
CREATED:20230617T013730Z
LAST-MODIFIED:20260403T190943Z
UID:12518-1687289400-1687293000@ville.montreal-est.qc.ca
SUMMARY:Djamboola
DESCRIPTION:Venez tester ce mélange savoureux et rythmé de cardio\, de danses africaines et de rythmes ensoleillés.\nIdéal pour brûler un maximum de calories\, sans s’en rendre compte! Bonne humeur et belle ambiance garanties. \nIndispensable à apporter : tenue sportive et bouteille d’eau.
URL:https://ville.montreal-est.qc.ca/evenement/djamboola-2/2023-06-20/
LOCATION:Parc de l’Hôtel-de-Ville\, 11370 Rue Notre-Dame Est\, Montréal-Est\, Québec\, H1B 2W6\, Canada
ATTACH;FMTTYPE=image/jpeg:https://ville.montreal-est.qc.ca/wp-content/uploads/2023/06/Djamboola-web.jpg
END:VEVENT
BEGIN:VEVENT
DTSTART;TZID=America/Toronto:20230621T103000
DTEND;TZID=America/Toronto:20230621T113000
DTSTAMP:20260422T125146
CREATED:20230821T130740Z
LAST-MODIFIED:20260403T190943Z
UID:13154-1687343400-1687347000@ville.montreal-est.qc.ca
SUMMARY:Yoga 55 ans et +
DESCRIPTION:Rendez-vous à 10 h 30 pour améliorer votre souplesse en travaillant votre respiration\, la détente du corps et de l’esprit\, en respectant vos limites. Bonjour bien-être! \nIndispensable à apporter pour ce cours gratuit adapté aux 55 ans et plus : tenue sportive\, bouteille d’eau (et tapis\, si vous en avez un). \n 
URL:https://ville.montreal-est.qc.ca/evenement/yoga-55/2023-06-21/
LOCATION:Parc de l’Hôtel-de-Ville\, 11370 Rue Notre-Dame Est\, Montréal-Est\, Québec\, H1B 2W6\, Canada
ATTACH;FMTTYPE=image/jpeg:https://ville.montreal-est.qc.ca/wp-content/uploads/2023/08/Yoga-aines.jpg
END:VEVENT
BEGIN:VEVENT
DTSTART;TZID=America/Toronto:20230621T180000
DTEND;TZID=America/Toronto:20230621T190000
DTSTAMP:20260422T125146
CREATED:20230821T133743Z
LAST-MODIFIED:20260403T190943Z
UID:13305-1687370400-1687374000@ville.montreal-est.qc.ca
SUMMARY:Power yoga
DESCRIPTION:Yoga très dynamique pour travailler tous les muscles en profondeur\, en symbiose avec la respiration. \nLes poses s’enchaînent rapidement pour donner un entraînement très complet\, en combinant des postures en force\, d’équilibre\, de mobilité et de flexibilité. \nIndispensables à apporter : tenue sportive\, bouteille d’eau (et tapis si vous en possédez un).\nAucune inscription requise.
URL:https://ville.montreal-est.qc.ca/evenement/power-yoga/2023-06-21/
LOCATION:Parc de l’Hôtel-de-Ville\, 11370 Rue Notre-Dame Est\, Montréal-Est\, Québec\, H1B 2W6\, Canada
ATTACH;FMTTYPE=image/jpeg:https://ville.montreal-est.qc.ca/wp-content/uploads/2023/08/Yoga-web.jpg
END:VEVENT
BEGIN:VEVENT
DTSTART;TZID=America/Toronto:20230621T190000
DTEND;TZID=America/Toronto:20230621T210000
DTSTAMP:20260422T125146
CREATED:20230109T152350Z
LAST-MODIFIED:20260403T190613Z
UID:10294-1687374000-1687381200@ville.montreal-est.qc.ca
SUMMARY:Séance du conseil | Juin
DESCRIPTION:Le conseil municipal de la Ville de Montréal-Est tiendra une séance ordinaire le mercredi 21 juin 2023 à 19 h. \nDiffusion en direct\nLien vers la séance en direct \n  \nDocuments pour la séance\nOrdre du jour\nProjet de règlement PR23-15\nRèglement 58-2016-59\nRèglement 61-2016-5\nRèglement 62-2016-2\nRèglement 76-2018-2\nRèglement 92-2021-2\nRèglement 99-2023-1\nRèglement 104-2023\nRèglement 733-1-5\nRèglement 738-8\nRèglement 738-9\nRèglement R14-105-1 \nPour communiquer une question à l’avance\n\nÉcrivez à servicescitoyens@montreal-est.ca\nOu laissez un message au 514 905-2000\, option 1.\n\nVous devez fournir votre nom\, vos coordonnées et mentionner si votre question s’adresse au conseil ou à un élu en particulier. \nVous avez jusqu’au 21 juin\, à 16 h\, pour faire parvenir vos questions\, qui seront lues et répondues durant la séance. \n  \n 
URL:https://ville.montreal-est.qc.ca/evenement/seance-du-conseil-juin-3/
CATEGORIES:Vie démocratique
END:VEVENT
BEGIN:VEVENT
DTSTART;TZID=America/Toronto:20230621T193000
DTEND;TZID=America/Toronto:20230621T203000
DTSTAMP:20260422T125146
CREATED:20230821T135506Z
LAST-MODIFIED:20260403T190943Z
UID:13347-1687375800-1687379400@ville.montreal-est.qc.ca
SUMMARY:Cardio bootcamp
DESCRIPTION:Dans ce cours cardiodynamique\, vous travaillerez tous les muscles de votre corps\, votre agilité\, votre équilibre ainsi que votre endurance cardiorespiratoire. \nUn cours très varié et divertissant !
URL:https://ville.montreal-est.qc.ca/evenement/cardio-bootcamp/2023-06-21/
LOCATION:Parc de l’Hôtel-de-Ville\, 11370 Rue Notre-Dame Est\, Montréal-Est\, Québec\, H1B 2W6\, Canada
ATTACH;FMTTYPE=image/jpeg:https://ville.montreal-est.qc.ca/wp-content/uploads/2023/08/Boootcamp-web.jpg
END:VEVENT
BEGIN:VEVENT
DTSTART;TZID=America/Toronto:20230622T180000
DTEND;TZID=America/Toronto:20230622T190000
DTSTAMP:20260422T125146
CREATED:20230821T141503Z
LAST-MODIFIED:20260403T190943Z
UID:13372-1687456800-1687460400@ville.montreal-est.qc.ca
SUMMARY:Danse en ligne
DESCRIPTION:Que vous soyez débutant ou intermédiaire\, venez partager un bon moment dans une ambiance sympathique. \nIndispensable à apporter : bouteille d’eau.
URL:https://ville.montreal-est.qc.ca/evenement/danse-en-ligne-2/2023-06-22/
LOCATION:Parc de l’Hôtel-de-Ville\, 11370 Rue Notre-Dame Est\, Montréal-Est\, Québec\, H1B 2W6\, Canada
ATTACH;FMTTYPE=image/jpeg:https://ville.montreal-est.qc.ca/wp-content/uploads/2023/08/Danse-en-ligne-web.jpg
END:VEVENT
BEGIN:VEVENT
DTSTART;TZID=America/Toronto:20230623T160000
DTEND;TZID=America/Toronto:20230623T220000
DTSTAMP:20260422T125146
CREATED:20230607T123030Z
LAST-MODIFIED:20260403T190941Z
UID:12163-1687536000-1687557600@ville.montreal-est.qc.ca
SUMMARY:Fête nationale du Québec
DESCRIPTION:Venez célébrer la Fête nationale du Québec avec France D’Amour et Dany Pouliot\, au parc de l’Hôtel-de-Ville! \n\nPour entrer dans la danse\, rendez-vous le 23 juin : \n\n\n16 h – Ouverture du site\nAnimations (jeux gonflables\, maquillage\, sculpture de ballons)\nCuisine de rue et boissons \n19 h – Spectacle de Dany Pouliot (chansonnier populaire) \n20 h 30 – Spectacle de France D’Amour  \n22 h – Fermeture du site \n\nApportez vos chaises pliables pour les spectacles gratuits en plein air!\nPour plus de détails\, cliquez ici ou consultez ce pamphlet. \nIMPORTANT : cliquez ici pour consulter les règles d’accès au site.
URL:https://ville.montreal-est.qc.ca/evenement/fete-nationale-du-quebec-2/
LOCATION:Parc de l’Hôtel-de-Ville\, 11370 Rue Notre-Dame Est\, Montréal-Est\, Québec\, H1B 2W6\, Canada
CATEGORIES:Loisirs et culture
ATTACH;FMTTYPE=image/jpeg:https://ville.montreal-est.qc.ca/wp-content/uploads/2023/06/Fete-nationale-du-Quebec-2023-scaled.jpg
END:VEVENT
BEGIN:VEVENT
DTSTART;TZID=America/Toronto:20230627T103000
DTEND;TZID=America/Toronto:20230627T113000
DTSTAMP:20260422T125146
CREATED:20230617T010337Z
LAST-MODIFIED:20260403T190943Z
UID:12454-1687861800-1687865400@ville.montreal-est.qc.ca
SUMMARY:Zumba kids
DESCRIPTION:Les séances Zumba kids comportent des mouvements adaptés aux enfants\, qui voyageront sur des rythmes latins entraînants.\nNous simplifions les pas et ajoutons des jeux pour s’amuser avec des mouvements faciles à suivre. \nIndispensable à apporter : tenue sportive et bouteille d’eau. \nCours gratuit offert aux résidents de Montréal-Est dans le cadre des rendez-vous sportifs de l’été.
URL:https://ville.montreal-est.qc.ca/evenement/zumba-kids/2023-06-27/
LOCATION:Parc de l’Hôtel-de-Ville\, 11370 Rue Notre-Dame Est\, Montréal-Est\, Québec\, H1B 2W6\, Canada
ATTACH;FMTTYPE=image/jpeg:https://ville.montreal-est.qc.ca/wp-content/uploads/2023/06/Zumba-kids-web.jpg
END:VEVENT
BEGIN:VEVENT
DTSTART;TZID=America/Toronto:20230630T100000
DTEND;TZID=America/Toronto:20230630T110000
DTSTAMP:20260422T125146
CREATED:20230821T141802Z
LAST-MODIFIED:20260403T190944Z
UID:13386-1688119200-1688122800@ville.montreal-est.qc.ca
SUMMARY:Zumba Gold (55 ans et +)
DESCRIPTION:Venez vous amuser en dansant au son d’une musique rythmée\, avec des mouvements faciles à suivre. \nIndispensable à apporter : tenue sportive et bouteille d’eau.
URL:https://ville.montreal-est.qc.ca/evenement/zumba-gold-55-ans-et-2/2023-06-30/
LOCATION:Parc de l’Hôtel-de-Ville\, 11370 Rue Notre-Dame Est\, Montréal-Est\, Québec\, H1B 2W6\, Canada
CATEGORIES:Loisirs et culture
ATTACH;FMTTYPE=image/jpeg:https://ville.montreal-est.qc.ca/wp-content/uploads/2023/08/zumba-gold-web.jpg
END:VEVENT
END:VCALENDAR