BEGIN:VCALENDAR
VERSION:2.0
PRODID:-//Ville de Montréal-Est - ECPv6.15.20//NONSGML v1.0//EN
CALSCALE:GREGORIAN
METHOD:PUBLISH
X-ORIGINAL-URL:https://ville.montreal-est.qc.ca
X-WR-CALDESC:Évènements pour Ville de Montréal-Est
REFRESH-INTERVAL;VALUE=DURATION:PT1H
X-Robots-Tag:noindex
X-PUBLISHED-TTL:PT1H
BEGIN:VTIMEZONE
TZID:America/Toronto
BEGIN:DAYLIGHT
TZOFFSETFROM:-0500
TZOFFSETTO:-0400
TZNAME:EDT
DTSTART:20220313T070000
END:DAYLIGHT
BEGIN:STANDARD
TZOFFSETFROM:-0400
TZOFFSETTO:-0500
TZNAME:EST
DTSTART:20221106T060000
END:STANDARD
BEGIN:DAYLIGHT
TZOFFSETFROM:-0500
TZOFFSETTO:-0400
TZNAME:EDT
DTSTART:20230312T070000
END:DAYLIGHT
BEGIN:STANDARD
TZOFFSETFROM:-0400
TZOFFSETTO:-0500
TZNAME:EST
DTSTART:20231105T060000
END:STANDARD
BEGIN:DAYLIGHT
TZOFFSETFROM:-0500
TZOFFSETTO:-0400
TZNAME:EDT
DTSTART:20240310T070000
END:DAYLIGHT
BEGIN:STANDARD
TZOFFSETFROM:-0400
TZOFFSETTO:-0500
TZNAME:EST
DTSTART:20241103T060000
END:STANDARD
END:VTIMEZONE
BEGIN:VEVENT
DTSTART;TZID=America/Toronto:20230617T090000
DTEND;TZID=America/Toronto:20230825T190000
DTSTAMP:20260422T125418
CREATED:20230612T193954Z
LAST-MODIFIED:20260403T190941Z
UID:12224-1686992400-1692990000@ville.montreal-est.qc.ca
SUMMARY:Club de lecture de l'été
DESCRIPTION:Cet l’été\, les jeunes sont invités à participer au Club de lecture estival à la bibliothèque Micheline-Gagnon. \nLe 17 juin\, les enfants qui participeront au lancement du Club de lecture\, entre 10 h et 16 h\, recevront gratuitement la trousse du Club\, jardineront et recevront des prix de présence! \nTout l’été\, chaque enfant inscrit au Club de lecture recevra un livret d’activités\, un carnet de lecteur et courra la chance de gagner de nombreux prix. \nPour participer et en savoir plus\, rendez-vous à la bibliothèque Micheline-Gagnon du 17 juin au 25 août ou composez le 514 905-2145.\nÀ vos marques\, prêts\, lisez !
URL:https://ville.montreal-est.qc.ca/evenement/club-de-lecture-de-lete/
LOCATION:Bibliothèque Micheline-Gagnon\, 11370\, Notre-Dame (3e étage) Montréal-Est (Québec) H1B\, Montréal-Est\, H1B 2W6\, Canada
CATEGORIES:Bibliothèque Micheline-Gagnon,Loisirs et culture
ATTACH;FMTTYPE=image/jpeg:https://ville.montreal-est.qc.ca/wp-content/uploads/2023/06/Club-TD-web.jpg
END:VEVENT
BEGIN:VEVENT
DTSTART;TZID=America/Toronto:20230701T090000
DTEND;TZID=America/Toronto:20230701T150000
DTSTAMP:20260422T125418
CREATED:20230616T223013Z
LAST-MODIFIED:20260403T190941Z
UID:12251-1688202000-1688223600@ville.montreal-est.qc.ca
SUMMARY:Ateliers de skateboard
DESCRIPTION:Rendez-vous le 1er juillet pour des ateliers de skateboard gratuits\, derrière l’hôtel de ville : \n\n\n9 h – Atelier de skateboard sur inscription uniquement : bit.ly/skate1erjuillet \n10 h 30 – Atelier de skateboard sur inscription seulement : bit.ly/skate1erjuillet \n14 h – Atelier de skateboard sur inscription uniquement : bit.ly/skate1erjuillet \n\nLes professeurs de Comeback skateboard se feront un plaisir de vous enseigner les rudiments du skate.\nL’atelier ouvert à tous\, que vous ayez 7 ou 87 ans! \nLes skateboards\, casques et/ou équipements de protection sont fournis.\nPrévoir une gourde et/ou bouteille d’eau. \nVenez nombreux!
URL:https://ville.montreal-est.qc.ca/evenement/ateliers-de-skateboard/
LOCATION:Parc de Montréal-Est\, 9909\, rue Notre-Dame\, Montréal-Est\, Québec\, H1L 3T3\, Canada
CATEGORIES:Loisirs et culture
ATTACH;FMTTYPE=image/jpeg:https://ville.montreal-est.qc.ca/wp-content/uploads/2023/06/Skate-2023.jpg
END:VEVENT
BEGIN:VEVENT
DTSTART;TZID=America/Toronto:20230701T130000
DTEND;TZID=America/Toronto:20230701T170000
DTSTAMP:20260422T125418
CREATED:20230607T141726Z
LAST-MODIFIED:20260403T190941Z
UID:12179-1688216400-1688230800@ville.montreal-est.qc.ca
SUMMARY:Fête du Canada
DESCRIPTION:Rendez-vous le 1er juillet pour une fête du Canada à plusieurs volets\, derrière l’hôtel de ville : \n\n\n9 h – Atelier de skateboard sur inscription uniquement : bit.ly/skate1erjuillet \n10 h 30 – Atelier de skateboard sur inscription seulement : bit.ly/skate1erjuillet \n13 h – Cérémonie de lever du drapeau avec la Légion royale canadienne \n14 h – Atelier de skateboard sur inscription uniquement : bit.ly/skate1erjuillet \nDe 13 h à 17 h – Ateliers de djembé (14 h 00 et 15 h 30)\, jeux géants\, remorque d’amusement pour enfants (La Jungle de Jack) et crème glacée. \nVenez nombreux!
URL:https://ville.montreal-est.qc.ca/evenement/fete-du-canada-2023/
CATEGORIES:Loisirs et culture
ATTACH;FMTTYPE=image/jpeg:https://ville.montreal-est.qc.ca/wp-content/uploads/2023/06/Fete-du-Canada-scaled.jpg
END:VEVENT
BEGIN:VEVENT
DTSTART;TZID=America/Toronto:20230704T103000
DTEND;TZID=America/Toronto:20230704T113000
DTSTAMP:20260422T125418
CREATED:20230617T011135Z
LAST-MODIFIED:20260403T190943Z
UID:12463-1688466600-1688470200@ville.montreal-est.qc.ca
SUMMARY:Fitness parents-enfants
DESCRIPTION:Envie d’un moment de qualité parent-enfant? Venez savourer les bienfaits du fitness avec nous!\nAu menu : routines dynamiques pour se détendre et s’amuser sans stress. \nIndispensable à apporter : tenue sportive\, bouteille d’eau et tapis. \nCours gratuit offert aux résidents de Montréal-Est dans le cadre des rendez-vous sportifs de l’été.
URL:https://ville.montreal-est.qc.ca/evenement/fitness-parents-enfants/2023-07-04/
LOCATION:Parc de l’Hôtel-de-Ville\, 11370 Rue Notre-Dame Est\, Montréal-Est\, Québec\, H1B 2W6\, Canada
ATTACH;FMTTYPE=image/jpeg:https://ville.montreal-est.qc.ca/wp-content/uploads/2023/06/Fitness-parents-enfants-web.jpg
END:VEVENT
BEGIN:VEVENT
DTSTART;TZID=America/Toronto:20230706T190000
DTEND;TZID=America/Toronto:20230706T203000
DTSTAMP:20260422T125418
CREATED:20230616T231608Z
LAST-MODIFIED:20260403T190942Z
UID:12268-1688670000-1688675400@ville.montreal-est.qc.ca
SUMMARY:Juillet Show - King Melrose
DESCRIPTION:Connu pour ses performances énergiques et sa pop-soul contagieuse\, King Melrose vous prépare un spectacle acoustique avec ses plus grands succès\, notamment Ne me laisse pas tomber. \nRendez-vous le 6 juillet à 19 h\, à la rotonde du parc de l’Hôtel-de-Ville\, pour profiter de ce beau spectacle gratuit en plein air. \nUn conseil : arrivez dès 16 h pour profiter de la cuisine de rue et être aux premières loges.\nPremier arrivé\, premier servi! Apportez votre chaise. \nPour connaître les autres artistes du Juillet SHOW\, notre festival de talents à savourer gratuitement et sans modération tout le mois de juillet\, cliquez ici.
URL:https://ville.montreal-est.qc.ca/evenement/juillet-show-king-melrose/
LOCATION:Parc de l’Hôtel-de-Ville\, 11370 Rue Notre-Dame Est\, Montréal-Est\, Québec\, H1B 2W6\, Canada
CATEGORIES:Loisirs et culture
ATTACH;FMTTYPE=image/jpeg:https://ville.montreal-est.qc.ca/wp-content/uploads/2023/06/MTL_EST_media_E2023_1200x628_v3_-King-Melrose_indiv-copie2.jpg
END:VEVENT
BEGIN:VEVENT
DTSTART;TZID=America/Toronto:20230708T200000
DTEND;TZID=America/Toronto:20230708T220000
DTSTAMP:20260422T125418
CREATED:20230616T225043Z
LAST-MODIFIED:20260403T190941Z
UID:12255-1688846400-1688853600@ville.montreal-est.qc.ca
SUMMARY:Juillet Show - 2Frères
DESCRIPTION:Pour cette première édition du Juillet SHOW\, nous faisons monter le mercure en déroulant le tapis rouge pour 2Frères.\nAvec plus de 275 000 albums vendus\, le célèbre duo n’a plus besoin de présentation. \nCet été\, les deux complices remontent sur scène juste pour vous.\nRendez-vous le 8 juillet à 20 h\, au parc de l’Hôtel-de-Ville\, pour profiter de leur grand spectacle gratuit en plein air. Coup de cœur garanti. \nUn conseil : arrivez dès 16 h pour être aux premières loges et profiter de la cuisine de rue ainsi que du service de bar.\nPremier arrivé\, premier servi! Apportez votre chaise. \nPour connaître les autres artistes du Juillet SHOW\, notre festival de talents à savourer gratuitement et sans modération tout le mois de juillet\, cliquez ici.
URL:https://ville.montreal-est.qc.ca/evenement/juillet-show-2freres/
LOCATION:Parc de l’Hôtel-de-Ville\, 11370 Rue Notre-Dame Est\, Montréal-Est\, Québec\, H1B 2W6\, Canada
CATEGORIES:Loisirs et culture
ATTACH;FMTTYPE=image/jpeg:https://ville.montreal-est.qc.ca/wp-content/uploads/2023/06/MTL_EST_media_E2023_1200x628_v3_Artistes-indiv2.jpg
END:VEVENT
BEGIN:VEVENT
DTSTART;TZID=America/Toronto:20230713T190000
DTEND;TZID=America/Toronto:20230713T220000
DTSTAMP:20260422T125418
CREATED:20230616T232708Z
LAST-MODIFIED:20260403T190942Z
UID:12273-1689274800-1689285600@ville.montreal-est.qc.ca
SUMMARY:Juillet Show - Sam Krüger
DESCRIPTION:À la fois chanteur et compositeur\, Sam Krüger jouera ses chansons nostalgiques en duo. Après la sortie récente de son EP The songs I write in my bedroom\, il a hâte de vous présenter ses créations. \nRendez-vous le 13 juillet à 19 h\, à la rotonde du parc de l’Hôtel-de-Ville\, pour profiter de ce beau spectacle gratuit en plein air. \nUn conseil : arrivez tôt pour être aux premières loges et profiter des camions de cuisine de rue.\nPremier arrivé\, premier servi! Apportez votre chaise. \nPour connaître les autres artistes du Juillet SHOW\, notre festival de talents à savourer gratuitement et sans modération tout le mois de juillet\, cliquez ici.
URL:https://ville.montreal-est.qc.ca/evenement/juillet-show-sam-kruger/
LOCATION:Parc de l’Hôtel-de-Ville\, 11370 Rue Notre-Dame Est\, Montréal-Est\, Québec\, H1B 2W6\, Canada
CATEGORIES:Loisirs et culture
ATTACH;FMTTYPE=image/jpeg:https://ville.montreal-est.qc.ca/wp-content/uploads/2023/06/MTL_EST_media_E2023_1200x628_v3_-Sam-Kruger_indiv-copie-copie2.jpg
END:VEVENT
BEGIN:VEVENT
DTSTART;TZID=America/Toronto:20230719T190000
DTEND;TZID=America/Toronto:20230719T210000
DTSTAMP:20260422T125418
CREATED:20230109T151645Z
LAST-MODIFIED:20260403T190614Z
UID:10286-1689793200-1689800400@ville.montreal-est.qc.ca
SUMMARY:Séance du conseil | Juillet
DESCRIPTION:Le conseil municipal de la Ville de Montréal-Est tiendra une séance ordinaire le mercredi 19 juillet 2023 à 19 h. \nDiffusion en direct\nLien vers la séance en direct \n  \nDocuments pour la séance\nOrdre du jour\nProjet de règlement PR23-27\nProjet de règlement PR23-29\nProjet de règlement PR23-31\nProjet de règlement PR23-32\nProjet de règlement PR23-33\nRèglement 738-10 \n  \n  \nPour communiquer une question à l’avance\n\nÉcrivez à servicescitoyens@montreal-est.ca\nOu laissez un message au 514 905-2000\, option 1.\n\nVous devez fournir votre nom\, vos coordonnées et mentionner si votre question s’adresse au conseil ou à un élu en particulier. \nVous avez jusqu’au 19 juillet\, à 16 h\, pour faire parvenir vos questions\, qui seront lues et répondues durant la séance. \n  \n 
URL:https://ville.montreal-est.qc.ca/evenement/seance-du-conseil-juillet-3/
CATEGORIES:Vie démocratique
END:VEVENT
BEGIN:VEVENT
DTSTART;TZID=America/Toronto:20230720T190000
DTEND;TZID=America/Toronto:20230720T201500
DTSTAMP:20260422T125418
CREATED:20230616T233646Z
LAST-MODIFIED:20260403T190942Z
UID:12277-1689879600-1689884100@ville.montreal-est.qc.ca
SUMMARY:Juillet Show - Anne Bisson
DESCRIPTION:Après l’international\, la chanteuse et pianiste Anne Bisson nous présente son album Be My Lover. Un savoureux mélange de compositions\noriginales et de classiques jazz\, tels que Moondance\, avec son fils à la basse. \nRendez-vous le 20 juillet à 19 h\, à la rotonde du parc de l’Hôtel-de-Ville\, pour profiter du beau spectacle gratuit de cette Montréalestoise! \nUn conseil : arrivez dès 16 h pour profiter de la cuisine de rue. Apportez votre chaise. \nPour connaître les autres artistes du Juillet SHOW\, notre festival de talents à savourer gratuitement et sans modération tout le mois de juillet\, cliquez ici.
URL:https://ville.montreal-est.qc.ca/evenement/juillet-show-anne-bisson/
LOCATION:Parc de l’Hôtel-de-Ville\, 11370 Rue Notre-Dame Est\, Montréal-Est\, Québec\, H1B 2W6\, Canada
CATEGORIES:Loisirs et culture
ATTACH;FMTTYPE=image/jpeg:https://ville.montreal-est.qc.ca/wp-content/uploads/2023/06/MTL_EST_media_E2023_1200x628_v3_-Anne-Bisson_indiv-copie-copie.jpg
END:VEVENT
BEGIN:VEVENT
DTSTART;TZID=America/Toronto:20230722T200000
DTEND;TZID=America/Toronto:20230722T220000
DTSTAMP:20260422T125418
CREATED:20230616T230742Z
LAST-MODIFIED:20260403T190941Z
UID:12265-1690056000-1690063200@ville.montreal-est.qc.ca
SUMMARY:Juillet Show - Ludovick Bourgeois
DESCRIPTION:Pour cette première édition du Juillet SHOW\, nous faisons monter le mercure en déroulant le tapis rouge pour Ludovick Bourgeois. \nAprès avoir conquis le cœur de milliers de québécois lors d’une tournée de plus d’une centaine de spectacles à travers la province\, Ludovick Bourgeois revient sur scène avec un tout nouvel album et un nouveau spectacle. \nRendez-vous le 22 juillet à 20 h\, au parc de l’Hôtel-de-Ville\, pour en profiter. \nUn conseil : arrivez dès 16 h pour être aux premières loges et profiter de la cuisine de rue ainsi que du service de bar.\nPremier arrivé\, premier servi! Apportez votre chaise. \nPour connaître les autres artistes du Juillet SHOW\, notre festival de talents à savourer gratuitement et sans modération tout le mois de juillet\, cliquez ici : bit.ly/ete2023montrealest.
URL:https://ville.montreal-est.qc.ca/evenement/juillet-show-laurence-jalbert/
LOCATION:Parc de l’Hôtel-de-Ville\, 11370 Rue Notre-Dame Est\, Montréal-Est\, Québec\, H1B 2W6\, Canada
CATEGORIES:Loisirs et culture
ATTACH;FMTTYPE=image/jpeg:https://ville.montreal-est.qc.ca/wp-content/uploads/2023/07/1200x628_v3_Artistes-indiv_L-Bourgeois-scaled.jpg
END:VEVENT
BEGIN:VEVENT
DTSTART;TZID=America/Toronto:20230727T190000
DTEND;TZID=America/Toronto:20230727T201500
DTSTAMP:20260422T125418
CREATED:20230616T234559Z
LAST-MODIFIED:20260403T190942Z
UID:12281-1690484400-1690488900@ville.montreal-est.qc.ca
SUMMARY:Juillet Show - Emmanuelle Boucher
DESCRIPTION:Rendez-vous avec l’une des plus belles voix québécoises et artiste coup de cœur de l’émission Tout simplement country\, de Guylaine Tanguay. Emmanuelle Boucher trace son chemin sur la scène country et nous prépare de belles surprises. \nRendez-vous le 27 juillet à 19 h\, à la rotonde du parc de l’Hôtel-de-Ville\, pour profiter de ce beau spectacle gratuit en plein air. \nUn conseil : arrivez dès 16 h pour être aux premières loges et profiter de la cuisine de rue.\nPremier arrivé\, premier servi! Apportez votre chaise.
URL:https://ville.montreal-est.qc.ca/evenement/juillet-show-emmanuelle-boucher/
LOCATION:Parc de l’Hôtel-de-Ville\, 11370 Rue Notre-Dame Est\, Montréal-Est\, Québec\, H1B 2W6\, Canada
CATEGORIES:Loisirs et culture
ATTACH;FMTTYPE=image/jpeg:https://ville.montreal-est.qc.ca/wp-content/uploads/2023/06/MTL_EST_media_E2023_1200x628_v3_-Emmanuelle-Boucher_indiv-copie-copie.jpg
END:VEVENT
END:VCALENDAR