BEGIN:VCALENDAR
VERSION:2.0
PRODID:-//Ville de Montréal-Est - ECPv6.15.20//NONSGML v1.0//EN
CALSCALE:GREGORIAN
METHOD:PUBLISH
X-ORIGINAL-URL:https://ville.montreal-est.qc.ca
X-WR-CALDESC:Évènements pour Ville de Montréal-Est
REFRESH-INTERVAL;VALUE=DURATION:PT1H
X-Robots-Tag:noindex
X-PUBLISHED-TTL:PT1H
BEGIN:VTIMEZONE
TZID:America/Toronto
BEGIN:DAYLIGHT
TZOFFSETFROM:-0500
TZOFFSETTO:-0400
TZNAME:EDT
DTSTART:20220313T070000
END:DAYLIGHT
BEGIN:STANDARD
TZOFFSETFROM:-0400
TZOFFSETTO:-0500
TZNAME:EST
DTSTART:20221106T060000
END:STANDARD
BEGIN:DAYLIGHT
TZOFFSETFROM:-0500
TZOFFSETTO:-0400
TZNAME:EDT
DTSTART:20230312T070000
END:DAYLIGHT
BEGIN:STANDARD
TZOFFSETFROM:-0400
TZOFFSETTO:-0500
TZNAME:EST
DTSTART:20231105T060000
END:STANDARD
BEGIN:DAYLIGHT
TZOFFSETFROM:-0500
TZOFFSETTO:-0400
TZNAME:EDT
DTSTART:20240310T070000
END:DAYLIGHT
BEGIN:STANDARD
TZOFFSETFROM:-0400
TZOFFSETTO:-0500
TZNAME:EST
DTSTART:20241103T060000
END:STANDARD
END:VTIMEZONE
BEGIN:VEVENT
DTSTART;TZID=America/Toronto:20230909T133000
DTEND;TZID=America/Toronto:20230909T153000
DTSTAMP:20260421T040829
CREATED:20230919T184823Z
LAST-MODIFIED:20260403T190944Z
UID:13854-1694266200-1694273400@ville.montreal-est.qc.ca
SUMMARY:Samedi jeux de société
DESCRIPTION:Rendez-vous à la bibliothèque Micheline-Gagnon pour un après-midi de jeux de société en famille ou entre amis! \nPour profiter des nouveautés et découvrir des concepts différents\, il suffit de composer le 514 905-2145 et de s’inscrire.
URL:https://ville.montreal-est.qc.ca/evenement/samedi-jeux-de-societe/2023-09-09/
LOCATION:Bibliothèque Micheline-Gagnon\, 11370\, Notre-Dame (3e étage) Montréal-Est (Québec) H1B\, Montréal-Est\, H1B 2W6\, Canada
CATEGORIES:Bibliothèque Micheline-Gagnon,Loisirs et culture
ATTACH;FMTTYPE=image/jpeg:https://ville.montreal-est.qc.ca/wp-content/uploads/2023/02/Samedi-jeux.PNG.jpg
END:VEVENT
BEGIN:VEVENT
DTSTART;TZID=America/Toronto:20230913T133000
DTEND;TZID=America/Toronto:20230913T153000
DTSTAMP:20260421T040829
CREATED:20231004T123909Z
LAST-MODIFIED:20260403T200938Z
UID:14090-1694611800-1694619000@ville.montreal-est.qc.ca
SUMMARY:Atelier numérique
DESCRIPTION:Profitez de nos ateliers gratuits pour développer vos compétences numériques\, cet automne. \nQuatre rendez-vous gratuits sont proposés aux adultes résidant à Montréal-Est : le 13 septembre\, le 11 octobre\, le 8 novembre et le 6 décembre de 13 h 30 à 15 h. \nInscription obligatoire auprès de la bibliothèque Micheline-Gagnon (514 905-2145).
URL:https://ville.montreal-est.qc.ca/evenement/atelier-numerique-pour-adultes/2023-09-13/
LOCATION:Bibliothèque Micheline-Gagnon\, 11370\, Notre-Dame (3e étage) Montréal-Est (Québec) H1B\, Montréal-Est\, H1B 2W6\, Canada
CATEGORIES:Bibliothèque Micheline-Gagnon,Loisirs et culture
ATTACH;FMTTYPE=image/jpeg:https://ville.montreal-est.qc.ca/wp-content/uploads/2022/09/Web-besoins-numeriques-des-aines.jpg
END:VEVENT
BEGIN:VEVENT
DTSTART;TZID=America/Toronto:20230916T080000
DTEND;TZID=America/Toronto:20230917T200000
DTSTAMP:20260421T040829
CREATED:20230912T192524Z
LAST-MODIFIED:20260403T190944Z
UID:13770-1694851200-1694980800@ville.montreal-est.qc.ca
SUMMARY:Ventes-débarras
DESCRIPTION:Rendez-vous les 16 et 17 septembre\, entre 8 h et 20 h\, pour organiser une vente de garage\, si vous résidez à Montréal-Est. \nSi vos tiroirs débordent d’articles inutilisés\, vendez-les : \n\nSur votre terrain\, sans empiéter sur le trottoir;\nSi les produits proposés sont sécuritaires;\nEn annonçant la vente sur votre terrain (installez des affiches la veille de la vente\, retirez-les dès la fin).\n\nPour plus de détails\, cliquez ici.
URL:https://ville.montreal-est.qc.ca/evenement/ventes-debarras-autorisees-2/
LOCATION:Ville de Montréal-Est\, Montréal-Est\, Québec\, Canada
CATEGORIES:Loisirs et culture
ATTACH;FMTTYPE=image/jpeg:https://ville.montreal-est.qc.ca/wp-content/uploads/2023/05/Ventes-de-garage-web.jpg
END:VEVENT
BEGIN:VEVENT
DTSTART;TZID=America/Toronto:20230916T100000
DTEND;TZID=America/Toronto:20230916T110000
DTSTAMP:20260421T040829
CREATED:20230916T140006Z
LAST-MODIFIED:20260403T190944Z
UID:13869-1694858400-1694862000@ville.montreal-est.qc.ca
SUMMARY:Le corps articulé
DESCRIPTION:Cet atelier 1\,2\,3 saute-mouton comblera les petits 0 à 5 ans et leurs parents. \nL’événement gratuit est offert dans le cadre des samedis découvertes avec un objectif : stimuler l’intérêt des tout-petits pour les comptines\, la musique\, la danse\, la lecture et le bricolage. Les thèmes de cette année : \n\n16 septembre : le corps articulé.\n14 octobre : vive la famille.\n11 novembre : jouons avec les textures.\n\nInscription obligatoire au 514 905-2145.
URL:https://ville.montreal-est.qc.ca/evenement/le-corps-articule/
LOCATION:Bibliothèque Micheline-Gagnon\, 11370\, Notre-Dame (3e étage) Montréal-Est (Québec) H1B\, Montréal-Est\, H1B 2W6\, Canada
CATEGORIES:Bibliothèque Micheline-Gagnon,Loisirs et culture
ATTACH;FMTTYPE=image/png:https://ville.montreal-est.qc.ca/wp-content/uploads/2023/09/corps-png.png
END:VEVENT
BEGIN:VEVENT
DTSTART;TZID=America/Toronto:20230916T100000
DTEND;TZID=America/Toronto:20230916T110000
DTSTAMP:20260421T040829
CREATED:20230919T191632Z
LAST-MODIFIED:20230920T133051Z
UID:13859-1694858400-1694862000@ville.montreal-est.qc.ca
SUMMARY:1\,2\,3\, saute-moutons
DESCRIPTION:Cet atelier 1\,2\,3 saute-mouton comblera les petits 0 à 5 ans et leurs parents. \nL’événement gratuit est offert dans le cadre des samedis découvertes avec un objectif : stimuler l’intérêt des tout-petits pour les comptines\, la musique\, la danse\, la lecture et le bricolage. Les thèmes de cette année : \n\n16 septembre : le corps articulé.\n14 octobre : vive la famille.\n11 novembre : jouons avec les textures.\n\nInscription obligatoire au 514 905-2145.
URL:https://ville.montreal-est.qc.ca/evenement/123-saute-moutons/2023-09-16/
LOCATION:Bibliothèque Micheline-Gagnon\, 11370\, Notre-Dame (3e étage) Montréal-Est (Québec) H1B\, Montréal-Est\, H1B 2W6\, Canada
CATEGORIES:Bibliothèque Micheline-Gagnon,Loisirs et culture
ATTACH;FMTTYPE=image/jpeg:https://ville.montreal-est.qc.ca/wp-content/uploads/2023/09/atelier-saute-mouton-web.jpg
END:VEVENT
BEGIN:VEVENT
DTSTART;TZID=America/Toronto:20230920T190000
DTEND;TZID=America/Toronto:20230920T210000
DTSTAMP:20260421T040829
CREATED:20230109T152629Z
LAST-MODIFIED:20260403T190613Z
UID:10298-1695236400-1695243600@ville.montreal-est.qc.ca
SUMMARY:Séance du conseil
DESCRIPTION:Le conseil municipal de la Ville de Montréal-Est tiendra une séance ordinaire le mercredi 20 septembre 2023 à 19 h. \nDiffusion en direct\nLien vers la séance en direct \n  \nDocuments pour la séance\nOrdre du jour\nProjet de règlement PR23-38\nRèglement 58-2016-60\nRèglement 60-2016-1\nRèglement 61-2016-6\nRèglement 61-2016-7\nRèglement 77-2018-9\nRèglement 106-2023\nRèglement 108-2023 \n  \nPour communiquer une question à l’avance\n\nÉcrivez à servicescitoyens@montreal-est.ca\nOu laissez un message au 514 905-2000\, option 1.\n\nVous devez fournir votre nom\, vos coordonnées et mentionner si votre question s’adresse au conseil ou à un élu en particulier. \nVous avez jusqu’au 20 septembre\, à 16 h\, pour faire parvenir vos questions\, qui seront lues et répondues durant la séance. \n  \n 
URL:https://ville.montreal-est.qc.ca/evenement/seance-du-conseil-septembre-3/
CATEGORIES:Vie démocratique
END:VEVENT
BEGIN:VEVENT
DTSTART;TZID=America/Toronto:20230923T133000
DTEND;TZID=America/Toronto:20230923T153000
DTSTAMP:20260421T040829
CREATED:20230920T141859Z
LAST-MODIFIED:20260403T190945Z
UID:13883-1695475800-1695483000@ville.montreal-est.qc.ca
SUMMARY:E = électricité et éoliennes
DESCRIPTION:Venez découvrir comment on produit de l’énergie grâce au vent. \nÉgalement au menu : fabrication d’une éolienne aérodynamique\, à partir de matériaux simples\, avant de tester un vélo qui produit de l’électricité. \nInscription requise au 514 905-2145 pour profiter ce cette activité gratuite offerte aux 6 ans et plus\, dans le cadre de la Semaine de la culture scientifique.
URL:https://ville.montreal-est.qc.ca/evenement/e-electricite-et-eoliennes/
LOCATION:Bibliothèque Micheline-Gagnon\, 11370\, Notre-Dame (3e étage) Montréal-Est (Québec) H1B\, Montréal-Est\, H1B 2W6\, Canada
CATEGORIES:Bibliothèque Micheline-Gagnon,Loisirs et culture
ATTACH;FMTTYPE=image/png:https://ville.montreal-est.qc.ca/wp-content/uploads/2023/09/eolienne-web.png
END:VEVENT
BEGIN:VEVENT
DTSTART;TZID=America/Toronto:20230925T070000
DTEND;TZID=America/Toronto:20230925T073000
DTSTAMP:20260421T040829
CREATED:20230607T194337Z
LAST-MODIFIED:20260403T190941Z
UID:12200-1695625200-1695627000@ville.montreal-est.qc.ca
SUMMARY:Collecte de branches
DESCRIPTION:Les branches seront collectées tous les derniers lundis du mois\, de mai à octobre. \n\nInscription requise au plus tard le jeudi précédent la collecte\, via le 514 905-2000\, option 1 ou par courriel;\nLes branches doivent être bien cordées à l’avant de votre terrain (pas sur la voie publique) avant 7 h le jour de la collecte.
URL:https://ville.montreal-est.qc.ca/evenement/collecte-de-branches-5/2023-09-25/
ATTACH;FMTTYPE=image/jpeg:https://ville.montreal-est.qc.ca/wp-content/uploads/2022/06/Branches-web.jpg
END:VEVENT
BEGIN:VEVENT
DTSTART;TZID=America/Toronto:20230925T173000
DTEND;TZID=America/Toronto:20230925T183000
DTSTAMP:20260421T040829
CREATED:20230925T152652Z
LAST-MODIFIED:20260403T190945Z
UID:13962-1695663000-1695666600@ville.montreal-est.qc.ca
SUMMARY:Séance extraordinaire
DESCRIPTION:Le conseil municipal de la Ville de Montréal-Est tiendra une séance extraordinaire le lundi 23 septembre 2023 à 17 h 30. \nDocuments pour la séance\nOrdre du jour \n  \nPour communiquer une question à l’avance\n\nÉcrivez à servicescitoyens@montreal-est.ca\nOu laissez un message au 514 905-2000\, option 1.\n\nVous devez fournir votre nom\, vos coordonnées et mentionner si votre question s’adresse au conseil ou à un élu en particulier. \nVous avez jusqu’au 23 septembre 2023\, à 14 h 30\, pour faire parvenir vos questions\, qui seront lues et répondues durant la séance. \n  \n 
URL:https://ville.montreal-est.qc.ca/evenement/seance-extraordinaire-i-23-septembre/
CATEGORIES:Vie démocratique
END:VEVENT
BEGIN:VEVENT
DTSTART;TZID=America/Toronto:20230926T153000
DTEND;TZID=America/Toronto:20230926T170000
DTSTAMP:20260421T040829
CREATED:20230919T175803Z
LAST-MODIFIED:20260403T190944Z
UID:13829-1695742200-1695747600@ville.montreal-est.qc.ca
SUMMARY:Jeux vidéo à la biblio
DESCRIPTION:Rendez-vous à la bibliothèque Micheline-Gagnon pour jouer à des jeux de la console Switch\, après l’école. \nPour en profiter avec tes amis ou en solo\, rendez-vous de 15 h 30 à 17 h les mardis :\n– 26 septembre\n– 24 octobre\n– 21 novembre\n– 19 décembre. \nImportant : l’inscription au 514 905-2145 est obligatoire. \nPour en savoir plus sur les autres activités gratuites de la bibliothèque\, cliquez ici.
URL:https://ville.montreal-est.qc.ca/evenement/jeux-video-a-la-biblio/2023-09-26/
LOCATION:Bibliothèque Micheline-Gagnon\, 11370\, Notre-Dame (3e étage) Montréal-Est (Québec) H1B\, Montréal-Est\, H1B 2W6\, Canada
CATEGORIES:Bibliothèque Micheline-Gagnon,Loisirs et culture
ATTACH;FMTTYPE=image/jpeg:https://ville.montreal-est.qc.ca/wp-content/uploads/2023/09/Switch-web.jpg
END:VEVENT
BEGIN:VEVENT
DTSTART;TZID=America/Toronto:20230930T100000
DTEND;TZID=America/Toronto:20230930T120000
DTSTAMP:20260421T040829
CREATED:20230929T170439Z
LAST-MODIFIED:20260403T190945Z
UID:14010-1696068000-1696075200@ville.montreal-est.qc.ca
SUMMARY:Création d'une BD collective
DESCRIPTION:Dans cet atelier d’initiation\, on apprendra les techniques des pros de la BD et on dessinera une histoire collective\, avec l’aide de l’artiste Danièle DeBlois. \nÀ vos crayons! \n10 h à 12 h – 5 ans et moins accompagnés d’un parent\n13 h 30 à 15 h 30 – jeunes de 6 ans et + \nInscription requise au 514 905-2145 (bibliothèque Micheline-Gagnon)
URL:https://ville.montreal-est.qc.ca/evenement/creation-dune-bd-collective/
LOCATION:Bibliothèque Micheline-Gagnon\, 11370\, Notre-Dame (3e étage) Montréal-Est (Québec) H1B\, Montréal-Est\, H1B 2W6\, Canada
CATEGORIES:Bibliothèque Micheline-Gagnon,Loisirs et culture
ATTACH;FMTTYPE=image/jpeg:https://ville.montreal-est.qc.ca/wp-content/uploads/2022/09/journees-de-la-culture-web.jpg
END:VEVENT
BEGIN:VEVENT
DTSTART;TZID=America/Toronto:20230930T133000
DTEND;TZID=America/Toronto:20230930T153000
DTSTAMP:20260421T040829
CREATED:20230929T170529Z
LAST-MODIFIED:20260403T190945Z
UID:14012-1696080600-1696087800@ville.montreal-est.qc.ca
SUMMARY:Création d'une BD collective
DESCRIPTION:Dans cet atelier d’initiation\, on apprendra les techniques des pros de la BD et on dessinera une histoire collective\, avec l’aide de l’artiste Danièle DeBlois. \nÀ vos crayons! \n10 h à 12 h – 5 ans et moins accompagnés d’un parent\n13 h 30 à 15 h 30 – jeunes de 6 ans et + \nInscription requise au 514 905-2145 (bibliothèque Micheline-Gagnon)
URL:https://ville.montreal-est.qc.ca/evenement/creation-dune-bd-collective-2/
LOCATION:Bibliothèque Micheline-Gagnon\, 11370\, Notre-Dame (3e étage) Montréal-Est (Québec) H1B\, Montréal-Est\, H1B 2W6\, Canada
CATEGORIES:Bibliothèque Micheline-Gagnon,Loisirs et culture
ATTACH;FMTTYPE=image/jpeg:https://ville.montreal-est.qc.ca/wp-content/uploads/2022/09/journees-de-la-culture-web.jpg
END:VEVENT
END:VCALENDAR