BEGIN:VCALENDAR
VERSION:2.0
PRODID:-//Ville de Montréal-Est - ECPv6.15.20//NONSGML v1.0//EN
CALSCALE:GREGORIAN
METHOD:PUBLISH
X-ORIGINAL-URL:https://ville.montreal-est.qc.ca
X-WR-CALDESC:Évènements pour Ville de Montréal-Est
REFRESH-INTERVAL;VALUE=DURATION:PT1H
X-Robots-Tag:noindex
X-PUBLISHED-TTL:PT1H
BEGIN:VTIMEZONE
TZID:America/Toronto
BEGIN:DAYLIGHT
TZOFFSETFROM:-0500
TZOFFSETTO:-0400
TZNAME:EDT
DTSTART:20220313T070000
END:DAYLIGHT
BEGIN:STANDARD
TZOFFSETFROM:-0400
TZOFFSETTO:-0500
TZNAME:EST
DTSTART:20221106T060000
END:STANDARD
BEGIN:DAYLIGHT
TZOFFSETFROM:-0500
TZOFFSETTO:-0400
TZNAME:EDT
DTSTART:20230312T070000
END:DAYLIGHT
BEGIN:STANDARD
TZOFFSETFROM:-0400
TZOFFSETTO:-0500
TZNAME:EST
DTSTART:20231105T060000
END:STANDARD
BEGIN:DAYLIGHT
TZOFFSETFROM:-0500
TZOFFSETTO:-0400
TZNAME:EDT
DTSTART:20240310T070000
END:DAYLIGHT
BEGIN:STANDARD
TZOFFSETFROM:-0400
TZOFFSETTO:-0500
TZNAME:EST
DTSTART:20241103T060000
END:STANDARD
END:VTIMEZONE
BEGIN:VEVENT
DTSTART;TZID=America/Toronto:20231004T160000
DTEND;TZID=America/Toronto:20231004T170000
DTSTAMP:20260421T022738
CREATED:20230929T161817Z
LAST-MODIFIED:20260403T190945Z
UID:14001-1696435200-1696438800@ville.montreal-est.qc.ca
SUMMARY:Consultation publique
DESCRIPTION:Le projet de règlement PR23-38\, sur les usages conditionnels\, fera l’objet d’une consultation publique le 4 octobre 2023\, à 16 h (salle du conseil\, au rez-de-chaussée de l’hôtel de ville). \nCe projet de règlement vise à permettre certains usages dans certaines zones. \nLa mairesse (ou un autre membre du conseil municipal) expliquera le règlement et les conséquences de son adoption. Les résidents et organismes de Montréal-Est qui désireront s’exprimer sur le sujet seront entendus. \nPour plus de détails\, consultez cet avis public.
URL:https://ville.montreal-est.qc.ca/evenement/consultation-publique-2/
CATEGORIES:Vie démocratique
ATTACH;FMTTYPE=image/png:https://ville.montreal-est.qc.ca/wp-content/uploads/2022/04/Publication_FB_consultation_1200x630.png
END:VEVENT
BEGIN:VEVENT
DTSTART;TZID=America/Toronto:20231014T094500
DTEND;TZID=America/Toronto:20231014T113000
DTSTAMP:20260421T022738
CREATED:20231011T203142Z
LAST-MODIFIED:20260403T200939Z
UID:14249-1697276700-1697283000@ville.montreal-est.qc.ca
SUMMARY:La Grande Marche de Montréal-Est
DESCRIPTION:Rendez-vous le 14 octobre\, au parc de l’Hôtel-de-Ville\, pour participer à La Grande Marche de Montréal-Est. \nC’est gratuit\, bon pour votre santé et vous choisissez la distance : 1 km ou plus! \n\n\n\nPour vous inscrire à cet événement du Grand défi Pierre Lavoie\, ouvert à tous : bit.ly/grandemarche14octVME \n\n\n\n Chapiteau du parc de l’Hôtel-de-Ville à 9 h 45\n     11370 rue Notre-Dame Est
URL:https://ville.montreal-est.qc.ca/evenement/la-grande-marche-de-montreal-est/
LOCATION:Parc de l’Hôtel-de-Ville\, 11370 Rue Notre-Dame Est\, Montréal-Est\, Québec\, H1B 2W6\, Canada
CATEGORIES:Loisirs et culture
ATTACH;FMTTYPE=image/jpeg:https://ville.montreal-est.qc.ca/wp-content/uploads/2023/10/La-Grande-Marche-web.jpg
END:VEVENT
BEGIN:VEVENT
DTSTART;TZID=America/Toronto:20231014T100000
DTEND;TZID=America/Toronto:20231014T110000
DTSTAMP:20260421T022738
CREATED:20230920T134102Z
LAST-MODIFIED:20260403T190945Z
UID:13877-1697277600-1697281200@ville.montreal-est.qc.ca
SUMMARY:Vive la famille!
DESCRIPTION:Cet atelier 1\,2\,3 saute-mouton comblera les petits 0 à 5 ans et leurs parents. \nL’événement gratuit est offert dans le cadre des samedis découvertes avec un objectif : stimuler l’intérêt des tout-petits pour les comptines\, la musique\, la danse\, la lecture et le bricolage. Les thèmes de cette année : \n\n16 septembre : le corps articulé.\n14 octobre : vive la famille.\n11 novembre : jouons avec les textures.\n\nInscription obligatoire au 514 905-2145.
URL:https://ville.montreal-est.qc.ca/evenement/vive-la-famille/
LOCATION:Bibliothèque Micheline-Gagnon\, 11370\, Notre-Dame (3e étage) Montréal-Est (Québec) H1B\, Montréal-Est\, H1B 2W6\, Canada
CATEGORIES:Bibliothèque Micheline-Gagnon,Loisirs et culture
ATTACH;FMTTYPE=image/png:https://ville.montreal-est.qc.ca/wp-content/uploads/2023/09/famille-web.png
END:VEVENT
BEGIN:VEVENT
DTSTART;TZID=America/Toronto:20231018T190000
DTEND;TZID=America/Toronto:20231018T210000
DTSTAMP:20260421T022738
CREATED:20230109T152732Z
LAST-MODIFIED:20260403T190613Z
UID:10300-1697655600-1697662800@ville.montreal-est.qc.ca
SUMMARY:Séance du conseil
DESCRIPTION:Le conseil municipal de la Ville de Montréal-Est tiendra une séance ordinaire le mercredi 18 octobre 2023 à 19 h. \nDiffusion en direct\nLien vers la séance en direct \n  \nDocuments pour la séance\nOrdre du jour\nPremier projet de règlement PR-23-39\nSecond projet de règlement PR-23-38 \n  \nPour communiquer une question à l’avance\n\nÉcrivez à servicescitoyens@montreal-est.ca\nOu laissez un message au 514 905-2000\, option 1.\n\nVous devez fournir votre nom\, vos coordonnées et mentionner si votre question s’adresse au conseil ou à un élu en particulier. \nVous avez jusqu’au 18 octobre\, à 16 h\, pour faire parvenir vos questions\, qui seront lues et répondues durant la séance. \n  \n 
URL:https://ville.montreal-est.qc.ca/evenement/seance-du-conseil-octobre-3/
CATEGORIES:Vie démocratique
END:VEVENT
BEGIN:VEVENT
DTSTART;TZID=America/Toronto:20231020T150000
DTEND;TZID=America/Toronto:20231020T173000
DTSTAMP:20260421T022738
CREATED:20231004T140450Z
LAST-MODIFIED:20260403T200938Z
UID:14099-1697814000-1697823000@ville.montreal-est.qc.ca
SUMMARY:Rencontre avec des livres vivants
DESCRIPTION:Venez discuter avec de véritables livres vivants de la communauté qui ont des histoires vraies et fascinantes à partager.\nCafé et desserts offerts. \nInscription obligatoire au 514 905-2145. \n  \n 
URL:https://ville.montreal-est.qc.ca/evenement/rencontre-avec-des-livres-vivants/
LOCATION:Bibliothèque Micheline-Gagnon\, 11370\, Notre-Dame (3e étage) Montréal-Est (Québec) H1B\, Montréal-Est\, H1B 2W6\, Canada
CATEGORIES:Bibliothèque Micheline-Gagnon,Loisirs et culture
ATTACH;FMTTYPE=image/jpeg:https://ville.montreal-est.qc.ca/wp-content/uploads/2023/10/Livres-vivants-web.jpg
END:VEVENT
BEGIN:VEVENT
DTSTART;TZID=America/Toronto:20231021T100000
DTEND;TZID=America/Toronto:20231021T120000
DTSTAMP:20260421T022738
CREATED:20231005T200512Z
LAST-MODIFIED:20260403T200939Z
UID:14158-1697882400-1697889600@ville.montreal-est.qc.ca
SUMMARY:Café avec vos élus
DESCRIPTION:Les élus de la Ville de Montréal-Est invitent les citoyens à assister à une présentation\, animée par la mairesse Anne St-Laurent\, sur l’acquisition du terrain d’Esso ainsi que divers projets de développement à venir sur notre territoire. \n\n\n\nCette présentation d’une trentaine de minutes sera suivie d’une période d’échanges entre élus et résidents. \n\nPour y participer\, rendez-vous dans la salle 1 du Centre récréatif Édouard-Rivet\, situé au 11111 rue Notre-Dame Est.
URL:https://ville.montreal-est.qc.ca/evenement/cafe-avec-vos-elus/
CATEGORIES:Vie démocratique
ATTACH;FMTTYPE=image/jpeg:https://ville.montreal-est.qc.ca/wp-content/uploads/2023/10/Cafe-web.jpg
END:VEVENT
BEGIN:VEVENT
DTSTART;TZID=America/Toronto:20231021T133000
DTEND;TZID=America/Toronto:20231021T153000
DTSTAMP:20260421T022738
CREATED:20231004T145656Z
LAST-MODIFIED:20260403T200938Z
UID:14106-1697895000-1697902200@ville.montreal-est.qc.ca
SUMMARY:Création d'une BD numérique
DESCRIPTION:Créer une bande dessinée numérique\, grâce à l’application Pixton? \nCe sera possible durant cette activité gratuite offerte aux jeunes de 6 ans et plus\, qui pourront imprimer leur chef d’œuvre. \nInscription obligatoire au 514 905-2145.
URL:https://ville.montreal-est.qc.ca/evenement/creation-dune-bd-numerique/
LOCATION:Bibliothèque Micheline-Gagnon\, 11370\, Notre-Dame (3e étage) Montréal-Est (Québec) H1B\, Montréal-Est\, H1B 2W6\, Canada
CATEGORIES:Bibliothèque Micheline-Gagnon,Loisirs et culture
ATTACH;FMTTYPE=image/jpeg:https://ville.montreal-est.qc.ca/wp-content/uploads/2023/10/boom-web.jpg
END:VEVENT
BEGIN:VEVENT
DTSTART;TZID=America/Toronto:20231024T153000
DTEND;TZID=America/Toronto:20231024T170000
DTSTAMP:20260421T022738
CREATED:20230919T175803Z
LAST-MODIFIED:20260403T200939Z
UID:14406-1698161400-1698166800@ville.montreal-est.qc.ca
SUMMARY:Jeux vidéo à la biblio
DESCRIPTION:Rendez-vous à la bibliothèque Micheline-Gagnon pour jouer à des jeux de la console Switch\, après l’école. \nPour en profiter avec tes amis ou en solo\, rendez-vous de 15 h 30 à 17 h les mardis :\n– 26 septembre\n– 24 octobre\n– 21 novembre\n– 19 décembre. \nImportant : l’inscription au 514 905-2145 est obligatoire. \nPour en savoir plus sur les autres activités gratuites de la bibliothèque\, cliquez ici.
URL:https://ville.montreal-est.qc.ca/evenement/jeux-video-a-la-biblio-2023-10-24/
LOCATION:Bibliothèque Micheline-Gagnon\, 11370\, Notre-Dame (3e étage) Montréal-Est (Québec) H1B\, Montréal-Est\, H1B 2W6\, Canada
CATEGORIES:Bibliothèque Micheline-Gagnon,Loisirs et culture
ATTACH;FMTTYPE=image/jpeg:https://ville.montreal-est.qc.ca/wp-content/uploads/2023/09/Switch-web.jpg
END:VEVENT
BEGIN:VEVENT
DTSTART;TZID=America/Toronto:20231025T133000
DTEND;TZID=America/Toronto:20231025T153000
DTSTAMP:20260421T022738
CREATED:20231102T150845Z
LAST-MODIFIED:20260403T200939Z
UID:14484-1698240600-1698247800@ville.montreal-est.qc.ca
SUMMARY:Atelier d'écriture
DESCRIPTION:Explorer les mots : c’est ce que propose l’autrice Suzanne Myre aux adultes\, le 25 octobre et le 22 novembre à 13 h 30. \nChaque atelier vous permettra de développer votre imaginaire et votre créativité par le biais d’exercices littéraires simples proposés\npar l’autrice Suzanne Myre. \nAtelier ouvert aux adultes et jeunes de 10 ans et plus.\nInscription obligatoire au 514 905-2145.
URL:https://ville.montreal-est.qc.ca/evenement/atelier-decriture-2/2023-10-25/
LOCATION:Bibliothèque Micheline-Gagnon\, 11370\, Notre-Dame (3e étage) Montréal-Est (Québec) H1B\, Montréal-Est\, H1B 2W6\, Canada
CATEGORIES:Bibliothèque Micheline-Gagnon,Loisirs et culture
ATTACH;FMTTYPE=image/jpeg:https://ville.montreal-est.qc.ca/wp-content/uploads/2023/03/Ecriture.jpg
END:VEVENT
BEGIN:VEVENT
DTSTART;TZID=America/Toronto:20231027T110000
DTEND;TZID=America/Toronto:20231027T120000
DTSTAMP:20260421T022738
CREATED:20231020T140437Z
LAST-MODIFIED:20260403T200939Z
UID:14332-1698404400-1698408000@ville.montreal-est.qc.ca
SUMMARY:Événement spécial avec Roméo Dallaire
DESCRIPTION:Le 27 octobre\, nous invitons les Montréalestois à une cérémonie spéciale 𝐞𝐧 𝐩𝐫𝐞́𝐬𝐞𝐧𝐜𝐞 𝐝𝐞 𝐥’𝐡𝐨𝐧𝐨𝐫𝐚𝐛𝐥𝐞 𝐑𝐨𝐦𝐞́𝐨 𝐃𝐚𝐥𝐥𝐚𝐢𝐫𝐞\, humanitaire dévoué et lieutenant-général retraité\, admiré dans le monde entier. \n\nUne belle occasion de rencontrer ce grand défenseur de la paix\, qui a grandi à Montréal-Est\,\net d’assister au dévoilement de sa plaque honorifique\, remise dans le cadre du programme 𝑈𝑛𝑒 𝑒́𝑡𝑜𝑖𝑙𝑒 𝑑’𝑖𝑐𝑖\, de l’Allée des célébrités canadiennes.\n\n\nLe lancement de la campagne du coquelicot aura également lieu avec les membres et vétérans de la Légion royale canadienne de Montréal-Est. \n\n\n  Monument situé derrière l’hôtel de ville (cénotaphe )
URL:https://ville.montreal-est.qc.ca/evenement/evenement-special/
CATEGORIES:Loisirs et culture
ATTACH;FMTTYPE=image/jpeg:https://ville.montreal-est.qc.ca/wp-content/uploads/2023/10/Dallaire-a-Montreal-Est.jpg
END:VEVENT
BEGIN:VEVENT
DTSTART;TZID=America/Toronto:20231028T103000
DTEND;TZID=America/Toronto:20231028T150000
DTSTAMP:20260421T022738
CREATED:20230929T171221Z
LAST-MODIFIED:20260403T190945Z
UID:14015-1698489000-1698505200@ville.montreal-est.qc.ca
SUMMARY:Déco-citrouille
DESCRIPTION:Quoi de mieux que de décorer une citrouille rigolote ou qui fait peur en prévision de l’Halloween? \nLes citrouilles sont fournies! \nInscription requise au 514 905-2145 pour cet atelier gratuit.
URL:https://ville.montreal-est.qc.ca/evenement/deco-citrouille/
LOCATION:Bibliothèque Micheline-Gagnon\, 11370\, Notre-Dame (3e étage) Montréal-Est (Québec) H1B\, Montréal-Est\, H1B 2W6\, Canada
CATEGORIES:Bibliothèque Micheline-Gagnon,Loisirs et culture
ATTACH;FMTTYPE=image/jpeg:https://ville.montreal-est.qc.ca/wp-content/uploads/2022/09/citrouille-web.jpg
END:VEVENT
BEGIN:VEVENT
DTSTART;TZID=America/Toronto:20231028T150000
DTEND;TZID=America/Toronto:20231028T170000
DTSTAMP:20260421T022738
CREATED:20230929T173249Z
LAST-MODIFIED:20260403T190946Z
UID:14020-1698505200-1698512400@ville.montreal-est.qc.ca
SUMMARY:Halloween 2023
DESCRIPTION:Le samedi 28 octobre\, rendez-vous près d’ici pour des moments inoubliables! \n– Atelier Déco-citrouille à la bibliothèque Micheline-Gagnon (10 h 30 à 15 h)\nPour décorer une citrouille rigolote ou qui fait peur en prévision de l’Halloween.\nInscription obligatoire au 514 905-2145; \n– Halloween au parc de l’Hôtel-de-Ville (15 h à 17 h)\n– Cirque\, acrobaties\, jonglage et danses d’une famille de morts vivants\n– Mascottes : Mickey Mouse\, Minnie et Aime-Est\, notre mascotte adorée\n– Distribution gratuite de bonbons\n– Photos souvenirs et d’autres surprises. \nVenez nombreux et déguisés! Événement gratuit. \n 
URL:https://ville.montreal-est.qc.ca/evenement/halloween-2023-2/
LOCATION:Parc de l’Hôtel-de-Ville\, 11370 Rue Notre-Dame Est\, Montréal-Est\, Québec\, H1B 2W6\, Canada
CATEGORIES:Bibliothèque Micheline-Gagnon,Loisirs et culture
ATTACH;FMTTYPE=image/jpeg:https://ville.montreal-est.qc.ca/wp-content/uploads/2023/09/Halloween-web-2023.jpg
END:VEVENT
BEGIN:VEVENT
DTSTART;TZID=America/Toronto:20231030T070000
DTEND;TZID=America/Toronto:20231030T073000
DTSTAMP:20260421T022738
CREATED:20230607T194535Z
LAST-MODIFIED:20260403T190941Z
UID:12202-1698649200-1698651000@ville.montreal-est.qc.ca
SUMMARY:Collecte de branches
DESCRIPTION:Les branches seront collectées tous les derniers lundis du mois\, de mai à octobre. \n\nInscription requise au plus tard le jeudi précédent la collecte\, via le 514 905-2000\, option 1 ou par courriel;\nLes branches doivent être bien cordées à l’avant de votre terrain (pas sur la voie publique) avant 7 h le jour de la collecte.
URL:https://ville.montreal-est.qc.ca/evenement/collecte-de-branches-6/2023-10-30/
ATTACH;FMTTYPE=image/jpeg:https://ville.montreal-est.qc.ca/wp-content/uploads/2022/06/Branches-web.jpg
END:VEVENT
END:VCALENDAR