BEGIN:VCALENDAR
VERSION:2.0
PRODID:-//Ville de Montréal-Est - ECPv6.15.20//NONSGML v1.0//EN
CALSCALE:GREGORIAN
METHOD:PUBLISH
X-WR-CALNAME:Ville de Montréal-Est
X-ORIGINAL-URL:https://ville.montreal-est.qc.ca
X-WR-CALDESC:Évènements pour Ville de Montréal-Est
REFRESH-INTERVAL;VALUE=DURATION:PT1H
X-Robots-Tag:noindex
X-PUBLISHED-TTL:PT1H
BEGIN:VTIMEZONE
TZID:America/Toronto
BEGIN:DAYLIGHT
TZOFFSETFROM:-0500
TZOFFSETTO:-0400
TZNAME:EDT
DTSTART:20230312T070000
END:DAYLIGHT
BEGIN:STANDARD
TZOFFSETFROM:-0400
TZOFFSETTO:-0500
TZNAME:EST
DTSTART:20231105T060000
END:STANDARD
BEGIN:DAYLIGHT
TZOFFSETFROM:-0500
TZOFFSETTO:-0400
TZNAME:EDT
DTSTART:20240310T070000
END:DAYLIGHT
BEGIN:STANDARD
TZOFFSETFROM:-0400
TZOFFSETTO:-0500
TZNAME:EST
DTSTART:20241103T060000
END:STANDARD
BEGIN:DAYLIGHT
TZOFFSETFROM:-0500
TZOFFSETTO:-0400
TZNAME:EDT
DTSTART:20250309T070000
END:DAYLIGHT
BEGIN:STANDARD
TZOFFSETFROM:-0400
TZOFFSETTO:-0500
TZNAME:EST
DTSTART:20251102T060000
END:STANDARD
END:VTIMEZONE
BEGIN:VEVENT
DTSTART;TZID=America/Toronto:20240413T133000
DTEND;TZID=America/Toronto:20240413T150000
DTSTAMP:20260420T140604
CREATED:20240201T200513Z
LAST-MODIFIED:20260403T200942Z
UID:15348-1713015000-1713020400@ville.montreal-est.qc.ca
SUMMARY:L'aventure dont vous êtes le héros
DESCRIPTION:Comme dans les Livres dont vous êtes le héros\, tu devras faire des choix pour réussir une quête en surmontant des épreuves et en relevant différents défis physiques\, en groupe. \nÉquilibre\, agilité et créativité seront tes meilleures alliées. \nActivités offerts aux enfants âgés de 8 à 12 ans.\nInscription requise auprès de la bibliothèque (514 905-2145).
URL:https://ville.montreal-est.qc.ca/evenement/laventure-dont-vous-etes-le-heros/
LOCATION:Bibliothèque Micheline-Gagnon\, 11370\, Notre-Dame (3e étage) Montréal-Est (Québec) H1B\, Montréal-Est\, H1B 2W6\, Canada
CATEGORIES:Bibliothèque Micheline-Gagnon,Loisirs et culture
ATTACH;FMTTYPE=image/jpeg:https://ville.montreal-est.qc.ca/wp-content/uploads/2024/02/Heros-web.jpg
END:VEVENT
BEGIN:VEVENT
DTSTART;TZID=America/Toronto:20240417T133000
DTEND;TZID=America/Toronto:20240417T150000
DTSTAMP:20260420T140604
CREATED:20240201T203029Z
LAST-MODIFIED:20260403T200943Z
UID:15364-1713360600-1713366000@ville.montreal-est.qc.ca
SUMMARY:Pretnumerique.ca
DESCRIPTION:Une formation pour apprendre à accéder à votre bibliothèque numérique de 5000 livres (nouveautés\, BD\, livres de cuisine\, classiques de la littérature\, etc.). \nInscription requise au 514 905-2145 pour cet atelier offert aux adultes.
URL:https://ville.montreal-est.qc.ca/evenement/pretnumerique-ca/
LOCATION:Bibliothèque Micheline-Gagnon\, 11370\, Notre-Dame (3e étage) Montréal-Est (Québec) H1B\, Montréal-Est\, H1B 2W6\, Canada
CATEGORIES:Bibliothèque Micheline-Gagnon,Loisirs et culture
ATTACH;FMTTYPE=image/png:https://ville.montreal-est.qc.ca/wp-content/uploads/2024/02/50B3B21.png
END:VEVENT
BEGIN:VEVENT
DTSTART;TZID=America/Toronto:20240417T190000
DTEND;TZID=America/Toronto:20240417T203000
DTSTAMP:20260420T140604
CREATED:20231221T161309Z
LAST-MODIFIED:20260403T200940Z
UID:14981-1713380400-1713385800@ville.montreal-est.qc.ca
SUMMARY:Séance du conseil
DESCRIPTION:Le conseil municipal de la Ville de Montréal-Est tiendra une séance ordinaire le mercredi 17 avril 2024 à 19 h.\nL’événement se déroulera exceptionnellement au CRÉR\, situé au 11111 rue Notre-Dame (salle 1) et inclura une présentation spéciale du projet 40NetZERO. \nDiffusion en direct\nLien vers la séance en direct \nLien vers la séance – Rediffusion \nDocuments pour la séance\nOrdre du jour \nRèglement 739-14 \nProjet de règlement PR24-08 \nPour communiquer une question à l’avance\n\nÉcrivez à servicescitoyens@montreal-est.ca\nOu laissez un message au 514 905-2000\, option 1.\n\nVous devez fournir votre nom\, vos coordonnées et mentionner si votre question s’adresse au conseil ou à un élu en particulier. \nVous avez jusqu’au 17 avril\, à 16 h\, pour faire parvenir vos questions\, qui seront lues et répondues durant la séance. \n  \n 
URL:https://ville.montreal-est.qc.ca/evenement/seance-du-conseil-4/
CATEGORIES:Vie démocratique
END:VEVENT
BEGIN:VEVENT
DTSTART;TZID=America/Toronto:20240421T100000
DTEND;TZID=America/Toronto:20240421T160000
DTSTAMP:20260420T140604
CREATED:20230214T183920Z
LAST-MODIFIED:20260403T190609Z
UID:10847-1713693600-1713715200@ville.montreal-est.qc.ca
SUMMARY:Fête de l'érable
DESCRIPTION:Venez vous sucrer le bec\, en famille ou entre amis\, le 21 avril! \nAu menu de ce bel événement qui va en ravir plus d’un : \n 𝗧𝗶𝗿𝗲 𝗱’𝗲́𝗿𝗮𝗯𝗹𝗲 sur neige\n 𝘾𝙖𝙧𝙧𝙤𝙪𝙨𝙚𝙡 𝙙𝙚 𝙥𝙤𝙣𝙚𝙮𝙨 \n\n 𝗧𝗿𝗮𝗶𝗻 𝗲́𝗹𝗲𝗰𝘁𝗿𝗶𝗾𝘂𝗲 pour une balade inoubliable\n 𝗙𝗲𝗿𝗺𝗲 𝗺𝗼𝗯𝗶𝗹𝗲 avec plusieurs animaux adorables \n\n Méga-𝗽𝗮𝗿𝗰𝗼𝘂𝗿𝘀 𝗱’𝗼𝗯𝘀𝘁𝗮𝗰𝗹𝗲𝘀\n Compétitions amicales de 𝗱𝗮𝗻𝘀𝗲 et de 𝗵𝘂𝗹𝗮 𝗵𝗼𝗼𝗽. \n\n\nEt d’autres 𝒔𝒖𝒓𝒑𝒓𝒊𝒔𝒆𝒔 pour les participants!\nPour plus de détails\, consultez notre événement Facebook : bit.ly/fetedelerable2024. \nÉvénement gratuit ouvert à tous.
URL:https://ville.montreal-est.qc.ca/evenement/fete-de-lerable/
LOCATION:Parc de l’Hôtel-de-Ville\, 11370 Rue Notre-Dame Est\, Montréal-Est\, Québec\, H1B 2W6\, Canada
CATEGORIES:Loisirs et culture
ATTACH;FMTTYPE=image/jpeg:https://ville.montreal-est.qc.ca/wp-content/uploads/2023/02/MTL_EST_cabane_sucree_1200x630.jpg
END:VEVENT
BEGIN:VEVENT
DTSTART;TZID=America/Toronto:20240423T153000
DTEND;TZID=America/Toronto:20240423T170000
DTSTAMP:20260420T140604
CREATED:20240111T164149Z
LAST-MODIFIED:20260403T200943Z
UID:15599-1713886200-1713891600@ville.montreal-est.qc.ca
SUMMARY:Jeux vidéo à la biblio
DESCRIPTION:Rendez-vous à la bibliothèque Micheline-Gagnon pour jouer à des jeux sur la console Switch\, après l’école. \nPour en profiter avec tes amis ou en solo\, rendez-vous de 15 h 30 à 17 h les mardis :\n– 30 janvier\n– 27 février\n– 26 mars\n– 23 avril\n– 21 mai. \nImportant : l’inscription au 514 905-2145 est obligatoire. \nPour en savoir plus sur les autres activités gratuites de la bibliothèque\, cliquez ici.
URL:https://ville.montreal-est.qc.ca/evenement/jeux-video-a-la-biblio-2024/2024-04-23/
LOCATION:Bibliothèque Micheline-Gagnon\, 11370\, Notre-Dame (3e étage) Montréal-Est (Québec) H1B\, Montréal-Est\, H1B 2W6\, Canada
CATEGORIES:Bibliothèque Micheline-Gagnon,Loisirs et culture
ATTACH;FMTTYPE=image/jpeg:https://ville.montreal-est.qc.ca/wp-content/uploads/2023/09/Switch-web.jpg
END:VEVENT
END:VCALENDAR