BEGIN:VCALENDAR
VERSION:2.0
PRODID:-//Ville de Montréal-Est - ECPv6.15.17.1//NONSGML v1.0//EN
CALSCALE:GREGORIAN
METHOD:PUBLISH
X-WR-CALNAME:Ville de Montréal-Est
X-ORIGINAL-URL:https://ville.montreal-est.qc.ca
X-WR-CALDESC:Évènements pour Ville de Montréal-Est
REFRESH-INTERVAL;VALUE=DURATION:PT1H
X-Robots-Tag:noindex
X-PUBLISHED-TTL:PT1H
BEGIN:VTIMEZONE
TZID:America/Toronto
BEGIN:DAYLIGHT
TZOFFSETFROM:-0500
TZOFFSETTO:-0400
TZNAME:EDT
DTSTART:20230312T070000
END:DAYLIGHT
BEGIN:STANDARD
TZOFFSETFROM:-0400
TZOFFSETTO:-0500
TZNAME:EST
DTSTART:20231105T060000
END:STANDARD
BEGIN:DAYLIGHT
TZOFFSETFROM:-0500
TZOFFSETTO:-0400
TZNAME:EDT
DTSTART:20240310T070000
END:DAYLIGHT
BEGIN:STANDARD
TZOFFSETFROM:-0400
TZOFFSETTO:-0500
TZNAME:EST
DTSTART:20241103T060000
END:STANDARD
BEGIN:DAYLIGHT
TZOFFSETFROM:-0500
TZOFFSETTO:-0400
TZNAME:EDT
DTSTART:20250309T070000
END:DAYLIGHT
BEGIN:STANDARD
TZOFFSETFROM:-0400
TZOFFSETTO:-0500
TZNAME:EST
DTSTART:20251102T060000
END:STANDARD
END:VTIMEZONE
BEGIN:VEVENT
DTSTART;TZID=America/Toronto:20240904T193000
DTEND;TZID=America/Toronto:20240904T203000
DTSTAMP:20260419T125100
CREATED:20240627T185753Z
LAST-MODIFIED:20260403T210938Z
UID:16717-1725478200-1725481800@ville.montreal-est.qc.ca
SUMMARY:Boot camp
DESCRIPTION:Ce circuit cardio-dynamique offre des exercices musculaires fonctionnels avec l’utilisation de matériel (poids\, échelle d’agilité\, blocs\, etc.). Tous les muscles de votre corps\, votre agilité\, votre équilibre ainsi que votre endurance cardiorespiratoire seront mis à l’épreuve. Une activité variée et divertissante! \nActivité gratuite offerte les mercredis à 19 h 30\, au parc de l’Hôtel-de-Ville (aucune inscription requise). \nIndispensables à apporter : tenue sportive\, tapis et bouteille d’eau. \nActivité organisée en collaboration avec le centre récréatif Édouard-Rivet dans le cadre des rendez-vous sportifs de l’été.
URL:https://ville.montreal-est.qc.ca/evenement/les-rendez-vous-sportifs-boot-camp/2024-09-04/
LOCATION:Parc de l’Hôtel-de-Ville\, 11370 Rue Notre-Dame Est\, Montréal-Est\, Québec\, H1B 2W6\, Canada
CATEGORIES:Loisirs et culture
ATTACH;FMTTYPE=image/jpeg:https://ville.montreal-est.qc.ca/wp-content/uploads/2024/06/Boootcamp-web.jpg
END:VEVENT
BEGIN:VEVENT
DTSTART;TZID=America/Toronto:20240918T190000
DTEND;TZID=America/Toronto:20240918T203000
DTSTAMP:20260419T125100
CREATED:20231221T161733Z
LAST-MODIFIED:20260403T200940Z
UID:14991-1726686000-1726691400@ville.montreal-est.qc.ca
SUMMARY:Séance du conseil
DESCRIPTION:Le conseil municipal de la Ville de Montréal-Est tiendra une séance ordinaire le mercredi 18 septembre 2024 à 19 h. \nDiffusion en direct\nLien vers la séance en direct \nLien vers la séance – Rediffusion \nDocuments pour la séance\nOrdre du jour\nRèglement 117-2024\nProjet de règlement PR24-22 \n  \nPour communiquer une question à l’avance\n\nÉcrivez à servicescitoyens@montreal-est.ca\nOu laissez un message au 514 905-2000\, option 1.\n\nVous devez fournir votre nom\, vos coordonnées et mentionner si votre question s’adresse au conseil ou à un élu en particulier. \nVous avez jusqu’au 18 septembre\, à 16 h\, pour faire parvenir vos questions\, qui seront lues et répondues durant la séance. \n  \n 
URL:https://ville.montreal-est.qc.ca/evenement/seance-du-conseil-9/
CATEGORIES:Vie démocratique
END:VEVENT
BEGIN:VEVENT
DTSTART;TZID=America/Toronto:20240927T133000
DTEND;TZID=America/Toronto:20240927T143000
DTSTAMP:20260419T125100
CREATED:20240913T145432Z
LAST-MODIFIED:20260403T220939Z
UID:17971-1727443800-1727447400@ville.montreal-est.qc.ca
SUMMARY:L'artiste Lilison à l'honneur
DESCRIPTION:Venez à la rencontre d’un artiste montréalestois aux mille talents\, dans le cadre des Journées de la culture. \nLilison\, M’Bari di Kinari de son vrai nom\, est un musicien multi-instrumentiste à la fois peintre et poète qui partagera ses expériences culturelles et artistiques\, pour l’occasion. \nActivité gratuite offerte aux adultes résidant à Montréal-Est (places limitées). \nInscription obligatoire auprès de la bibliothèque Micheline-Gagnon (514 905-2145). Pour plus de détails\, cliquez ici. \n 
URL:https://ville.montreal-est.qc.ca/evenement/lartiste-lilison-a-lhonneur/
LOCATION:Bibliothèque Micheline-Gagnon\, 11370\, Notre-Dame (3e étage) Montréal-Est (Québec) H1B\, Montréal-Est\, H1B 2W6\, Canada
CATEGORIES:Bibliothèque Micheline-Gagnon
ATTACH;FMTTYPE=image/png:https://ville.montreal-est.qc.ca/wp-content/uploads/2024/09/BIBLIO_A2024_JOURNEES-CULTURE_001.png
END:VEVENT
BEGIN:VEVENT
DTSTART;TZID=America/Toronto:20240928T133000
DTEND;TZID=America/Toronto:20240928T153000
DTSTAMP:20260419T125100
CREATED:20240913T150050Z
LAST-MODIFIED:20260403T220939Z
UID:17974-1727530200-1727537400@ville.montreal-est.qc.ca
SUMMARY:Marcelle Ferron\, une vie colorée
DESCRIPTION:En hommage à Marcelle Ferron\, l’autrice Marie Barguirdjian présente aux 6-12 ans son album Marcelle Ferron : une vie colorée. \nLes jeunes créeront une œuvre collective inspirée par cette grande peintre et sculptrice\, considérée comme une pionnière de l’art abstrait au Québec\, qui aurait eu 100 ans en 2024. \nActivité gratuite offerte aux jeunes de Montréal-Est (places limitées). \nInscription obligatoire auprès de la bibliothèque Micheline-Gagnon (514 905-2145). Pour plus de détails\, cliquez ici. \n 
URL:https://ville.montreal-est.qc.ca/evenement/marcelel-ferron-une-vie-coloree/
LOCATION:Bibliothèque Micheline-Gagnon\, 11370\, Notre-Dame (3e étage) Montréal-Est (Québec) H1B\, Montréal-Est\, H1B 2W6\, Canada
CATEGORIES:Bibliothèque Micheline-Gagnon
ATTACH;FMTTYPE=image/png:https://ville.montreal-est.qc.ca/wp-content/uploads/2024/09/BIBLIO_A2024_JOURNEES-CULTURE_002.png
END:VEVENT
BEGIN:VEVENT
DTSTART;TZID=America/Toronto:20240930T170000
DTEND;TZID=America/Toronto:20240930T180000
DTSTAMP:20260419T125100
CREATED:20240927T160404Z
LAST-MODIFIED:20260403T220940Z
UID:18111-1727715600-1727719200@ville.montreal-est.qc.ca
SUMMARY:Séance extraordinaire
DESCRIPTION:Le conseil municipal de la Ville de Montréal-Est tiendra une séance extraordinaire le lundi 30 septembre 2024 à 17 h. \n  \n  \nDocuments pour la séance\nOrdre du jour\nRèglement 118-2024 \nPour communiquer une question à l’avance\n\nÉcrivez à servicescitoyens@montreal-est.ca\nOu laissez un message au 514 905-2000\, option 1.\n\nVous devez fournir votre nom\, vos coordonnées et mentionner si votre question s’adresse au conseil ou à un élu en particulier. \nVous avez jusqu’au 30 septembre\, à 14 h\, pour faire parvenir vos questions\, qui seront lues et répondues durant la séance.
URL:https://ville.montreal-est.qc.ca/evenement/18111/
ORGANIZER;CN="Ville de Montr%C3%A9al-Est":MAILTO:servicescitoyens@montreal-est.ca
END:VEVENT
END:VCALENDAR