BEGIN:VCALENDAR
VERSION:2.0
PRODID:-//Ville de Montréal-Est - ECPv6.15.17.1//NONSGML v1.0//EN
CALSCALE:GREGORIAN
METHOD:PUBLISH
X-ORIGINAL-URL:https://ville.montreal-est.qc.ca
X-WR-CALDESC:Évènements pour Ville de Montréal-Est
REFRESH-INTERVAL;VALUE=DURATION:PT1H
X-Robots-Tag:noindex
X-PUBLISHED-TTL:PT1H
BEGIN:VTIMEZONE
TZID:America/Toronto
BEGIN:DAYLIGHT
TZOFFSETFROM:-0500
TZOFFSETTO:-0400
TZNAME:EDT
DTSTART:20230312T070000
END:DAYLIGHT
BEGIN:STANDARD
TZOFFSETFROM:-0400
TZOFFSETTO:-0500
TZNAME:EST
DTSTART:20231105T060000
END:STANDARD
BEGIN:DAYLIGHT
TZOFFSETFROM:-0500
TZOFFSETTO:-0400
TZNAME:EDT
DTSTART:20240310T070000
END:DAYLIGHT
BEGIN:STANDARD
TZOFFSETFROM:-0400
TZOFFSETTO:-0500
TZNAME:EST
DTSTART:20241103T060000
END:STANDARD
BEGIN:DAYLIGHT
TZOFFSETFROM:-0500
TZOFFSETTO:-0400
TZNAME:EDT
DTSTART:20250309T070000
END:DAYLIGHT
BEGIN:STANDARD
TZOFFSETFROM:-0400
TZOFFSETTO:-0500
TZNAME:EST
DTSTART:20251102T060000
END:STANDARD
END:VTIMEZONE
BEGIN:VEVENT
DTSTART;TZID=America/Toronto:20241016T190000
DTEND;TZID=America/Toronto:20241016T203000
DTSTAMP:20260419T111632
CREATED:20231221T161823Z
LAST-MODIFIED:20260403T200940Z
UID:14993-1729105200-1729110600@ville.montreal-est.qc.ca
SUMMARY:Séance du conseil : 16 octobre 2024
DESCRIPTION:Le conseil municipal de la Ville de Montréal-Est tiendra une séance ordinaire le mercredi 16 octobre 2024 à 19 h. \nDiffusion en direct\nLien vers la séance en direct \nLien vers la séance – Rediffusion \nDocuments pour la séance\nOrdre du jour \nProjet de règlement PR24-24 \nProjet de règlement PR24-25 \nProjet de règlement PR24-26 \n  \n  \nPour communiquer une question à l’avance\n\nÉcrivez à servicescitoyens@montreal-est.ca\nOu laissez un message au 514 905-2000\, option 1.\n\nVous devez fournir votre nom\, vos coordonnées et mentionner si votre question s’adresse au conseil ou à un élu en particulier. \nVous avez jusqu’au 16 octobre\, à 16 h\, pour faire parvenir vos questions\, qui seront lues et répondues durant la séance. \n  \n 
URL:https://ville.montreal-est.qc.ca/evenement/seance-du-conseil-10/
CATEGORIES:Vie démocratique
END:VEVENT
BEGIN:VEVENT
DTSTART;TZID=America/Toronto:20241031T170000
DTEND;TZID=America/Toronto:20241031T203000
DTSTAMP:20260419T111632
CREATED:20241022T154131Z
LAST-MODIFIED:20260403T220940Z
UID:18220-1730394000-1730406600@ville.montreal-est.qc.ca
SUMMARY:Halloween 2024
DESCRIPTION:Le jeudi 31 octobre\, venez découvrir l’Espace enchanté : un incontournable à votre parcours d’Halloween! \n𝐇𝐚𝐥𝐥𝐨𝐰𝐞𝐞𝐧 𝐚𝐮 𝐏𝐚𝐫𝐜 𝐝𝐞𝐬 𝐕𝐞́𝐭𝐞́𝐫𝐚𝐧𝐬 (𝟏𝟕 𝐡 𝐚̀ 𝟐𝟎 𝐡 𝟑𝟎)\n\nEnfilez vos costumes et venez :\n\nRécolter des bonbons\nDécouvrir le parc décoré et transformé en Espace enchanté\nAdmirer l’exposition de citrouilles\nRevivre l’engouement des années 50 avec Le Grand Zoltar : l’impressionnant distributeur de bonne aventure\n\nEt pour les plus téméraires\, relevez le défi du Chalet des cauchemars animé par des personnages réels des plus ténébreux et effrayants!\n\nTous les détails ici : https://www.facebook.com/share/Hj6cbnyueSaU5viK/ \nHoraire de la navette en continu (Parc Montréal-Est / Parc des Vétérans) : HORAIRE
URL:https://ville.montreal-est.qc.ca/evenement/halloween/
LOCATION:Parc des Vétérans\, 312\, avenue des Vétérans\, Montréal-Est\, Québec\, H1B 5B7\, Canada
CATEGORIES:Loisirs et culture
ATTACH;FMTTYPE=image/jpeg:https://ville.montreal-est.qc.ca/wp-content/uploads/2024/10/MTL_EST_media_Halloween_500x262v1.jpg
ORGANIZER;CN="Ville de Montr%C3%A9al-Est":MAILTO:servicescitoyens@montreal-est.ca
END:VEVENT
END:VCALENDAR