BEGIN:VCALENDAR
VERSION:2.0
PRODID:-//Ville de Montréal-Est - ECPv6.15.20//NONSGML v1.0//EN
CALSCALE:GREGORIAN
METHOD:PUBLISH
X-WR-CALNAME:Ville de Montréal-Est
X-ORIGINAL-URL:https://ville.montreal-est.qc.ca
X-WR-CALDESC:Évènements pour Ville de Montréal-Est
REFRESH-INTERVAL;VALUE=DURATION:PT1H
X-Robots-Tag:noindex
X-PUBLISHED-TTL:PT1H
BEGIN:VTIMEZONE
TZID:America/Toronto
BEGIN:DAYLIGHT
TZOFFSETFROM:-0500
TZOFFSETTO:-0400
TZNAME:EDT
DTSTART:20220313T070000
END:DAYLIGHT
BEGIN:STANDARD
TZOFFSETFROM:-0400
TZOFFSETTO:-0500
TZNAME:EST
DTSTART:20221106T060000
END:STANDARD
BEGIN:DAYLIGHT
TZOFFSETFROM:-0500
TZOFFSETTO:-0400
TZNAME:EDT
DTSTART:20230312T070000
END:DAYLIGHT
BEGIN:STANDARD
TZOFFSETFROM:-0400
TZOFFSETTO:-0500
TZNAME:EST
DTSTART:20231105T060000
END:STANDARD
BEGIN:DAYLIGHT
TZOFFSETFROM:-0500
TZOFFSETTO:-0400
TZNAME:EDT
DTSTART:20240310T070000
END:DAYLIGHT
BEGIN:STANDARD
TZOFFSETFROM:-0400
TZOFFSETTO:-0500
TZNAME:EST
DTSTART:20241103T060000
END:STANDARD
END:VTIMEZONE
BEGIN:VEVENT
DTSTART;TZID=America/Toronto:20230116T080000
DTEND;TZID=America/Toronto:20230402T210000
DTSTAMP:20260422T225851
CREATED:20221128T193038Z
LAST-MODIFIED:20260403T180938Z
UID:9753-1673856000-1680469200@ville.montreal-est.qc.ca
SUMMARY:Session d'hiver au CRÉR
DESCRIPTION:70 activités pour tous les goûts : c’est l’éventail de choix que vous offre le centre récréatif Édouard-Rivet pour rester en forme\, cet hiver. \nEn plus des classiques pour petits et grands (sports\, activités aquatiques)\, des nouveautés vous attendent pour mieux braver le froid : cardio-vélo\, drumfit\, kickboxing\, improvisation\, jui-jitsu\, tabata\, yoga restauratif\, volleyball et bien plus! \nTous les détails ici : https://crer.me \nPour en savoir plus\, composez le 514 905-2105.
URL:https://ville.montreal-est.qc.ca/evenement/session-dhiver-au-crer/
CATEGORIES:Loisirs et culture
ATTACH;FMTTYPE=image/jpeg:https://ville.montreal-est.qc.ca/wp-content/uploads/2022/12/Sport-illustration.jpg
END:VEVENT
BEGIN:VEVENT
DTSTART;TZID=America/Toronto:20230204T130000
DTEND;TZID=America/Toronto:20230204T170000
DTSTAMP:20260422T225851
CREATED:20230110T213103Z
LAST-MODIFIED:20260403T190612Z
UID:10332-1675515600-1675530000@ville.montreal-est.qc.ca
SUMMARY:Classique hivernale
DESCRIPTION:Jeux géants\, patinoire\, glissades\, animations\, beignes et plus : ne manquez pas notre Classique hivernale\, le 4 février! \nAu menu de cet événement gratuit qui se déroulera au parc de l’Hôtel-de-Ville de 13 h à 17 h : \n Jeux géants\n Animations de l’excellent Pat Patinfou\, cascadeur clownesque en skis\, patins ou raquettes\n Glissades\n Patinoire (apportez vos patins)\n Cours de mise en forme à 13 h30\, 14 h 30 et 15 h 30\n Spectacle du groupe Sonic 5 à 16 h \n Beignes d’antan et d’autres surprises!\n Tirage vers 15 h 45 avec de superbes prix de participation à la clé.\n  \n\n À GAGNER : \n\n• 2 billets pour le match Canadiens c. Devils du New Jersey (11 mars à 19 h) dans la section Desjardins – nourriture et boissons non alcoolisées offertes\n• 4 billets pour le spectacle Disney sur glace (3 mars à 19 h)\n• 4 billets pour assister au concours d’habiletés des Canadiens (19 février à 10 h)\n• 1 séjour de 2 à 4 personnes (coffret prestige 𝑅𝑒̂𝑣𝑒𝑠 𝑒𝑡 𝑐ℎ𝑎𝑙𝑒𝑡𝑠 – 15 destinations au choix)\n 
URL:https://ville.montreal-est.qc.ca/evenement/classique-hivernale-de-montreal-est/
LOCATION:Parc de l’Hôtel-de-Ville\, 11370 Rue Notre-Dame Est\, Montréal-Est\, Québec\, H1B 2W6\, Canada
CATEGORIES:Loisirs et culture
ATTACH;FMTTYPE=image/jpeg:https://ville.montreal-est.qc.ca/wp-content/uploads/2023/01/Rdv-hivernal-2.jpg
END:VEVENT
BEGIN:VEVENT
DTSTART;TZID=America/Toronto:20230204T133000
DTEND;TZID=America/Toronto:20230204T160000
DTSTAMP:20260422T225851
CREATED:20230201T211411Z
LAST-MODIFIED:20260403T190610Z
UID:10632-1675517400-1675526400@ville.montreal-est.qc.ca
SUMMARY:Samedi jeux
DESCRIPTION:Rendez-vous à la bibliothèque Micheline-Gagnon pour un après-midi de jeux de société en famille ou entre amis! \nPour profiter des nouveautés de la bibliothèque et découvrir des concepts différents\, il suffit de composer le 514 905-2145 et de s’inscrire.
URL:https://ville.montreal-est.qc.ca/evenement/samedi-jeux-2/2023-02-04/
LOCATION:Bibliothèque Micheline-Gagnon\, 11370\, Notre-Dame (3e étage) Montréal-Est (Québec) H1B\, Montréal-Est\, H1B 2W6\, Canada
CATEGORIES:Bibliothèque Micheline-Gagnon,Loisirs et culture
ATTACH;FMTTYPE=image/jpeg:https://ville.montreal-est.qc.ca/wp-content/uploads/2023/02/Samedi-jeux.PNG.jpg
END:VEVENT
END:VCALENDAR