BEGIN:VCALENDAR
VERSION:2.0
PRODID:-//Ville de Montréal-Est - ECPv6.15.20//NONSGML v1.0//EN
CALSCALE:GREGORIAN
METHOD:PUBLISH
X-WR-CALNAME:Ville de Montréal-Est
X-ORIGINAL-URL:https://ville.montreal-est.qc.ca
X-WR-CALDESC:Évènements pour Ville de Montréal-Est
REFRESH-INTERVAL;VALUE=DURATION:PT1H
X-Robots-Tag:noindex
X-PUBLISHED-TTL:PT1H
BEGIN:VTIMEZONE
TZID:America/Toronto
BEGIN:DAYLIGHT
TZOFFSETFROM:-0500
TZOFFSETTO:-0400
TZNAME:EDT
DTSTART:20220313T070000
END:DAYLIGHT
BEGIN:STANDARD
TZOFFSETFROM:-0400
TZOFFSETTO:-0500
TZNAME:EST
DTSTART:20221106T060000
END:STANDARD
BEGIN:DAYLIGHT
TZOFFSETFROM:-0500
TZOFFSETTO:-0400
TZNAME:EDT
DTSTART:20230312T070000
END:DAYLIGHT
BEGIN:STANDARD
TZOFFSETFROM:-0400
TZOFFSETTO:-0500
TZNAME:EST
DTSTART:20231105T060000
END:STANDARD
BEGIN:DAYLIGHT
TZOFFSETFROM:-0500
TZOFFSETTO:-0400
TZNAME:EDT
DTSTART:20240310T070000
END:DAYLIGHT
BEGIN:STANDARD
TZOFFSETFROM:-0400
TZOFFSETTO:-0500
TZNAME:EST
DTSTART:20241103T060000
END:STANDARD
END:VTIMEZONE
BEGIN:VEVENT
DTSTART;TZID=America/Toronto:20230417T080000
DTEND;TZID=America/Toronto:20230612T210000
DTSTAMP:20260422T175142
CREATED:20230403T184218Z
LAST-MODIFIED:20260403T190607Z
UID:11529-1681718400-1686603600@ville.montreal-est.qc.ca
SUMMARY:Session de printemps au CRÉR
DESCRIPTION:70 activités pour tous les goûts : c’est l’éventail de choix que vous offre le centre récréatif Édouard-Rivet pour rester en forme\, ce printemps. \nEn plus des classiques pour petits et grands (sports\, activités aquatiques)\, des nouveautés vous attendent au 11111 rue Notre-Dame : cardio-vélo\, drumfit\, kickboxing\, improvisation\, jui-jitsu\, tabata\, yoga restauratif\, volleyball et bien plus! \nTous les détails ici : https://crer.me \nPour en savoir plus\, composez le 514 905-2105.
URL:https://ville.montreal-est.qc.ca/evenement/session-de-printemps-au-crer/
CATEGORIES:Loisirs et culture
ATTACH;FMTTYPE=image/jpeg:https://ville.montreal-est.qc.ca/wp-content/uploads/2022/12/Sport-illustration.jpg
END:VEVENT
BEGIN:VEVENT
DTSTART;TZID=America/Toronto:20230527T100000
DTEND;TZID=America/Toronto:20230527T110000
DTSTAMP:20260422T175142
CREATED:20230207T155035Z
LAST-MODIFIED:20260403T190609Z
UID:10780-1685181600-1685185200@ville.montreal-est.qc.ca
SUMMARY:En avant la musique!
DESCRIPTION:Dans une belle ambiance\, les ateliers 1\,2\,3 saute-moutons stimulent l’intérêt pour la lecture\, les comptines\, la danse et le bricolage chez les enfants de 0 à 5 ans. \nLe thème de l’atelier du 27 mai\, animé par la conteuse Danielle Loiseau : en avant la musique! \nUne activité gratuite et créative qui comblera les plus jeunes et leurs parents. \nInscription obligatoire au 514 905-2145. \n  \n  \n  \n  \n  \n 
URL:https://ville.montreal-est.qc.ca/evenement/en-avant-la-musique/
LOCATION:Bibliothèque Micheline-Gagnon\, 11370\, Notre-Dame (3e étage) Montréal-Est (Québec) H1B\, Montréal-Est\, H1B 2W6\, Canada
CATEGORIES:Bibliothèque Micheline-Gagnon,Loisirs et culture
ATTACH;FMTTYPE=image/jpeg:https://ville.montreal-est.qc.ca/wp-content/uploads/2023/02/Musique-casque.jpg
END:VEVENT
BEGIN:VEVENT
DTSTART;TZID=America/Toronto:20230527T133000
DTEND;TZID=America/Toronto:20230527T150000
DTSTAMP:20260422T175142
CREATED:20230302T170145Z
LAST-MODIFIED:20260403T190608Z
UID:11128-1685194200-1685199600@ville.montreal-est.qc.ca
SUMMARY:Fabrication de cerfs-volants
DESCRIPTION:Un atelier pour fabriquer son propre cerf-volant et être prêt à jouer dehors\, avec les beaux jours qui arrivent à grands pas. \nPour les jeunes intéressés (6 ans et plus)\, rendez-vous le 27 mai à 13 h 30\, à la bibliothèque Micheline-Gagnon. \nInscription obligatoire au 514 905-2145.
URL:https://ville.montreal-est.qc.ca/evenement/fabrication-de-cerfs-volants/
LOCATION:Bibliothèque Micheline-Gagnon\, 11370\, Notre-Dame (3e étage) Montréal-Est (Québec) H1B\, Montréal-Est\, H1B 2W6\, Canada
CATEGORIES:Bibliothèque Micheline-Gagnon,Loisirs et culture
ATTACH;FMTTYPE=image/jpeg:https://ville.montreal-est.qc.ca/wp-content/uploads/2023/03/Cerf-volant.jpg
END:VEVENT
END:VCALENDAR