BEGIN:VCALENDAR
VERSION:2.0
PRODID:-//Ville de Montréal-Est - ECPv6.15.20//NONSGML v1.0//EN
CALSCALE:GREGORIAN
METHOD:PUBLISH
X-ORIGINAL-URL:https://ville.montreal-est.qc.ca
X-WR-CALDESC:Évènements pour Ville de Montréal-Est
REFRESH-INTERVAL;VALUE=DURATION:PT1H
X-Robots-Tag:noindex
X-PUBLISHED-TTL:PT1H
BEGIN:VTIMEZONE
TZID:America/Toronto
BEGIN:DAYLIGHT
TZOFFSETFROM:-0500
TZOFFSETTO:-0400
TZNAME:EDT
DTSTART:20220313T070000
END:DAYLIGHT
BEGIN:STANDARD
TZOFFSETFROM:-0400
TZOFFSETTO:-0500
TZNAME:EST
DTSTART:20221106T060000
END:STANDARD
BEGIN:DAYLIGHT
TZOFFSETFROM:-0500
TZOFFSETTO:-0400
TZNAME:EDT
DTSTART:20230312T070000
END:DAYLIGHT
BEGIN:STANDARD
TZOFFSETFROM:-0400
TZOFFSETTO:-0500
TZNAME:EST
DTSTART:20231105T060000
END:STANDARD
BEGIN:DAYLIGHT
TZOFFSETFROM:-0500
TZOFFSETTO:-0400
TZNAME:EDT
DTSTART:20240310T070000
END:DAYLIGHT
BEGIN:STANDARD
TZOFFSETFROM:-0400
TZOFFSETTO:-0500
TZNAME:EST
DTSTART:20241103T060000
END:STANDARD
END:VTIMEZONE
BEGIN:VEVENT
DTSTART;TZID=America/Toronto:20230617T090000
DTEND;TZID=America/Toronto:20230825T190000
DTSTAMP:20260422T162014
CREATED:20230612T193954Z
LAST-MODIFIED:20260403T190941Z
UID:12224-1686992400-1692990000@ville.montreal-est.qc.ca
SUMMARY:Club de lecture de l'été
DESCRIPTION:Cet l’été\, les jeunes sont invités à participer au Club de lecture estival à la bibliothèque Micheline-Gagnon. \nLe 17 juin\, les enfants qui participeront au lancement du Club de lecture\, entre 10 h et 16 h\, recevront gratuitement la trousse du Club\, jardineront et recevront des prix de présence! \nTout l’été\, chaque enfant inscrit au Club de lecture recevra un livret d’activités\, un carnet de lecteur et courra la chance de gagner de nombreux prix. \nPour participer et en savoir plus\, rendez-vous à la bibliothèque Micheline-Gagnon du 17 juin au 25 août ou composez le 514 905-2145.\nÀ vos marques\, prêts\, lisez !
URL:https://ville.montreal-est.qc.ca/evenement/club-de-lecture-de-lete/
LOCATION:Bibliothèque Micheline-Gagnon\, 11370\, Notre-Dame (3e étage) Montréal-Est (Québec) H1B\, Montréal-Est\, H1B 2W6\, Canada
CATEGORIES:Bibliothèque Micheline-Gagnon,Loisirs et culture
ATTACH;FMTTYPE=image/jpeg:https://ville.montreal-est.qc.ca/wp-content/uploads/2023/06/Club-TD-web.jpg
END:VEVENT
BEGIN:VEVENT
DTSTART;TZID=America/Toronto:20230713T190000
DTEND;TZID=America/Toronto:20230713T220000
DTSTAMP:20260422T162014
CREATED:20230616T232708Z
LAST-MODIFIED:20260403T190942Z
UID:12273-1689274800-1689285600@ville.montreal-est.qc.ca
SUMMARY:Juillet Show - Sam Krüger
DESCRIPTION:À la fois chanteur et compositeur\, Sam Krüger jouera ses chansons nostalgiques en duo. Après la sortie récente de son EP The songs I write in my bedroom\, il a hâte de vous présenter ses créations. \nRendez-vous le 13 juillet à 19 h\, à la rotonde du parc de l’Hôtel-de-Ville\, pour profiter de ce beau spectacle gratuit en plein air. \nUn conseil : arrivez tôt pour être aux premières loges et profiter des camions de cuisine de rue.\nPremier arrivé\, premier servi! Apportez votre chaise. \nPour connaître les autres artistes du Juillet SHOW\, notre festival de talents à savourer gratuitement et sans modération tout le mois de juillet\, cliquez ici.
URL:https://ville.montreal-est.qc.ca/evenement/juillet-show-sam-kruger/
LOCATION:Parc de l’Hôtel-de-Ville\, 11370 Rue Notre-Dame Est\, Montréal-Est\, Québec\, H1B 2W6\, Canada
CATEGORIES:Loisirs et culture
ATTACH;FMTTYPE=image/jpeg:https://ville.montreal-est.qc.ca/wp-content/uploads/2023/06/MTL_EST_media_E2023_1200x628_v3_-Sam-Kruger_indiv-copie-copie2.jpg
END:VEVENT
END:VCALENDAR