BEGIN:VCALENDAR
VERSION:2.0
PRODID:-//Ville de Montréal-Est - ECPv6.15.20//NONSGML v1.0//EN
CALSCALE:GREGORIAN
METHOD:PUBLISH
X-ORIGINAL-URL:https://ville.montreal-est.qc.ca
X-WR-CALDESC:Évènements pour Ville de Montréal-Est
REFRESH-INTERVAL;VALUE=DURATION:PT1H
X-Robots-Tag:noindex
X-PUBLISHED-TTL:PT1H
BEGIN:VTIMEZONE
TZID:America/Toronto
BEGIN:DAYLIGHT
TZOFFSETFROM:-0500
TZOFFSETTO:-0400
TZNAME:EDT
DTSTART:20230312T070000
END:DAYLIGHT
BEGIN:STANDARD
TZOFFSETFROM:-0400
TZOFFSETTO:-0500
TZNAME:EST
DTSTART:20231105T060000
END:STANDARD
BEGIN:DAYLIGHT
TZOFFSETFROM:-0500
TZOFFSETTO:-0400
TZNAME:EDT
DTSTART:20240310T070000
END:DAYLIGHT
BEGIN:STANDARD
TZOFFSETFROM:-0400
TZOFFSETTO:-0500
TZNAME:EST
DTSTART:20241103T060000
END:STANDARD
BEGIN:DAYLIGHT
TZOFFSETFROM:-0500
TZOFFSETTO:-0400
TZNAME:EDT
DTSTART:20250309T070000
END:DAYLIGHT
BEGIN:STANDARD
TZOFFSETFROM:-0400
TZOFFSETTO:-0500
TZNAME:EST
DTSTART:20251102T060000
END:STANDARD
END:VTIMEZONE
BEGIN:VEVENT
DTSTART;TZID=America/Toronto:20240127T100000
DTEND;TZID=America/Toronto:20240127T110000
DTSTAMP:20260420T210604
CREATED:20240111T193753Z
LAST-MODIFIED:20260403T200941Z
UID:15143-1706349600-1706353200@ville.montreal-est.qc.ca
SUMMARY:Les yogistoires 
DESCRIPTION:Yoga et histoires : une nouvelle activité pour les 2 à 6 ans! \nL’idée de cette combinaison originale et amusante : apprivoiser le corps et l’esprit des tout-petits et de leurs parents dans un cadre ludique.\nAu programme : musique\, histoires et postures de yoga simples et adaptées. \nHabillez-vous confortablement et apportez un tapis de yoga\, un tapis d’exercice ou une couverture épaisse si vous en possédez. \nImportant : l’inscription au 514 905-2145 est obligatoire.\nPour en savoir plus sur les autres activités gratuites de la bibliothèque\, cliquez ici.
URL:https://ville.montreal-est.qc.ca/evenement/les-yogistoires/2024-01-27/
LOCATION:Bibliothèque Micheline-Gagnon\, 11370\, Notre-Dame (3e étage) Montréal-Est (Québec) H1B\, Montréal-Est\, H1B 2W6\, Canada
CATEGORIES:Bibliothèque Micheline-Gagnon,Loisirs et culture
ATTACH;FMTTYPE=image/jpeg:https://ville.montreal-est.qc.ca/wp-content/uploads/2024/01/Yogistoires-web.jpg
END:VEVENT
BEGIN:VEVENT
DTSTART;TZID=America/Toronto:20240127T130000
DTEND;TZID=America/Toronto:20240127T160000
DTSTAMP:20260420T210604
CREATED:20240115T211611Z
LAST-MODIFIED:20260403T200942Z
UID:15205-1706360400-1706371200@ville.montreal-est.qc.ca
SUMMARY:Classique hivernale I 27 janvier
DESCRIPTION:La Classique hivernale de Montréal-Est de retour avec 3 événements à ne pas manquer\, cette année.\n\nLe samedi 27 janvier\, plusieurs activités gratuites vous seront offertes\, au parc de l’Hôtel-de-Ville :\n \n– Sculptures géantes de glace\n– Glissades sur tubes\, tapis et soucoupes\n– Démonstration en direct de sculpteur de glace professionnel\n– Jongleur de feu\n– Lancer de haches\n– Beignes d’Antan\n– Prix de présence\n\nÉvénement gratuit et ouvert à tous.\nVenez nombreux et ne manquez pas les autres activités de la Classique hivernale le 3 février et le 10 février!
URL:https://ville.montreal-est.qc.ca/evenement/classique-hivernale-du-27-janvier/
LOCATION:Parc de l’Hôtel-de-Ville\, 11370 Rue Notre-Dame Est\, Montréal-Est\, Québec\, H1B 2W6\, Canada
CATEGORIES:Loisirs et culture
ATTACH;FMTTYPE=image/jpeg:https://ville.montreal-est.qc.ca/wp-content/uploads/2024/01/Classique-27-janvier-web.jpg
END:VEVENT
END:VCALENDAR