BEGIN:VCALENDAR
VERSION:2.0
PRODID:-//Ville de Montréal-Est - ECPv6.15.20//NONSGML v1.0//EN
CALSCALE:GREGORIAN
METHOD:PUBLISH
X-WR-CALNAME:Ville de Montréal-Est
X-ORIGINAL-URL:https://ville.montreal-est.qc.ca
X-WR-CALDESC:Évènements pour Ville de Montréal-Est
REFRESH-INTERVAL;VALUE=DURATION:PT1H
X-Robots-Tag:noindex
X-PUBLISHED-TTL:PT1H
BEGIN:VTIMEZONE
TZID:America/Toronto
BEGIN:DAYLIGHT
TZOFFSETFROM:-0500
TZOFFSETTO:-0400
TZNAME:EDT
DTSTART:20230312T070000
END:DAYLIGHT
BEGIN:STANDARD
TZOFFSETFROM:-0400
TZOFFSETTO:-0500
TZNAME:EST
DTSTART:20231105T060000
END:STANDARD
BEGIN:DAYLIGHT
TZOFFSETFROM:-0500
TZOFFSETTO:-0400
TZNAME:EDT
DTSTART:20240310T070000
END:DAYLIGHT
BEGIN:STANDARD
TZOFFSETFROM:-0400
TZOFFSETTO:-0500
TZNAME:EST
DTSTART:20241103T060000
END:STANDARD
BEGIN:DAYLIGHT
TZOFFSETFROM:-0500
TZOFFSETTO:-0400
TZNAME:EDT
DTSTART:20250309T070000
END:DAYLIGHT
BEGIN:STANDARD
TZOFFSETFROM:-0400
TZOFFSETTO:-0500
TZNAME:EST
DTSTART:20251102T060000
END:STANDARD
END:VTIMEZONE
BEGIN:VEVENT
DTSTART;TZID=America/Toronto:20240320T133000
DTEND;TZID=America/Toronto:20240320T150000
DTSTAMP:20260421T003858
CREATED:20240201T202339Z
LAST-MODIFIED:20260403T200942Z
UID:15357-1710941400-1710946800@ville.montreal-est.qc.ca
SUMMARY:Biblimags
DESCRIPTION:Venez explorer la BibliMags\, une plateforme contenant plus de 8000 magazines et journaux locaux\, nationaux et internationaux. \nUn de ses gros avantages : tout le contenu reste accessible sur votre tablette\, votre cellulaire et votre ordinateur. \nInscription obligatoire au 514 905-2145 pour cette activité offerte aux adultes.
URL:https://ville.montreal-est.qc.ca/evenement/biblimags/
LOCATION:Bibliothèque Micheline-Gagnon\, 11370\, Notre-Dame (3e étage) Montréal-Est (Québec) H1B\, Montréal-Est\, H1B 2W6\, Canada
CATEGORIES:Bibliothèque Micheline-Gagnon,Loisirs et culture
ATTACH;FMTTYPE=image/png:https://ville.montreal-est.qc.ca/wp-content/uploads/2024/02/logo_biblimags.png
END:VEVENT
BEGIN:VEVENT
DTSTART;TZID=America/Toronto:20240320T190000
DTEND;TZID=America/Toronto:20240320T203000
DTSTAMP:20260421T003858
CREATED:20231221T161020Z
LAST-MODIFIED:20260403T200940Z
UID:14979-1710961200-1710966600@ville.montreal-est.qc.ca
SUMMARY:Séance du conseil
DESCRIPTION:Le conseil municipal de la Ville de Montréal-Est tiendra une séance ordinaire le mercredi 20 mars 2024 à 19 h. \nDiffusion en direct\nLien vers la séance en direct \nLien vers la séance – Rediffusion \nDocuments pour la séance\nOrdre du jour\nProjet de règlement PR24-07\nRèglement 76-2018-3\nRèglement 57-2016-2\nAnnexes A à H du règlement 57-2016-2\nAnnexe I \nPour communiquer une question à l’avance\n\nÉcrivez à servicescitoyens@montreal-est.ca\nOu laissez un message au 514 905-2000\, option 1.\n\nVous devez fournir votre nom\, vos coordonnées et mentionner si votre question s’adresse au conseil ou à un élu en particulier. \nVous avez jusqu’au 20 mars\, à 16 h\, pour faire parvenir vos questions\, qui seront lues et répondues durant la séance. \n  \n 
URL:https://ville.montreal-est.qc.ca/evenement/seance-du-conseil-3/
CATEGORIES:Vie démocratique
END:VEVENT
END:VCALENDAR