BEGIN:VCALENDAR
VERSION:2.0
PRODID:-//Ville de Montréal-Est - ECPv6.15.20//NONSGML v1.0//EN
CALSCALE:GREGORIAN
METHOD:PUBLISH
X-WR-CALNAME:Ville de Montréal-Est
X-ORIGINAL-URL:https://ville.montreal-est.qc.ca
X-WR-CALDESC:Évènements pour Ville de Montréal-Est
REFRESH-INTERVAL;VALUE=DURATION:PT1H
X-Robots-Tag:noindex
X-PUBLISHED-TTL:PT1H
BEGIN:VTIMEZONE
TZID:America/Toronto
BEGIN:DAYLIGHT
TZOFFSETFROM:-0500
TZOFFSETTO:-0400
TZNAME:EDT
DTSTART:20230312T070000
END:DAYLIGHT
BEGIN:STANDARD
TZOFFSETFROM:-0400
TZOFFSETTO:-0500
TZNAME:EST
DTSTART:20231105T060000
END:STANDARD
BEGIN:DAYLIGHT
TZOFFSETFROM:-0500
TZOFFSETTO:-0400
TZNAME:EDT
DTSTART:20240310T070000
END:DAYLIGHT
BEGIN:STANDARD
TZOFFSETFROM:-0400
TZOFFSETTO:-0500
TZNAME:EST
DTSTART:20241103T060000
END:STANDARD
BEGIN:DAYLIGHT
TZOFFSETFROM:-0500
TZOFFSETTO:-0400
TZNAME:EDT
DTSTART:20250309T070000
END:DAYLIGHT
BEGIN:STANDARD
TZOFFSETFROM:-0400
TZOFFSETTO:-0500
TZNAME:EST
DTSTART:20251102T060000
END:STANDARD
END:VTIMEZONE
BEGIN:VEVENT
DTSTART;TZID=America/Toronto:20240501T000000
DTEND;TZID=America/Toronto:20240531T235900
DTSTAMP:20260420T155558
CREATED:20240422T170355Z
LAST-MODIFIED:20260403T210933Z
UID:15917-1714521600-1717199940@ville.montreal-est.qc.ca
SUMMARY:Mai sans tonte à Montréal-Est
DESCRIPTION:Participation de la Ville au mouvement mondial de « Mai sans tonte » ou « Mai sans tondeuse ». Les superficies gazonnées appartenant à la Ville de Montréal-Est excluant les plateaux sportifs ne subiront aucune fauche durant ce mois.
URL:https://ville.montreal-est.qc.ca/evenement/mai-sans-tonte-a-montreal-est/
LOCATION:Ville de Montréal-Est\, Montréal-Est\, Québec\, Canada
CATEGORIES:Événement
ATTACH;FMTTYPE=image/jpeg:https://ville.montreal-est.qc.ca/wp-content/uploads/2024/04/20230510_140433_copie-scaled.jpg
ORGANIZER;CN="Ville de Montr%C3%A9al-Est":MAILTO:servicescitoyens@montreal-est.ca
END:VEVENT
BEGIN:VEVENT
DTSTART;TZID=America/Toronto:20240504T100000
DTEND;TZID=America/Toronto:20240504T110000
DTSTAMP:20260420T155558
CREATED:20240111T193753Z
LAST-MODIFIED:20260403T200944Z
UID:15614-1714816800-1714820400@ville.montreal-est.qc.ca
SUMMARY:Les yogistoires 
DESCRIPTION:Yoga et histoires : une nouvelle activité pour les 2 à 6 ans! \nL’idée de cette combinaison originale et amusante : apprivoiser le corps et l’esprit des tout-petits et de leurs parents dans un cadre ludique.\nAu programme : musique\, histoires et postures de yoga simples et adaptées. \nHabillez-vous confortablement et apportez un tapis de yoga\, un tapis d’exercice ou une couverture épaisse si vous en possédez. \nImportant : l’inscription au 514 905-2145 est obligatoire.\nPour en savoir plus sur les autres activités gratuites de la bibliothèque\, cliquez ici.
URL:https://ville.montreal-est.qc.ca/evenement/les-yogistoires/2024-05-04/
LOCATION:Bibliothèque Micheline-Gagnon\, 11370\, Notre-Dame (3e étage) Montréal-Est (Québec) H1B\, Montréal-Est\, H1B 2W6\, Canada
CATEGORIES:Bibliothèque Micheline-Gagnon,Loisirs et culture
ATTACH;FMTTYPE=image/jpeg:https://ville.montreal-est.qc.ca/wp-content/uploads/2024/01/Yogistoires-web.jpg
END:VEVENT
BEGIN:VEVENT
DTSTART;TZID=America/Toronto:20240504T133000
DTEND;TZID=America/Toronto:20240504T150000
DTSTAMP:20260420T155558
CREATED:20240201T203318Z
LAST-MODIFIED:20260403T200943Z
UID:15367-1714829400-1714834800@ville.montreal-est.qc.ca
SUMMARY:24 heures de science
DESCRIPTION:Le samedi 4 mai\, on fête la science! \nPour les 8 ans et plus\, ce sera l’occasion de jouer au détective scientifique en découvrant :\n– l’analyse d’empreintes digitales\n– la collecte et l’échantillonnage de cheveux\n– les séquences ADN. \nInscription requise au 514 905-2145 pour cet atelier offert aux jeunes de 8 à 12 ans.
URL:https://ville.montreal-est.qc.ca/evenement/le-24-heures-de-science/
LOCATION:Bibliothèque Micheline-Gagnon\, 11370\, Notre-Dame (3e étage) Montréal-Est (Québec) H1B\, Montréal-Est\, H1B 2W6\, Canada
CATEGORIES:Bibliothèque Micheline-Gagnon,Loisirs et culture
ATTACH;FMTTYPE=image/jpeg:https://ville.montreal-est.qc.ca/wp-content/uploads/2024/02/24-HEU1.jpe
END:VEVENT
END:VCALENDAR