BEGIN:VCALENDAR
VERSION:2.0
PRODID:-//Ville de Montréal-Est - ECPv6.15.20//NONSGML v1.0//EN
CALSCALE:GREGORIAN
METHOD:PUBLISH
X-ORIGINAL-URL:https://ville.montreal-est.qc.ca
X-WR-CALDESC:Évènements pour Ville de Montréal-Est
REFRESH-INTERVAL;VALUE=DURATION:PT1H
X-Robots-Tag:noindex
X-PUBLISHED-TTL:PT1H
BEGIN:VTIMEZONE
TZID:America/Toronto
BEGIN:DAYLIGHT
TZOFFSETFROM:-0500
TZOFFSETTO:-0400
TZNAME:EDT
DTSTART:20230312T070000
END:DAYLIGHT
BEGIN:STANDARD
TZOFFSETFROM:-0400
TZOFFSETTO:-0500
TZNAME:EST
DTSTART:20231105T060000
END:STANDARD
BEGIN:DAYLIGHT
TZOFFSETFROM:-0500
TZOFFSETTO:-0400
TZNAME:EDT
DTSTART:20240310T070000
END:DAYLIGHT
BEGIN:STANDARD
TZOFFSETFROM:-0400
TZOFFSETTO:-0500
TZNAME:EST
DTSTART:20241103T060000
END:STANDARD
BEGIN:DAYLIGHT
TZOFFSETFROM:-0500
TZOFFSETTO:-0400
TZNAME:EDT
DTSTART:20250309T070000
END:DAYLIGHT
BEGIN:STANDARD
TZOFFSETFROM:-0400
TZOFFSETTO:-0500
TZNAME:EST
DTSTART:20251102T060000
END:STANDARD
END:VTIMEZONE
BEGIN:VEVENT
DTSTART;TZID=America/Toronto:20240501T000000
DTEND;TZID=America/Toronto:20240531T235900
DTSTAMP:20260420T173938
CREATED:20240422T170355Z
LAST-MODIFIED:20260403T210933Z
UID:15917-1714521600-1717199940@ville.montreal-est.qc.ca
SUMMARY:Mai sans tonte à Montréal-Est
DESCRIPTION:Participation de la Ville au mouvement mondial de « Mai sans tonte » ou « Mai sans tondeuse ». Les superficies gazonnées appartenant à la Ville de Montréal-Est excluant les plateaux sportifs ne subiront aucune fauche durant ce mois.
URL:https://ville.montreal-est.qc.ca/evenement/mai-sans-tonte-a-montreal-est/
LOCATION:Ville de Montréal-Est\, Montréal-Est\, Québec\, Canada
CATEGORIES:Événement
ATTACH;FMTTYPE=image/jpeg:https://ville.montreal-est.qc.ca/wp-content/uploads/2024/04/20230510_140433_copie-scaled.jpg
ORGANIZER;CN="Ville de Montr%C3%A9al-Est":MAILTO:servicescitoyens@montreal-est.ca
END:VEVENT
BEGIN:VEVENT
DTSTART;TZID=America/Toronto:20240521T153000
DTEND;TZID=America/Toronto:20240521T170000
DTSTAMP:20260420T173938
CREATED:20240111T164149Z
LAST-MODIFIED:20260403T200943Z
UID:15600-1716305400-1716310800@ville.montreal-est.qc.ca
SUMMARY:Jeux vidéo à la biblio
DESCRIPTION:Rendez-vous à la bibliothèque Micheline-Gagnon pour jouer à des jeux sur la console Switch\, après l’école. \nPour en profiter avec tes amis ou en solo\, rendez-vous de 15 h 30 à 17 h les mardis :\n– 30 janvier\n– 27 février\n– 26 mars\n– 23 avril\n– 21 mai. \nImportant : l’inscription au 514 905-2145 est obligatoire. \nPour en savoir plus sur les autres activités gratuites de la bibliothèque\, cliquez ici.
URL:https://ville.montreal-est.qc.ca/evenement/jeux-video-a-la-biblio-2024/2024-05-21/
LOCATION:Bibliothèque Micheline-Gagnon\, 11370\, Notre-Dame (3e étage) Montréal-Est (Québec) H1B\, Montréal-Est\, H1B 2W6\, Canada
CATEGORIES:Bibliothèque Micheline-Gagnon,Loisirs et culture
ATTACH;FMTTYPE=image/jpeg:https://ville.montreal-est.qc.ca/wp-content/uploads/2023/09/Switch-web.jpg
END:VEVENT
BEGIN:VEVENT
DTSTART;TZID=America/Toronto:20240522T170000
DTEND;TZID=America/Toronto:20240522T180000
DTSTAMP:20260420T173938
CREATED:20240522T181048Z
LAST-MODIFIED:20260403T210933Z
UID:16152-1716397200-1716400800@ville.montreal-est.qc.ca
SUMMARY:Séance extraordinaire I 22 mai
DESCRIPTION:Le conseil municipal de la Ville de Montréal-Est tiendra une séance extraordinaire le mercredi 22 mai 2024 à 17 h. \nDocuments pour la séance\nOrdre du jour\nRèglement 114-2024  \n  \nPour communiquer une question à l’avance\n\nÉcrivez à servicescitoyens@montreal-est.ca\nOu laissez un message au 514 905-2000\, option 1.\n\nVous devez fournir votre nom\, vos coordonnées et mentionner si votre question s’adresse au conseil ou à un élu en particulier. \nVous avez jusqu’au 22 mai 2024\, à 14 h\, pour faire parvenir vos questions\, qui seront lues et répondues durant la séance. \n  \n 
URL:https://ville.montreal-est.qc.ca/evenement/seance-extraordinaire-i-22-mai/
CATEGORIES:Vie démocratique
END:VEVENT
END:VCALENDAR