BEGIN:VCALENDAR
VERSION:2.0
PRODID:-//Ville de Montréal-Est - ECPv6.15.20//NONSGML v1.0//EN
CALSCALE:GREGORIAN
METHOD:PUBLISH
X-WR-CALNAME:Ville de Montréal-Est
X-ORIGINAL-URL:https://ville.montreal-est.qc.ca
X-WR-CALDESC:Évènements pour Ville de Montréal-Est
REFRESH-INTERVAL;VALUE=DURATION:PT1H
X-Robots-Tag:noindex
X-PUBLISHED-TTL:PT1H
BEGIN:VTIMEZONE
TZID:America/Toronto
BEGIN:DAYLIGHT
TZOFFSETFROM:-0500
TZOFFSETTO:-0400
TZNAME:EDT
DTSTART:20230312T070000
END:DAYLIGHT
BEGIN:STANDARD
TZOFFSETFROM:-0400
TZOFFSETTO:-0500
TZNAME:EST
DTSTART:20231105T060000
END:STANDARD
BEGIN:DAYLIGHT
TZOFFSETFROM:-0500
TZOFFSETTO:-0400
TZNAME:EDT
DTSTART:20240310T070000
END:DAYLIGHT
BEGIN:STANDARD
TZOFFSETFROM:-0400
TZOFFSETTO:-0500
TZNAME:EST
DTSTART:20241103T060000
END:STANDARD
BEGIN:DAYLIGHT
TZOFFSETFROM:-0500
TZOFFSETTO:-0400
TZNAME:EDT
DTSTART:20250309T070000
END:DAYLIGHT
BEGIN:STANDARD
TZOFFSETFROM:-0400
TZOFFSETTO:-0500
TZNAME:EST
DTSTART:20251102T060000
END:STANDARD
END:VTIMEZONE
BEGIN:VEVENT
DTSTART;TZID=America/Toronto:20240501T000000
DTEND;TZID=America/Toronto:20240531T235900
DTSTAMP:20260420T155555
CREATED:20240422T170355Z
LAST-MODIFIED:20260403T210933Z
UID:15917-1714521600-1717199940@ville.montreal-est.qc.ca
SUMMARY:Mai sans tonte à Montréal-Est
DESCRIPTION:Participation de la Ville au mouvement mondial de « Mai sans tonte » ou « Mai sans tondeuse ». Les superficies gazonnées appartenant à la Ville de Montréal-Est excluant les plateaux sportifs ne subiront aucune fauche durant ce mois.
URL:https://ville.montreal-est.qc.ca/evenement/mai-sans-tonte-a-montreal-est/
LOCATION:Ville de Montréal-Est\, Montréal-Est\, Québec\, Canada
CATEGORIES:Événement
ATTACH;FMTTYPE=image/jpeg:https://ville.montreal-est.qc.ca/wp-content/uploads/2024/04/20230510_140433_copie-scaled.jpg
ORGANIZER;CN="Ville de Montr%C3%A9al-Est":MAILTO:servicescitoyens@montreal-est.ca
END:VEVENT
BEGIN:VEVENT
DTSTART;TZID=America/Toronto:20240529T133000
DTEND;TZID=America/Toronto:20240529T153000
DTSTAMP:20260420T155555
CREATED:20240430T151905Z
LAST-MODIFIED:20260403T210933Z
UID:15961-1716989400-1716996600@ville.montreal-est.qc.ca
SUMMARY:Atelier d'écriture avec Suzanne Myre
DESCRIPTION:À la demande générale\, l’autrice Suzanne Myre est de retour pour animer deux ateliers d’écriture\, le 29 mai et le 5 juin. \nProfitez-en pour vous amuser et laisser aller votre créativité littéraire insoupçonnée ! \nAtelier ouvert aux adultes – Inscription obligatoire au 514 905-2145.
URL:https://ville.montreal-est.qc.ca/evenement/atelier-decriture-avec-suzanne-myre-2/2024-05-29/
LOCATION:Bibliothèque Micheline-Gagnon\, 11370\, Notre-Dame (3e étage) Montréal-Est (Québec) H1B\, Montréal-Est\, H1B 2W6\, Canada
CATEGORIES:Bibliothèque Micheline-Gagnon,Loisirs et culture
ATTACH;FMTTYPE=image/jpeg:https://ville.montreal-est.qc.ca/wp-content/uploads/2023/03/Ecriture.jpg
END:VEVENT
BEGIN:VEVENT
DTSTART;TZID=America/Toronto:20240529T133000
DTEND;TZID=America/Toronto:20240529T153000
DTSTAMP:20260420T155555
CREATED:20240430T201201Z
LAST-MODIFIED:20240430T205745Z
UID:15965-1716989400-1716996600@ville.montreal-est.qc.ca
SUMMARY:Atelier d'écriture avec Suzanne Myre
DESCRIPTION:À la demande générale\, l’autrice Suzanne Myre est de retour pour animer deux ateliers d’écriture\, le 29 mai et le 5 juin. \nProfitez-en pour vous amuser et laisser aller votre créativité littéraire insoupçonnée ! \nAtelier ouvert aux adultes – Inscription obligatoire au 514 905-2145.
URL:https://ville.montreal-est.qc.ca/evenement/atelier-decriture-avec-suzanne-myre-3/2024-05-29/
LOCATION:Bibliothèque Micheline-Gagnon\, 11370\, Notre-Dame (3e étage) Montréal-Est (Québec) H1B\, Montréal-Est\, H1B 2W6\, Canada
ATTACH;FMTTYPE=image/jpeg:https://ville.montreal-est.qc.ca/wp-content/uploads/2023/03/Ecriture.jpg
END:VEVENT
BEGIN:VEVENT
DTSTART;TZID=America/Toronto:20240601T080000
DTEND;TZID=America/Toronto:20240602T200000
DTSTAMP:20260420T155555
CREATED:20240530T122850Z
LAST-MODIFIED:20260403T210933Z
UID:16201-1717228800-1717358400@ville.montreal-est.qc.ca
SUMMARY:Ventes de garage
DESCRIPTION:Rendez-vous le 1er et le 2 juin 2024\, entre 8 h et 20 h\, pour organiser une vente de garage\, si vous résidez à Montréal-Est. \nSi vos tiroirs débordent d’articles inutilisés\, vendez-les : \n\nSur votre terrain\, sans empiéter sur le trottoir;\nSi les produits proposés sont sécuritaires;\nEn annonçant la vente sur votre terrain (installez des affiches la veille de la vente\, retirez-les dès la fin).\n\nPour plus de détails\, cliquez ici.
URL:https://ville.montreal-est.qc.ca/evenement/ventes-de-garage/
LOCATION:Ville de Montréal-Est\, Montréal-Est\, Québec\, Canada
CATEGORIES:Loisirs et culture
ATTACH;FMTTYPE=image/jpeg:https://ville.montreal-est.qc.ca/wp-content/uploads/2023/05/Ventes-de-garage-web.jpg
END:VEVENT
END:VCALENDAR