BEGIN:VCALENDAR
VERSION:2.0
PRODID:-//Ville de Montréal-Est - ECPv6.15.20//NONSGML v1.0//EN
CALSCALE:GREGORIAN
METHOD:PUBLISH
X-ORIGINAL-URL:https://ville.montreal-est.qc.ca
X-WR-CALDESC:Évènements pour Ville de Montréal-Est
REFRESH-INTERVAL;VALUE=DURATION:PT1H
X-Robots-Tag:noindex
X-PUBLISHED-TTL:PT1H
BEGIN:VTIMEZONE
TZID:America/Toronto
BEGIN:DAYLIGHT
TZOFFSETFROM:-0500
TZOFFSETTO:-0400
TZNAME:EDT
DTSTART:20230312T070000
END:DAYLIGHT
BEGIN:STANDARD
TZOFFSETFROM:-0400
TZOFFSETTO:-0500
TZNAME:EST
DTSTART:20231105T060000
END:STANDARD
BEGIN:DAYLIGHT
TZOFFSETFROM:-0500
TZOFFSETTO:-0400
TZNAME:EDT
DTSTART:20240310T070000
END:DAYLIGHT
BEGIN:STANDARD
TZOFFSETFROM:-0400
TZOFFSETTO:-0500
TZNAME:EST
DTSTART:20241103T060000
END:STANDARD
BEGIN:DAYLIGHT
TZOFFSETFROM:-0500
TZOFFSETTO:-0400
TZNAME:EDT
DTSTART:20250309T070000
END:DAYLIGHT
BEGIN:STANDARD
TZOFFSETFROM:-0400
TZOFFSETTO:-0500
TZNAME:EST
DTSTART:20251102T060000
END:STANDARD
END:VTIMEZONE
BEGIN:VEVENT
DTSTART;TZID=America/Toronto:20240701T130000
DTEND;TZID=America/Toronto:20240701T170000
DTSTAMP:20260420T140640
CREATED:20240625T183812Z
LAST-MODIFIED:20260403T210934Z
UID:16409-1719838800-1719853200@ville.montreal-est.qc.ca
SUMMARY:Fête du Canada
DESCRIPTION:Venez célébrer la fête du Canada avec nous le 1er juillet de 13 h à 17 h. \nOn vous y attend dès 13 h pour la cérémonie de lever du drapeau avec les membres de la Légion canadienne. \nDe nombreuses activités seront proposées tout l’après-midi (entre 13 h – 17 h) : \n\nAtelier de « skateboard » (sur inscription : cliquez ici )\nAtelier de pêche ( à info@academiedepeche.com)\nAtelier autochtone – Fabrication de capteurs de rêves\nJeux géants\n\nCamion de cuisine de rue La Crèmerie sera sur place et offrira : \n\nBarbotine\nCornet\nSac de maïs soufflé\nSandwiche à la crème glacée\nBarbe à papa\nSac de bonbons\n\n     Une gratuité par participant.  \n  \nC’est donc un rendez-vous à la place Roméo-Dallaire (derrière l’hôtel de ville)! \nImportant : consultez les règles d’accès au site. \n 
URL:https://ville.montreal-est.qc.ca/evenement/fete-du-canada-3/
CATEGORIES:Loisirs et culture
ATTACH;FMTTYPE=image/jpeg:https://ville.montreal-est.qc.ca/wp-content/uploads/2024/06/FeteCanada2024.jpg
END:VEVENT
BEGIN:VEVENT
DTSTART;TZID=America/Toronto:20240703T160000
DTEND;TZID=America/Toronto:20240703T190000
DTSTAMP:20260420T140640
CREATED:20240603T135758Z
LAST-MODIFIED:20260403T210933Z
UID:16224-1720022400-1720033200@ville.montreal-est.qc.ca
SUMMARY:Initiation gratuite au baseball
DESCRIPTION:Rendez-vous au terrain de balle du Centre récréatif Édouard-Rivet pour initier vos enfants de 5 à 11 ans au baseball\, cet été! \n\n\nSeules conditions : être inscrit et venir accompagné d’un adulte; être en tenue sportive et apporter un gant de baseball si l’enfant en a.\n\n\n\nPour inscrire votre fils ou votre fille\, rendez-vous du 3 au 21 juin 2024 : \n\nEn ligne en cliquant ici\nOu en personne au Centre récréatif Édouard-Rivet (CRÉR)\, situé au 11111 rue Notre-Dame.\n\nLes groupes seront mixtes et les équipements fournis aux jeunes. \nPlaces limitées. La session est prolongée au 14 août. Pour plus de détails\, cliquez ici ou composez le 514 905-2105.
URL:https://ville.montreal-est.qc.ca/evenement/initiation-au-baseball-5-11-ans/2024-07-03/
ATTACH;FMTTYPE=image/jpeg:https://ville.montreal-est.qc.ca/wp-content/uploads/2022/06/Visuel_web_1200x628_baseball.jpg
END:VEVENT
BEGIN:VEVENT
DTSTART;TZID=America/Toronto:20240703T193000
DTEND;TZID=America/Toronto:20240703T203000
DTSTAMP:20260420T140640
CREATED:20240627T185753Z
LAST-MODIFIED:20260403T210937Z
UID:16706-1720035000-1720038600@ville.montreal-est.qc.ca
SUMMARY:Boot camp
DESCRIPTION:Ce circuit cardio-dynamique offre des exercices musculaires fonctionnels avec l’utilisation de matériel (poids\, échelle d’agilité\, blocs\, etc.). Tous les muscles de votre corps\, votre agilité\, votre équilibre ainsi que votre endurance cardiorespiratoire seront mis à l’épreuve. Une activité variée et divertissante! \nActivité gratuite offerte les mercredis à 19 h 30\, au parc de l’Hôtel-de-Ville (aucune inscription requise). \nIndispensables à apporter : tenue sportive\, tapis et bouteille d’eau. \nActivité organisée en collaboration avec le centre récréatif Édouard-Rivet dans le cadre des rendez-vous sportifs de l’été.
URL:https://ville.montreal-est.qc.ca/evenement/les-rendez-vous-sportifs-boot-camp/2024-07-03/
LOCATION:Parc de l’Hôtel-de-Ville\, 11370 Rue Notre-Dame Est\, Montréal-Est\, Québec\, H1B 2W6\, Canada
CATEGORIES:Loisirs et culture
ATTACH;FMTTYPE=image/jpeg:https://ville.montreal-est.qc.ca/wp-content/uploads/2024/06/Boootcamp-web.jpg
END:VEVENT
BEGIN:VEVENT
DTSTART;TZID=America/Toronto:20240705T200000
DTEND;TZID=America/Toronto:20240705T220000
DTSTAMP:20260420T140640
CREATED:20240625T192138Z
LAST-MODIFIED:20260403T210934Z
UID:16413-1720209600-1720216800@ville.montreal-est.qc.ca
SUMMARY:Le festival Juillet SHOW accueille Laurence Jalbert
DESCRIPTION:Pour l’ouverture du festival Juillet SHOW\, rendez-vous avec l’incontournable auteure-compositrice-interprète Laurence Jalbert. Cette dernière nous offrira ses plus belles chansons sur scène. \nPréparez vous à être conquis le vendredi 5 juillet à 20 h\, au parc de l’Hôtel-de-Ville \nUn spectacle gratuit en plein air offert à tous. \nArrivez tôt pour être aux premières loges et profiter de la présence du camion de rue pour délecter un délicieux repas. \nConseils pratiques :  \n\nApportez vos chaises pliables pour profiter confortablement des spectacles gratuits en plein air!\nSi les conditions météorologiques ne sont pas favorables\, apportez un imperméable plutôt qu’un parapluie afin de permettre à tous de bénéficier d’une belle expérience et vue sur les spectacles.\n\nPour connaître la programmation complète du Juillet SHOW\, le festival de talents à savourer tout au long du mois de juillet\, cliquez ici.
URL:https://ville.montreal-est.qc.ca/evenement/le-festival-juillet-show-accueille-laurence-jalbert/
LOCATION:Parc de l’Hôtel-de-Ville\, 11370 Rue Notre-Dame Est\, Montréal-Est\, Québec\, H1B 2W6\, Canada
CATEGORIES:Loisirs et culture
ATTACH;FMTTYPE=image/jpeg:https://ville.montreal-est.qc.ca/wp-content/uploads/2024/06/LaurenceJalbert2024.jpg
END:VEVENT
END:VCALENDAR