BEGIN:VCALENDAR
VERSION:2.0
PRODID:-//Ville de Montréal-Est - ECPv6.15.20//NONSGML v1.0//EN
CALSCALE:GREGORIAN
METHOD:PUBLISH
X-ORIGINAL-URL:https://ville.montreal-est.qc.ca
X-WR-CALDESC:Évènements pour Ville de Montréal-Est
REFRESH-INTERVAL;VALUE=DURATION:PT1H
X-Robots-Tag:noindex
X-PUBLISHED-TTL:PT1H
BEGIN:VTIMEZONE
TZID:America/Toronto
BEGIN:DAYLIGHT
TZOFFSETFROM:-0500
TZOFFSETTO:-0400
TZNAME:EDT
DTSTART:20230312T070000
END:DAYLIGHT
BEGIN:STANDARD
TZOFFSETFROM:-0400
TZOFFSETTO:-0500
TZNAME:EST
DTSTART:20231105T060000
END:STANDARD
BEGIN:DAYLIGHT
TZOFFSETFROM:-0500
TZOFFSETTO:-0400
TZNAME:EDT
DTSTART:20240310T070000
END:DAYLIGHT
BEGIN:STANDARD
TZOFFSETFROM:-0400
TZOFFSETTO:-0500
TZNAME:EST
DTSTART:20241103T060000
END:STANDARD
BEGIN:DAYLIGHT
TZOFFSETFROM:-0500
TZOFFSETTO:-0400
TZNAME:EDT
DTSTART:20250309T070000
END:DAYLIGHT
BEGIN:STANDARD
TZOFFSETFROM:-0400
TZOFFSETTO:-0500
TZNAME:EST
DTSTART:20251102T060000
END:STANDARD
END:VTIMEZONE
BEGIN:VEVENT
DTSTART;TZID=America/Toronto:20241202T170000
DTEND;TZID=America/Toronto:20241202T180000
DTSTAMP:20260421T055215
CREATED:20241202T170739Z
LAST-MODIFIED:20260403T220941Z
UID:18599-1733158800-1733162400@ville.montreal-est.qc.ca
SUMMARY:Séance extraordinaire - 2 décembre
DESCRIPTION:Le conseil municipal de la Ville de Montréal-Est tiendra une séance extraordinaire le lundi 2 décembre 2024 à 17 h. \n  \n  \nDocuments pour la séance\nOrdre du jour\nProjet de règlement PR24-38 \nPour communiquer une question à l’avance\n\nÉcrivez à servicescitoyens@montreal-est.ca\nOu laissez un message au 514 905-2000\, option 1.\n\nVous devez fournir votre nom\, vos coordonnées et mentionner si votre question s’adresse au conseil ou à un élu en particulier. \nVous avez jusqu’au 2 décembre\, à 14 h\, pour faire parvenir vos questions\, qui seront lues et répondues durant la séance.
URL:https://ville.montreal-est.qc.ca/evenement/seance-extraordinaire-2dec/
ORGANIZER;CN="Ville de Montr%C3%A9al-Est":MAILTO:servicescitoyens@montreal-est.ca
END:VEVENT
BEGIN:VEVENT
DTSTART;TZID=America/Toronto:20241205T060000
DTEND;TZID=America/Toronto:20241205T090000
DTSTAMP:20260421T055215
CREATED:20241115T151847Z
LAST-MODIFIED:20260403T220940Z
UID:18293-1733378400-1733389200@ville.montreal-est.qc.ca
SUMMARY:Collecte de rue - Guignolée 2024
DESCRIPTION:Rendez-vous le 5 décembre entre 6 h et 9 h\, à l’intersection de Notre-Dame et Broadway\, afin de contribuer à la guignolée 2024 de Montréal-Est–Pointe-aux-Trembles. \nMerci de donner généreusement car la demande d’aide alimentaire ne cesse de croître depuis la pandémie et les hausses de prix. \n–  Pour donner des denrées non périssables\, rendez-vous dans les locaux d’Action Secours Vie d’Espoir\, l’organisme qui collecte ces dons au 35\, avenue Marien. \n–  Pour faire un don en ligne\, cliquez ici  \nDeux paires de billets pour un match des Canadiens de Montréal seront tirés au hasard parmi les participants qui feront un don en ligne (min.20 $).
URL:https://ville.montreal-est.qc.ca/evenement/collecte-de-rue-guignolee-2024/
LOCATION:Intersection – Rue Notre-Dame et Broadway
ATTACH;FMTTYPE=image/png:https://ville.montreal-est.qc.ca/wp-content/uploads/2024/11/guignolee.png
END:VEVENT
END:VCALENDAR