BEGIN:VCALENDAR
VERSION:2.0
PRODID:-//Ville de Montréal-Est - ECPv6.15.20//NONSGML v1.0//EN
CALSCALE:GREGORIAN
METHOD:PUBLISH
X-WR-CALNAME:Ville de Montréal-Est
X-ORIGINAL-URL:https://ville.montreal-est.qc.ca
X-WR-CALDESC:Évènements pour Ville de Montréal-Est
REFRESH-INTERVAL;VALUE=DURATION:PT1H
X-Robots-Tag:noindex
X-PUBLISHED-TTL:PT1H
BEGIN:VTIMEZONE
TZID:America/Toronto
BEGIN:DAYLIGHT
TZOFFSETFROM:-0500
TZOFFSETTO:-0400
TZNAME:EDT
DTSTART:20250309T070000
END:DAYLIGHT
BEGIN:STANDARD
TZOFFSETFROM:-0400
TZOFFSETTO:-0500
TZNAME:EST
DTSTART:20251102T060000
END:STANDARD
BEGIN:DAYLIGHT
TZOFFSETFROM:-0500
TZOFFSETTO:-0400
TZNAME:EDT
DTSTART:20260308T070000
END:DAYLIGHT
BEGIN:STANDARD
TZOFFSETFROM:-0400
TZOFFSETTO:-0500
TZNAME:EST
DTSTART:20261101T060000
END:STANDARD
BEGIN:DAYLIGHT
TZOFFSETFROM:-0500
TZOFFSETTO:-0400
TZNAME:EDT
DTSTART:20270314T070000
END:DAYLIGHT
BEGIN:STANDARD
TZOFFSETFROM:-0400
TZOFFSETTO:-0500
TZNAME:EST
DTSTART:20271107T060000
END:STANDARD
END:VTIMEZONE
BEGIN:VEVENT
DTSTART;TZID=America/Toronto:20260326T170000
DTEND;TZID=America/Toronto:20260326T183000
DTSTAMP:20260420T073435
CREATED:20260416T182451Z
LAST-MODIFIED:20260416T182451Z
UID:22877-1774544400-1774549800@ville.montreal-est.qc.ca
SUMMARY:Club de lecture : c'est jeudi\, on lit!
DESCRIPTION:𝑨𝒅𝒖𝒍𝒕𝒆𝒔 \nParticipez à des rencontres littéraires et découvrez des auteurs(trices) de différents coins du monde. \n  \nRendez-vous les jeudis de 17 h à 18 h 30 : \n\n26 février : Mois de l’histoire des Noirs – Chronique de la dérive douce de Dany Laferrière\n26 mars : Journée internationale des droits de la femme – L’inventaire des rêves de Chimamanda Ngozie Adichie\n23 avril : Littérature du Rwanda – Jacaranda de Gaël Faye\n28 mai : Littérature de l’Iran – Persepolis de Marjane Satrapi\n\n  \nUn atelier ludique sera proposé aux enfants de 6-12 ans qui accompagneront leurs parents. \n  \nInscription obligatoire au 514 905-2145. \nPour découvrir toutes les activités de la bibliothèque\, cliquez ici. \n 
URL:https://ville.montreal-est.qc.ca/evenement/club-lecture-adultes-hp26/2026-03-26/
LOCATION:Bibliothèque Micheline-Gagnon\, 11370\, Notre-Dame (3e étage) Montréal-Est (Québec) H1B\, Montréal-Est\, H1B 2W6\, Canada
CATEGORIES:Bibliothèque Micheline-Gagnon
ATTACH;FMTTYPE=image/png:https://ville.montreal-est.qc.ca/wp-content/uploads/2024/07/club_lecture1920.png
END:VEVENT
BEGIN:VEVENT
DTSTART;TZID=America/Toronto:20260327T153000
DTEND;TZID=America/Toronto:20260327T170000
DTSTAMP:20260420T073435
CREATED:20260416T182441Z
LAST-MODIFIED:20260416T182441Z
UID:22856-1774625400-1774630800@ville.montreal-est.qc.ca
SUMMARY:Vendredis futés
DESCRIPTION:𝑨𝒑𝒓𝒆̀𝒔 𝒍’𝒆́𝒄𝒐𝒍𝒆 – 7 𝒂̀ 12 𝒂𝒏𝒔 \nViens manipuler\, observer et t’émerveiller avec des expériences scientifiques étonnantes! \n  \nRendez-vous les vendredis de 15 h 30 à 17 h : \n23 janvier | 20 février | 27 mars | 24 avril | 29 mai \n  \nInscription obligatoire au 514 905-2145. \nPour découvrir toutes les activités de la bibliothèque\, cliquez ici. \n 
URL:https://ville.montreal-est.qc.ca/evenement/vendredi-science/2026-03-27/
LOCATION:Bibliothèque Micheline-Gagnon\, 11370\, Notre-Dame (3e étage) Montréal-Est (Québec) H1B\, Montréal-Est\, H1B 2W6\, Canada
CATEGORIES:Bibliothèque Micheline-Gagnon
ATTACH;FMTTYPE=image/png:https://ville.montreal-est.qc.ca/wp-content/uploads/2025/01/vendredi-science.png
END:VEVENT
BEGIN:VEVENT
DTSTART;TZID=America/Toronto:20260328T100000
DTEND;TZID=America/Toronto:20260328T110000
DTSTAMP:20260420T073435
CREATED:20260416T182453Z
LAST-MODIFIED:20260416T182454Z
UID:22930-1774692000-1774695600@ville.montreal-est.qc.ca
SUMMARY:Éveil musical avec Laura Oustiti
DESCRIPTION:𝑳𝒆𝒔 𝒔𝒂𝒎𝒆𝒅𝒊𝒔 𝒅𝒆𝒔 𝒕𝒐𝒖𝒕-𝒑𝒆𝒕𝒊𝒕𝒔 \nVenez chanter\, bouger et découvrir des instruments multiculturels d’ici et d’ailleurs! \n  \nRendez-vous les samedis à 10 h (1 à 6 ans | parent-enfant) : \n24 janvier | 28 mars | 30 mai \n  \nInscription obligatoire au 514 905-2145. \nPour découvrir toutes les activités de la bibliothèque\, cliquez ici. \n 
URL:https://ville.montreal-est.qc.ca/evenement/eveil-musical/2026-03-28/
LOCATION:Bibliothèque Micheline-Gagnon\, 11370\, Notre-Dame (3e étage) Montréal-Est (Québec) H1B\, Montréal-Est\, H1B 2W6\, Canada
CATEGORIES:Bibliothèque Micheline-Gagnon
ATTACH;FMTTYPE=image/png:https://ville.montreal-est.qc.ca/wp-content/uploads/2025/11/eveil-musical1920.png
END:VEVENT
BEGIN:VEVENT
DTSTART;TZID=America/Toronto:20260328T133000
DTEND;TZID=America/Toronto:20260328T150000
DTSTAMP:20260420T073435
CREATED:20260416T182448Z
LAST-MODIFIED:20260416T182448Z
UID:23010-1774704600-1774710000@ville.montreal-est.qc.ca
SUMMARY:Éducazoo à la biblio
DESCRIPTION:𝑳𝒆𝒔 𝒔𝒂𝒎𝒆𝒅𝒊𝒔 𝒅𝒆́𝒄𝒐𝒖𝒗𝒆𝒓𝒕𝒆𝒔 \nL’équipe d’Éducazoo te fera découvrir des petits reptiles et mammifères\, tels que des poussins et canetons adorables! \n  \nRendez-vous le samedi 28 mars\, de 13 h 30 à 15 h (7 à 12 ans) \n  \nInscription obligatoire au 514 905-2145. \nPour découvrir toutes les activités de la bibliothèque\, cliquez ici.
URL:https://ville.montreal-est.qc.ca/evenement/educazoo-biblio/
LOCATION:Bibliothèque Micheline-Gagnon\, 11370\, Notre-Dame (3e étage) Montréal-Est (Québec) H1B\, Montréal-Est\, H1B 2W6\, Canada
CATEGORIES:Bibliothèque Micheline-Gagnon
ATTACH;FMTTYPE=image/png:https://ville.montreal-est.qc.ca/wp-content/uploads/2026/01/educazoo-1920.png
END:VEVENT
END:VCALENDAR